BEGIN:VCALENDAR
VERSION:2.0
PRODID:-//digitallernen - ECPv6.10.1.1//NONSGML v1.0//EN
CALSCALE:GREGORIAN
METHOD:PUBLISH
X-WR-CALNAME:FHNW - digitallernen.ch - Veranstaltungen
X-ORIGINAL-URL:https://test.digitallernen.ch
X-WR-CALDESC:Veranstaltungen im digitallernen
REFRESH-INTERVAL;VALUE=DURATION:PT1H
X-Robots-Tag:noindex
X-PUBLISHED-TTL:PT1H
BEGIN:VTIMEZONE
TZID:Europe/Zurich
BEGIN:DAYLIGHT
TZOFFSETFROM:+0100
TZOFFSETTO:+0200
TZNAME:CEST
DTSTART:20230326T010000
END:DAYLIGHT
BEGIN:STANDARD
TZOFFSETFROM:+0200
TZOFFSETTO:+0100
TZNAME:CET
DTSTART:20231029T010000
END:STANDARD
END:VTIMEZONE
BEGIN:VEVENT
DTSTART;TZID=Europe/Zurich:20230202T100000
DTEND;TZID=Europe/Zurich:20230202T110000
DTSTAMP:20260421T133407
CREATED:20221214T091149Z
LAST-MODIFIED:20221214T091149Z
UID:9622-1675332000-1675335600@test.digitallernen.ch
SUMMARY:Sprechstunde für Hochschullehrende - online
DESCRIPTION:Online: Link zur Zoom-Sitzung
URL:https://test.digitallernen.ch/termin/20230202-sprechstunde-hochschullehrende-online/
LOCATION:Online via Zoom
CATEGORIES:Sprechstunde Hochschulehrende
ATTACH;FMTTYPE=image/png:https://test.digitallernen.ch/wp-content/uploads/BeratungSprechstunde.png
ORGANIZER;CN="Fachstelle f%C3%BCr digitales Lehren und Lernen FDL":MAILTO:elearning.ph@fhnw.ch
END:VEVENT
BEGIN:VEVENT
DTSTART;TZID=Europe/Zurich:20230206T121500
DTEND;TZID=Europe/Zurich:20230206T124500
DTSTAMP:20260421T133407
CREATED:20221214T091557Z
LAST-MODIFIED:20221216T100041Z
UID:9628-1675685700-1675687500@test.digitallernen.ch
SUMMARY:Februarspecial: Sprechstunde für Hochschullehrende - online
DESCRIPTION:Online: Link zur Zoom-Sitzung
URL:https://test.digitallernen.ch/termin/20230206-sprechstunde-hochschullehrende-online/
LOCATION:Online via Zoom
CATEGORIES:Sprechstunde Hochschulehrende
ATTACH;FMTTYPE=image/png:https://test.digitallernen.ch/wp-content/uploads/BeratungSprechstunde.png
ORGANIZER;CN="Fachstelle f%C3%BCr digitales Lehren und Lernen FDL":MAILTO:elearning.ph@fhnw.ch
END:VEVENT
BEGIN:VEVENT
DTSTART;TZID=Europe/Zurich:20230207T121500
DTEND;TZID=Europe/Zurich:20230207T124500
DTSTAMP:20260421T133407
CREATED:20221214T091822Z
LAST-MODIFIED:20221216T100051Z
UID:9630-1675772100-1675773900@test.digitallernen.ch
SUMMARY:Februarspecial: Sprechstunde für Hochschullehrende - online
DESCRIPTION:Online: Link zur Zoom-Sitzung
URL:https://test.digitallernen.ch/termin/20230207-sprechstunde-hochschullehrende-online/
LOCATION:Online via Zoom
CATEGORIES:Sprechstunde Hochschulehrende
ATTACH;FMTTYPE=image/png:https://test.digitallernen.ch/wp-content/uploads/BeratungSprechstunde.png
ORGANIZER;CN="Fachstelle f%C3%BCr digitales Lehren und Lernen FDL":MAILTO:elearning.ph@fhnw.ch
END:VEVENT
BEGIN:VEVENT
DTSTART;TZID=Europe/Zurich:20230208T121500
DTEND;TZID=Europe/Zurich:20230208T124500
DTSTAMP:20260421T133407
CREATED:20221214T091841Z
LAST-MODIFIED:20221216T100100Z
UID:9632-1675858500-1675860300@test.digitallernen.ch
SUMMARY:Februarspecial: Sprechstunde für Hochschullehrende - online
DESCRIPTION:Online: Link zur Zoom-Sitzung
URL:https://test.digitallernen.ch/termin/20230208-sprechstunde-hochschullehrende-online/
LOCATION:Online via Zoom
CATEGORIES:Sprechstunde Hochschulehrende
ATTACH;FMTTYPE=image/png:https://test.digitallernen.ch/wp-content/uploads/BeratungSprechstunde.png
ORGANIZER;CN="Fachstelle f%C3%BCr digitales Lehren und Lernen FDL":MAILTO:elearning.ph@fhnw.ch
END:VEVENT
BEGIN:VEVENT
DTSTART;TZID=Europe/Zurich:20230209T121500
DTEND;TZID=Europe/Zurich:20230209T124500
DTSTAMP:20260421T133407
CREATED:20221214T091932Z
LAST-MODIFIED:20221216T100114Z
UID:9634-1675944900-1675946700@test.digitallernen.ch
SUMMARY:Februarspecial: Sprechstunde für Hochschullehrende - online
DESCRIPTION:Online: Link zur Zoom-Sitzung
URL:https://test.digitallernen.ch/termin/20230209-sprechstunde-hochschullehrende-online/
LOCATION:Online via Zoom
CATEGORIES:Sprechstunde Hochschulehrende
ATTACH;FMTTYPE=image/png:https://test.digitallernen.ch/wp-content/uploads/BeratungSprechstunde.png
ORGANIZER;CN="Fachstelle f%C3%BCr digitales Lehren und Lernen FDL":MAILTO:elearning.ph@fhnw.ch
END:VEVENT
BEGIN:VEVENT
DTSTART;TZID=Europe/Zurich:20230210T121500
DTEND;TZID=Europe/Zurich:20230210T124500
DTSTAMP:20260421T133407
CREATED:20221214T092009Z
LAST-MODIFIED:20221216T100124Z
UID:9636-1676031300-1676033100@test.digitallernen.ch
SUMMARY:Februarspecial: Sprechstunde für Hochschullehrende - online
DESCRIPTION:Online: Link zur Zoom-Sitzung
URL:https://test.digitallernen.ch/termin/20230210-sprechstunde-hochschullehrende-online/
LOCATION:Online via Zoom
CATEGORIES:Sprechstunde Hochschulehrende
ATTACH;FMTTYPE=image/png:https://test.digitallernen.ch/wp-content/uploads/BeratungSprechstunde.png
ORGANIZER;CN="Fachstelle f%C3%BCr digitales Lehren und Lernen FDL":MAILTO:elearning.ph@fhnw.ch
END:VEVENT
BEGIN:VEVENT
DTSTART;TZID=Europe/Zurich:20230214T150000
DTEND;TZID=Europe/Zurich:20230214T160000
DTSTAMP:20260421T133407
CREATED:20221214T092459Z
LAST-MODIFIED:20221214T092459Z
UID:9641-1676386800-1676390400@test.digitallernen.ch
SUMMARY:Sprechstunde für Hochschullehrende - online
DESCRIPTION:Online: Link zur Zoom-Sitzung
URL:https://test.digitallernen.ch/termin/20230214-sprechstunde-hochschullehrende-online/
LOCATION:Online via Zoom
CATEGORIES:Sprechstunde Hochschulehrende
ATTACH;FMTTYPE=image/png:https://test.digitallernen.ch/wp-content/uploads/BeratungSprechstunde.png
ORGANIZER;CN="Fachstelle f%C3%BCr digitales Lehren und Lernen FDL":MAILTO:elearning.ph@fhnw.ch
END:VEVENT
BEGIN:VEVENT
DTSTART;TZID=Europe/Zurich:20230216T100000
DTEND;TZID=Europe/Zurich:20230216T110000
DTSTAMP:20260421T133407
CREATED:20221214T091303Z
LAST-MODIFIED:20221214T091303Z
UID:9624-1676541600-1676545200@test.digitallernen.ch
SUMMARY:Sprechstunde für Hochschullehrende - online
DESCRIPTION:Online: Link zur Zoom-Sitzung
URL:https://test.digitallernen.ch/termin/20230216-sprechstunde-hochschullehrende-online/
LOCATION:Online via Zoom
CATEGORIES:Sprechstunde Hochschulehrende
ATTACH;FMTTYPE=image/png:https://test.digitallernen.ch/wp-content/uploads/BeratungSprechstunde.png
ORGANIZER;CN="Fachstelle f%C3%BCr digitales Lehren und Lernen FDL":MAILTO:elearning.ph@fhnw.ch
END:VEVENT
BEGIN:VEVENT
DTSTART;TZID=Europe/Zurich:20230221T120000
DTEND;TZID=Europe/Zurich:20230221T130000
DTSTAMP:20260421T133407
CREATED:20221125T091500Z
LAST-MODIFIED:20221125T091500Z
UID:9363-1676980800-1676984400@test.digitallernen.ch
SUMMARY:DigiLearn4Students-Sprechstunde - online
DESCRIPTION:Online: Link zur Zoom-Sitzung
URL:https://test.digitallernen.ch/termin/20230221-sprechstunde-studierende-online/
LOCATION:Online via Zoom
CATEGORIES:Sprechstunde Studierende
ATTACH;FMTTYPE=image/jpeg:https://test.digitallernen.ch/wp-content/uploads/Sprechstunden-DL4S.jpg
ORGANIZER;CN="Fachstelle f%C3%BCr digitales Lehren und Lernen FDL":MAILTO:elearning.ph@fhnw.ch
END:VEVENT
BEGIN:VEVENT
DTSTART;TZID=Europe/Zurich:20230221T150000
DTEND;TZID=Europe/Zurich:20230221T160000
DTSTAMP:20260421T133407
CREATED:20221214T092359Z
LAST-MODIFIED:20221214T092628Z
UID:9639-1676991600-1676995200@test.digitallernen.ch
SUMMARY:Sprechstunde für Hochschullehrende - online
DESCRIPTION:Online: Link zur Zoom-Sitzung
URL:https://test.digitallernen.ch/termin/20230221-sprechstunde-hochschullehrende-online/
LOCATION:Online via Zoom
CATEGORIES:Sprechstunde Hochschulehrende
ATTACH;FMTTYPE=image/png:https://test.digitallernen.ch/wp-content/uploads/BeratungSprechstunde.png
ORGANIZER;CN="Fachstelle f%C3%BCr digitales Lehren und Lernen FDL":MAILTO:elearning.ph@fhnw.ch
END:VEVENT
BEGIN:VEVENT
DTSTART;TZID=Europe/Zurich:20230223T100000
DTEND;TZID=Europe/Zurich:20230223T110000
DTSTAMP:20260421T133407
CREATED:20221214T100915Z
LAST-MODIFIED:20221214T100915Z
UID:9670-1677146400-1677150000@test.digitallernen.ch
SUMMARY:Sprechstunde für Hochschullehrende - online
DESCRIPTION:Online: Link zur Zoom-Sitzung
URL:https://test.digitallernen.ch/termin/20230223-sprechstunde-hochschullehrende-online/
LOCATION:Online via Zoom
CATEGORIES:Sprechstunde Hochschulehrende
ATTACH;FMTTYPE=image/png:https://test.digitallernen.ch/wp-content/uploads/BeratungSprechstunde.png
ORGANIZER;CN="Fachstelle f%C3%BCr digitales Lehren und Lernen FDL":MAILTO:elearning.ph@fhnw.ch
END:VEVENT
BEGIN:VEVENT
DTSTART;TZID=Europe/Zurich:20230228T120000
DTEND;TZID=Europe/Zurich:20230228T130000
DTSTAMP:20260421T133407
CREATED:20221125T091636Z
LAST-MODIFIED:20221125T091636Z
UID:9365-1677585600-1677589200@test.digitallernen.ch
SUMMARY:DigiLearn4Students-Sprechstunde - online
DESCRIPTION:Online: Link zur Zoom-Sitzung
URL:https://test.digitallernen.ch/termin/20230228-sprechstunde-studierende-online/
LOCATION:Online via Zoom
CATEGORIES:Sprechstunde Studierende
ATTACH;FMTTYPE=image/jpeg:https://test.digitallernen.ch/wp-content/uploads/Sprechstunden-DL4S.jpg
ORGANIZER;CN="Fachstelle f%C3%BCr digitales Lehren und Lernen FDL":MAILTO:elearning.ph@fhnw.ch
END:VEVENT
BEGIN:VEVENT
DTSTART;TZID=Europe/Zurich:20230228T150000
DTEND;TZID=Europe/Zurich:20230228T160000
DTSTAMP:20260421T133407
CREATED:20221216T100911Z
LAST-MODIFIED:20221216T100911Z
UID:9683-1677596400-1677600000@test.digitallernen.ch
SUMMARY:Sprechstunde für Hochschullehrende - online
DESCRIPTION:Online: Link zur Zoom-Sitzung
URL:https://test.digitallernen.ch/termin/20230228-sprechstunde-hochschullehrende-online/
LOCATION:Online via Zoom
CATEGORIES:Sprechstunde Hochschulehrende
ATTACH;FMTTYPE=image/png:https://test.digitallernen.ch/wp-content/uploads/BeratungSprechstunde.png
ORGANIZER;CN="Fachstelle f%C3%BCr digitales Lehren und Lernen FDL":MAILTO:elearning.ph@fhnw.ch
END:VEVENT
END:VCALENDAR