BEGIN:VCALENDAR
VERSION:2.0
PRODID:-//digitallernen - ECPv6.10.1.1//NONSGML v1.0//EN
CALSCALE:GREGORIAN
METHOD:PUBLISH
X-ORIGINAL-URL:https://test.digitallernen.ch
X-WR-CALDESC:Veranstaltungen im digitallernen
REFRESH-INTERVAL;VALUE=DURATION:PT1H
X-Robots-Tag:noindex
X-PUBLISHED-TTL:PT1H
BEGIN:VTIMEZONE
TZID:Europe/Zurich
BEGIN:DAYLIGHT
TZOFFSETFROM:+0100
TZOFFSETTO:+0200
TZNAME:CEST
DTSTART:20230326T010000
END:DAYLIGHT
BEGIN:STANDARD
TZOFFSETFROM:+0200
TZOFFSETTO:+0100
TZNAME:CET
DTSTART:20231029T010000
END:STANDARD
END:VTIMEZONE
BEGIN:VEVENT
DTSTART;TZID=Europe/Zurich:20230110T150000
DTEND;TZID=Europe/Zurich:20230110T160000
DTSTAMP:20260421T171004
CREATED:20221214T090410Z
LAST-MODIFIED:20221214T090410Z
UID:9608-1673362800-1673366400@test.digitallernen.ch
SUMMARY:Sprechstunde für Hochschullehrende - online
DESCRIPTION:Online: Link zur Zoom-Sitzung
URL:https://test.digitallernen.ch/termin/20230110-sprechstunde-hochschullehrende-online/
LOCATION:Online via Zoom
CATEGORIES:Sprechstunde Hochschulehrende
ATTACH;FMTTYPE=image/png:https://test.digitallernen.ch/wp-content/uploads/BeratungSprechstunde.png
ORGANIZER;CN="Fachstelle f%C3%BCr digitales Lehren und Lernen FDL":MAILTO:elearning.ph@fhnw.ch
END:VEVENT
BEGIN:VEVENT
DTSTART;TZID=Europe/Zurich:20230112T100000
DTEND;TZID=Europe/Zurich:20230112T110000
DTSTAMP:20260421T171004
CREATED:20221214T090917Z
LAST-MODIFIED:20221214T090917Z
UID:9616-1673517600-1673521200@test.digitallernen.ch
SUMMARY:Sprechstunde für Hochschullehrende - online
DESCRIPTION:Online: Link zur Zoom-Sitzung
URL:https://test.digitallernen.ch/termin/20230112-sprechstunde-hochschullehrende-online/
LOCATION:Online via Zoom
CATEGORIES:Sprechstunde Hochschulehrende
ATTACH;FMTTYPE=image/png:https://test.digitallernen.ch/wp-content/uploads/BeratungSprechstunde.png
ORGANIZER;CN="Fachstelle f%C3%BCr digitales Lehren und Lernen FDL":MAILTO:elearning.ph@fhnw.ch
END:VEVENT
BEGIN:VEVENT
DTSTART;TZID=Europe/Zurich:20230117T150000
DTEND;TZID=Europe/Zurich:20230117T160000
DTSTAMP:20260421T171004
CREATED:20221214T090720Z
LAST-MODIFIED:20221214T090720Z
UID:9610-1673967600-1673971200@test.digitallernen.ch
SUMMARY:Sprechstunde für Hochschullehrende - online
DESCRIPTION:Online: Link zur Zoom-Sitzung
URL:https://test.digitallernen.ch/termin/20230117-sprechstunde-hochschullehrende-online/
LOCATION:Online via Zoom
CATEGORIES:Sprechstunde Hochschulehrende
ATTACH;FMTTYPE=image/png:https://test.digitallernen.ch/wp-content/uploads/BeratungSprechstunde.png
ORGANIZER;CN="Fachstelle f%C3%BCr digitales Lehren und Lernen FDL":MAILTO:elearning.ph@fhnw.ch
END:VEVENT
BEGIN:VEVENT
DTSTART;TZID=Europe/Zurich:20230119T100000
DTEND;TZID=Europe/Zurich:20230119T110000
DTSTAMP:20260421T171004
CREATED:20221214T091024Z
LAST-MODIFIED:20221214T091024Z
UID:9618-1674122400-1674126000@test.digitallernen.ch
SUMMARY:Sprechstunde für Hochschullehrende - online
DESCRIPTION:Online: Link zur Zoom-Sitzung
URL:https://test.digitallernen.ch/termin/20230119-sprechstunde-hochschullehrende-online/
LOCATION:Online via Zoom
CATEGORIES:Sprechstunde Hochschulehrende
ATTACH;FMTTYPE=image/png:https://test.digitallernen.ch/wp-content/uploads/BeratungSprechstunde.png
ORGANIZER;CN="Fachstelle f%C3%BCr digitales Lehren und Lernen FDL":MAILTO:elearning.ph@fhnw.ch
END:VEVENT
BEGIN:VEVENT
DTSTART;TZID=Europe/Zurich:20230124T150000
DTEND;TZID=Europe/Zurich:20230124T160000
DTSTAMP:20260421T171004
CREATED:20221214T090754Z
LAST-MODIFIED:20221214T090754Z
UID:9612-1674572400-1674576000@test.digitallernen.ch
SUMMARY:Sprechstunde für Hochschullehrende - online
DESCRIPTION:Online: Link zur Zoom-Sitzung
URL:https://test.digitallernen.ch/termin/20230124-sprechstunde-hochschullehrende-online/
LOCATION:Online via Zoom
CATEGORIES:Sprechstunde Hochschulehrende
ATTACH;FMTTYPE=image/png:https://test.digitallernen.ch/wp-content/uploads/BeratungSprechstunde.png
ORGANIZER;CN="Fachstelle f%C3%BCr digitales Lehren und Lernen FDL":MAILTO:elearning.ph@fhnw.ch
END:VEVENT
BEGIN:VEVENT
DTSTART;TZID=Europe/Zurich:20230126T100000
DTEND;TZID=Europe/Zurich:20230126T110000
DTSTAMP:20260421T171004
CREATED:20221214T091115Z
LAST-MODIFIED:20221214T091115Z
UID:9620-1674727200-1674730800@test.digitallernen.ch
SUMMARY:Sprechstunde für Hochschullehrende - online
DESCRIPTION:Online: Link zur Zoom-Sitzung
URL:https://test.digitallernen.ch/termin/20230126-sprechstunde-hochschullehrende-online/
LOCATION:Online via Zoom
CATEGORIES:Sprechstunde Hochschulehrende
ATTACH;FMTTYPE=image/png:https://test.digitallernen.ch/wp-content/uploads/BeratungSprechstunde.png
ORGANIZER;CN="Fachstelle f%C3%BCr digitales Lehren und Lernen FDL":MAILTO:elearning.ph@fhnw.ch
END:VEVENT
BEGIN:VEVENT
DTSTART;TZID=Europe/Zurich:20230131T150000
DTEND;TZID=Europe/Zurich:20230131T160000
DTSTAMP:20260421T171004
CREATED:20221214T090827Z
LAST-MODIFIED:20221214T090827Z
UID:9614-1675177200-1675180800@test.digitallernen.ch
SUMMARY:Sprechstunde für Hochschullehrende - online
DESCRIPTION:Online: Link zur Zoom-Sitzung
URL:https://test.digitallernen.ch/termin/20230131-sprechstunde-hochschullehrende-online/
LOCATION:Online via Zoom
CATEGORIES:Sprechstunde Hochschulehrende
ATTACH;FMTTYPE=image/png:https://test.digitallernen.ch/wp-content/uploads/BeratungSprechstunde.png
ORGANIZER;CN="Fachstelle f%C3%BCr digitales Lehren und Lernen FDL":MAILTO:elearning.ph@fhnw.ch
END:VEVENT
END:VCALENDAR