BEGIN:VCALENDAR
VERSION:2.0
PRODID:-//digitallernen - ECPv6.10.1.1//NONSGML v1.0//EN
CALSCALE:GREGORIAN
METHOD:PUBLISH
X-ORIGINAL-URL:https://test.digitallernen.ch
X-WR-CALDESC:Veranstaltungen im digitallernen
REFRESH-INTERVAL;VALUE=DURATION:PT1H
X-Robots-Tag:noindex
X-PUBLISHED-TTL:PT1H
BEGIN:VTIMEZONE
TZID:Europe/Zurich
BEGIN:DAYLIGHT
TZOFFSETFROM:+0100
TZOFFSETTO:+0200
TZNAME:CEST
DTSTART:20230326T010000
END:DAYLIGHT
BEGIN:STANDARD
TZOFFSETFROM:+0200
TZOFFSETTO:+0100
TZNAME:CET
DTSTART:20231029T010000
END:STANDARD
END:VTIMEZONE
BEGIN:VEVENT
DTSTART;TZID=Europe/Zurich:20231010T083000
DTEND;TZID=Europe/Zurich:20231010T093000
DTSTAMP:20260419T190747
CREATED:20230509T123800Z
LAST-MODIFIED:20230621T111536Z
UID:10266-1696926600-1696930200@test.digitallernen.ch
SUMMARY:Sprechstunde für Hochschullehrende - online
DESCRIPTION:Diese Sprechstunde findet über Zoom statt. Sie können sich über diesen Link und mit Ihrem FHNW Login mit dem Zoom-Raum verbinden.
URL:https://test.digitallernen.ch/termin/sprechstunde-fuer-hochschullehrende-online-2-2-2-2/
LOCATION:Online via Zoom
CATEGORIES:Beratung,Sprechstunde Hochschulehrende
ATTACH;FMTTYPE=image/png:https://test.digitallernen.ch/wp-content/uploads/BeratungSprechstunde.png
ORGANIZER;CN="Fachstelle f%C3%BCr digitales Lehren und Lernen FDL":MAILTO:elearning.ph@fhnw.ch
END:VEVENT
BEGIN:VEVENT
DTSTART;TZID=Europe/Zurich:20231010T110000
DTEND;TZID=Europe/Zurich:20231010T120000
DTSTAMP:20260419T190747
CREATED:20230512T113519Z
LAST-MODIFIED:20230512T120345Z
UID:10399-1696935600-1696939200@test.digitallernen.ch
SUMMARY:DigiLearn4Students-Sprechstunde - online
DESCRIPTION:Online: Link zur Zoom-Sitzung
URL:https://test.digitallernen.ch/termin/sprechstunde-studierende-online-hs23-12/
LOCATION:Online via Zoom
CATEGORIES:Sprechstunde Studierende
ATTACH;FMTTYPE=image/jpeg:https://test.digitallernen.ch/wp-content/uploads/Sprechstunden-DL4S.jpg
ORGANIZER;CN="Fachstelle f%C3%BCr digitales Lehren und Lernen FDL":MAILTO:elearning.ph@fhnw.ch
END:VEVENT
BEGIN:VEVENT
DTSTART;TZID=Europe/Zurich:20231011T150000
DTEND;TZID=Europe/Zurich:20231011T160000
DTSTAMP:20260419T190747
CREATED:20230509T123844Z
LAST-MODIFIED:20231002T072219Z
UID:10268-1697036400-1697040000@test.digitallernen.ch
SUMMARY:Sprechstunde für Hochschullehrende - online
DESCRIPTION:Diese Sprechstunde findet über Zoom statt. Sie können sich über diesen Link und mit Ihrem FHNW Login mit dem Zoom-Raum verbinden.
URL:https://test.digitallernen.ch/termin/sprechstunde-fuer-hochschullehrende-online-2-2-2-2-2/
LOCATION:Online via Zoom
CATEGORIES:Beratung,Sprechstunde Hochschulehrende
ATTACH;FMTTYPE=image/png:https://test.digitallernen.ch/wp-content/uploads/BeratungSprechstunde.png
ORGANIZER;CN="Fachstelle f%C3%BCr digitales Lehren und Lernen FDL":MAILTO:elearning.ph@fhnw.ch
END:VEVENT
BEGIN:VEVENT
DTSTART;TZID=Europe/Zurich:20231017T083000
DTEND;TZID=Europe/Zurich:20231017T093000
DTSTAMP:20260419T190747
CREATED:20230509T123914Z
LAST-MODIFIED:20230621T111536Z
UID:10270-1697531400-1697535000@test.digitallernen.ch
SUMMARY:Sprechstunde für Hochschullehrende - online
DESCRIPTION:Diese Sprechstunde findet über Zoom statt. Sie können sich über diesen Link und mit Ihrem FHNW Login mit dem Zoom-Raum verbinden.
URL:https://test.digitallernen.ch/termin/sprechstunde-fuer-hochschullehrende-online-2-2-2-2-2-2/
LOCATION:Online via Zoom
CATEGORIES:Beratung,Sprechstunde Hochschulehrende
ATTACH;FMTTYPE=image/png:https://test.digitallernen.ch/wp-content/uploads/BeratungSprechstunde.png
ORGANIZER;CN="Fachstelle f%C3%BCr digitales Lehren und Lernen FDL":MAILTO:elearning.ph@fhnw.ch
END:VEVENT
BEGIN:VEVENT
DTSTART;TZID=Europe/Zurich:20231017T110000
DTEND;TZID=Europe/Zurich:20231017T120000
DTSTAMP:20260419T190747
CREATED:20230512T113547Z
LAST-MODIFIED:20230512T120339Z
UID:10401-1697540400-1697544000@test.digitallernen.ch
SUMMARY:DigiLearn4Students-Sprechstunde - online
DESCRIPTION:Online: Link zur Zoom-Sitzung
URL:https://test.digitallernen.ch/termin/sprechstunde-studierende-online-hs23-11/
LOCATION:Online via Zoom
CATEGORIES:Sprechstunde Studierende
ATTACH;FMTTYPE=image/jpeg:https://test.digitallernen.ch/wp-content/uploads/Sprechstunden-DL4S.jpg
ORGANIZER;CN="Fachstelle f%C3%BCr digitales Lehren und Lernen FDL":MAILTO:elearning.ph@fhnw.ch
END:VEVENT
BEGIN:VEVENT
DTSTART;TZID=Europe/Zurich:20231018T150000
DTEND;TZID=Europe/Zurich:20231018T160000
DTSTAMP:20260419T190747
CREATED:20230509T124006Z
LAST-MODIFIED:20231002T072338Z
UID:10273-1697641200-1697644800@test.digitallernen.ch
SUMMARY:Sprechstunde für Hochschullehrende - online
DESCRIPTION:Diese Sprechstunde findet über Zoom statt. Sie können sich über diesen Link und mit Ihrem FHNW Login mit dem Zoom-Raum verbinden.
URL:https://test.digitallernen.ch/termin/sprechstunde-fuer-hochschullehrende-online-4/
LOCATION:Online via Zoom
CATEGORIES:Beratung,Sprechstunde Hochschulehrende
ATTACH;FMTTYPE=image/png:https://test.digitallernen.ch/wp-content/uploads/BeratungSprechstunde.png
ORGANIZER;CN="Fachstelle f%C3%BCr digitales Lehren und Lernen FDL":MAILTO:elearning.ph@fhnw.ch
END:VEVENT
BEGIN:VEVENT
DTSTART;TZID=Europe/Zurich:20231023T100000
DTEND;TZID=Europe/Zurich:20231023T110000
DTSTAMP:20260419T190747
CREATED:20230512T120135Z
LAST-MODIFIED:20230512T120135Z
UID:10425-1698055200-1698058800@test.digitallernen.ch
SUMMARY:DigiLearn4Students-Sprechstunde - Campus Muttenz - Raum 10.N.01
DESCRIPTION:
URL:https://test.digitallernen.ch/termin/sprechstunde-studierende-cmu-hs23-4/
LOCATION:Campus Muttenz – Raum 10.N.01\, Hofackerstrasse 30\, Muttenz\, 4132\, Switzerland
CATEGORIES:Sprechstunde Studierende
ATTACH;FMTTYPE=image/jpeg:https://test.digitallernen.ch/wp-content/uploads/Sprechstunden-DL4S.jpg
ORGANIZER;CN="Fachstelle f%C3%BCr digitales Lehren und Lernen FDL":MAILTO:elearning.ph@fhnw.ch
END:VEVENT
BEGIN:VEVENT
DTSTART;TZID=Europe/Zurich:20231024T083000
DTEND;TZID=Europe/Zurich:20231024T093000
DTSTAMP:20260419T190747
CREATED:20230509T124114Z
LAST-MODIFIED:20230621T111536Z
UID:10277-1698136200-1698139800@test.digitallernen.ch
SUMMARY:Sprechstunde für Hochschullehrende - online
DESCRIPTION:Diese Sprechstunde findet über Zoom statt. Sie können sich über diesen Link und mit Ihrem FHNW Login mit dem Zoom-Raum verbinden.
URL:https://test.digitallernen.ch/termin/sprechstunde-fuer-hochschullehrende-online-5/
LOCATION:Online via Zoom
CATEGORIES:Beratung,Sprechstunde Hochschulehrende
ATTACH;FMTTYPE=image/png:https://test.digitallernen.ch/wp-content/uploads/BeratungSprechstunde.png
ORGANIZER;CN="Fachstelle f%C3%BCr digitales Lehren und Lernen FDL":MAILTO:elearning.ph@fhnw.ch
END:VEVENT
BEGIN:VEVENT
DTSTART;TZID=Europe/Zurich:20231024T110000
DTEND;TZID=Europe/Zurich:20231024T120000
DTSTAMP:20260419T190747
CREATED:20230512T113617Z
LAST-MODIFIED:20230512T120334Z
UID:10403-1698145200-1698148800@test.digitallernen.ch
SUMMARY:DigiLearn4Students-Sprechstunde - online
DESCRIPTION:Online: Link zur Zoom-Sitzung
URL:https://test.digitallernen.ch/termin/sprechstunde-studierende-online-hs23-10/
LOCATION:Online via Zoom
CATEGORIES:Sprechstunde Studierende
ATTACH;FMTTYPE=image/jpeg:https://test.digitallernen.ch/wp-content/uploads/Sprechstunden-DL4S.jpg
ORGANIZER;CN="Fachstelle f%C3%BCr digitales Lehren und Lernen FDL":MAILTO:elearning.ph@fhnw.ch
END:VEVENT
BEGIN:VEVENT
DTSTART;TZID=Europe/Zurich:20231027T160000
DTEND;TZID=Europe/Zurich:20231027T170000
DTSTAMP:20260419T190747
CREATED:20230509T124134Z
LAST-MODIFIED:20230925T091016Z
UID:10279-1698422400-1698426000@test.digitallernen.ch
SUMMARY:Sprechstunde für Hochschullehrende - online
DESCRIPTION:Diese Sprechstunde findet über Zoom statt. Sie können sich über diesen Link und mit Ihrem FHNW Login mit dem Zoom-Raum verbinden.
URL:https://test.digitallernen.ch/termin/sprechstunde-fuer-hochschullehrende-online-5-2/
LOCATION:Online via Zoom
CATEGORIES:Beratung,Sprechstunde Hochschulehrende
ATTACH;FMTTYPE=image/png:https://test.digitallernen.ch/wp-content/uploads/BeratungSprechstunde.png
ORGANIZER;CN="Fachstelle f%C3%BCr digitales Lehren und Lernen FDL":MAILTO:elearning.ph@fhnw.ch
END:VEVENT
BEGIN:VEVENT
DTSTART;TZID=Europe/Zurich:20231030T100000
DTEND;TZID=Europe/Zurich:20231030T110000
DTSTAMP:20260419T190747
CREATED:20230512T115802Z
LAST-MODIFIED:20230512T115802Z
UID:10437-1698660000-1698663600@test.digitallernen.ch
SUMMARY:DigiLearn4Students-Sprechstunde - Standort Solothurn - Raum A200
DESCRIPTION:
URL:https://test.digitallernen.ch/termin/20230330-sprechstunde-studierende-so-2/
LOCATION:Standort Solothurn – Raum A200\, Obere Sternengasse 7\, Solothurn\, 4502\, Switzerland
CATEGORIES:Sprechstunde Studierende
ATTACH;FMTTYPE=image/jpeg:https://test.digitallernen.ch/wp-content/uploads/Sprechstunden-DL4S.jpg
ORGANIZER;CN="Fachstelle f%C3%BCr digitales Lehren und Lernen FDL":MAILTO:elearning.ph@fhnw.ch
END:VEVENT
BEGIN:VEVENT
DTSTART;TZID=Europe/Zurich:20231031T083000
DTEND;TZID=Europe/Zurich:20231031T093000
DTSTAMP:20260419T190747
CREATED:20230509T124200Z
LAST-MODIFIED:20230621T111536Z
UID:10281-1698741000-1698744600@test.digitallernen.ch
SUMMARY:Sprechstunde für Hochschullehrende - online
DESCRIPTION:Diese Sprechstunde findet über Zoom statt. Sie können sich über diesen Link und mit Ihrem FHNW Login mit dem Zoom-Raum verbinden.
URL:https://test.digitallernen.ch/termin/sprechstunde-fuer-hochschullehrende-online-5-2-2/
LOCATION:Online via Zoom
CATEGORIES:Beratung,Sprechstunde Hochschulehrende
ATTACH;FMTTYPE=image/png:https://test.digitallernen.ch/wp-content/uploads/BeratungSprechstunde.png
ORGANIZER;CN="Fachstelle f%C3%BCr digitales Lehren und Lernen FDL":MAILTO:elearning.ph@fhnw.ch
END:VEVENT
BEGIN:VEVENT
DTSTART;TZID=Europe/Zurich:20231031T110000
DTEND;TZID=Europe/Zurich:20231031T120000
DTSTAMP:20260419T190747
CREATED:20230512T113647Z
LAST-MODIFIED:20230512T120327Z
UID:10405-1698750000-1698753600@test.digitallernen.ch
SUMMARY:DigiLearn4Students-Sprechstunde - online
DESCRIPTION:Online: Link zur Zoom-Sitzung
URL:https://test.digitallernen.ch/termin/sprechstunde-studierende-online-hs23-9/
LOCATION:Online via Zoom
CATEGORIES:Sprechstunde Studierende
ATTACH;FMTTYPE=image/jpeg:https://test.digitallernen.ch/wp-content/uploads/Sprechstunden-DL4S.jpg
ORGANIZER;CN="Fachstelle f%C3%BCr digitales Lehren und Lernen FDL":MAILTO:elearning.ph@fhnw.ch
END:VEVENT
BEGIN:VEVENT
DTSTART;TZID=Europe/Zurich:20231102T100000
DTEND;TZID=Europe/Zurich:20231102T110000
DTSTAMP:20260419T190747
CREATED:20230509T144042Z
LAST-MODIFIED:20230621T111931Z
UID:10345-1698919200-1698922800@test.digitallernen.ch
SUMMARY:Sprechstunde für Hochschullehrende am Campus Brugg-Windisch
DESCRIPTION:Diese Sprechstunde findet vor Ort in Brugg-Windisch statt. Online-Sprechstunden finden Sie in unserem Kalender.
URL:https://test.digitallernen.ch/termin/sprechstunde-praesenz-2-2/
LOCATION:Campus Brugg Windisch – Raum 6.4D30\, Bahnhofstrasse 6\, Windisch\, 5210\, Switzerland
CATEGORIES:Beratung,Sprechstunde Hochschulehrende
ATTACH;FMTTYPE=image/png:https://test.digitallernen.ch/wp-content/uploads/BeratungSprechstunde.png
ORGANIZER;CN="Fachstelle f%C3%BCr digitales Lehren und Lernen FDL":MAILTO:elearning.ph@fhnw.ch
END:VEVENT
BEGIN:VEVENT
DTSTART;TZID=Europe/Zurich:20231103T160000
DTEND;TZID=Europe/Zurich:20231103T170000
DTSTAMP:20260419T190747
CREATED:20230925T090924Z
LAST-MODIFIED:20230925T090924Z
UID:10971-1699027200-1699030800@test.digitallernen.ch
SUMMARY:Sprechstunde für Hochschullehrende - online
DESCRIPTION:Diese Sprechstunde findet über Zoom statt. Sie können sich über diesen Link und mit Ihrem FHNW Login mit dem Zoom-Raum verbinden.
URL:https://test.digitallernen.ch/termin/sprechstunde-fuer-hochschullehrende-online-9/
LOCATION:Online via Zoom
ORGANIZER;CN="Fachstelle f%C3%BCr digitales Lehren und Lernen FDL":MAILTO:elearning.ph@fhnw.ch
END:VEVENT
BEGIN:VEVENT
DTSTART;TZID=Europe/Zurich:20231106T100000
DTEND;TZID=Europe/Zurich:20231106T110000
DTSTAMP:20260419T190747
CREATED:20230509T144548Z
LAST-MODIFIED:20231101T141043Z
UID:10353-1699264800-1699268400@test.digitallernen.ch
SUMMARY:Sprechstunde für Hochschullehrende am Campus Muttenz
DESCRIPTION:Diese Sprechstunde findet vor Ort in Muttenz statt. Online-Sprechstunden finden Sie in unserem Kalender.
URL:https://test.digitallernen.ch/termin/sprechstunde-praesenz-cmu-2-2/
LOCATION:Campus Muttenz – Raum 10.N.01\, Hofackerstrasse 30\, Muttenz\, 4132\, Switzerland
CATEGORIES:Beratung,Sprechstunde Hochschulehrende
ATTACH;FMTTYPE=image/png:https://test.digitallernen.ch/wp-content/uploads/BeratungSprechstunde.png
ORGANIZER;CN="Fachstelle f%C3%BCr digitales Lehren und Lernen FDL":MAILTO:elearning.ph@fhnw.ch
END:VEVENT
BEGIN:VEVENT
DTSTART;TZID=Europe/Zurich:20231107T083000
DTEND;TZID=Europe/Zurich:20231107T093000
DTSTAMP:20260419T190747
CREATED:20230509T124223Z
LAST-MODIFIED:20230621T111536Z
UID:10283-1699345800-1699349400@test.digitallernen.ch
SUMMARY:Sprechstunde für Hochschullehrende - online
DESCRIPTION:Diese Sprechstunde findet über Zoom statt. Sie können sich über diesen Link und mit Ihrem FHNW Login mit dem Zoom-Raum verbinden.
URL:https://test.digitallernen.ch/termin/sprechstunde-fuer-hochschullehrende-online-5-2-2-2/
LOCATION:Online via Zoom
CATEGORIES:Beratung,Sprechstunde Hochschulehrende
ATTACH;FMTTYPE=image/png:https://test.digitallernen.ch/wp-content/uploads/BeratungSprechstunde.png
ORGANIZER;CN="Fachstelle f%C3%BCr digitales Lehren und Lernen FDL":MAILTO:elearning.ph@fhnw.ch
END:VEVENT
BEGIN:VEVENT
DTSTART;TZID=Europe/Zurich:20231107T110000
DTEND;TZID=Europe/Zurich:20231107T120000
DTSTAMP:20260419T190747
CREATED:20230512T113711Z
LAST-MODIFIED:20230512T120321Z
UID:10407-1699354800-1699358400@test.digitallernen.ch
SUMMARY:DigiLearn4Students-Sprechstunde - online
DESCRIPTION:Online: Link zur Zoom-Sitzung
URL:https://test.digitallernen.ch/termin/sprechstunde-studierende-online-hs23-8/
LOCATION:Online via Zoom
CATEGORIES:Sprechstunde Studierende
ATTACH;FMTTYPE=image/jpeg:https://test.digitallernen.ch/wp-content/uploads/Sprechstunden-DL4S.jpg
ORGANIZER;CN="Fachstelle f%C3%BCr digitales Lehren und Lernen FDL":MAILTO:elearning.ph@fhnw.ch
END:VEVENT
BEGIN:VEVENT
DTSTART;TZID=Europe/Zurich:20231108T150000
DTEND;TZID=Europe/Zurich:20231108T160000
DTSTAMP:20260419T190747
CREATED:20230509T124241Z
LAST-MODIFIED:20231101T162959Z
UID:10285-1699455600-1699459200@test.digitallernen.ch
SUMMARY:Sprechstunde für Hochschullehrende - online
DESCRIPTION:Diese Sprechstunde findet über Zoom statt. Sie können sich über diesen Link und mit Ihrem FHNW Login mit dem Zoom-Raum verbinden.
URL:https://test.digitallernen.ch/termin/sprechstunde-fuer-hochschullehrende-online-5-2-2-2-2/
LOCATION:Online via Zoom
CATEGORIES:Beratung,Sprechstunde Hochschulehrende
ATTACH;FMTTYPE=image/png:https://test.digitallernen.ch/wp-content/uploads/BeratungSprechstunde.png
ORGANIZER;CN="Fachstelle f%C3%BCr digitales Lehren und Lernen FDL":MAILTO:elearning.ph@fhnw.ch
END:VEVENT
BEGIN:VEVENT
DTSTART;TZID=Europe/Zurich:20231114T083000
DTEND;TZID=Europe/Zurich:20231114T093000
DTSTAMP:20260419T190747
CREATED:20230509T124308Z
LAST-MODIFIED:20230621T111536Z
UID:10287-1699950600-1699954200@test.digitallernen.ch
SUMMARY:Sprechstunde für Hochschullehrende - online
DESCRIPTION:Diese Sprechstunde findet über Zoom statt. Sie können sich über diesen Link und mit Ihrem FHNW Login mit dem Zoom-Raum verbinden.
URL:https://test.digitallernen.ch/termin/sprechstunde-fuer-hochschullehrende-online-6/
LOCATION:Online via Zoom
CATEGORIES:Beratung,Sprechstunde Hochschulehrende
ATTACH;FMTTYPE=image/png:https://test.digitallernen.ch/wp-content/uploads/BeratungSprechstunde.png
ORGANIZER;CN="Fachstelle f%C3%BCr digitales Lehren und Lernen FDL":MAILTO:elearning.ph@fhnw.ch
END:VEVENT
BEGIN:VEVENT
DTSTART;TZID=Europe/Zurich:20231114T110000
DTEND;TZID=Europe/Zurich:20231114T120000
DTSTAMP:20260419T190747
CREATED:20230512T113752Z
LAST-MODIFIED:20230512T120305Z
UID:10409-1699959600-1699963200@test.digitallernen.ch
SUMMARY:DigiLearn4Students-Sprechstunde - online
DESCRIPTION:Online: Link zur Zoom-Sitzung
URL:https://test.digitallernen.ch/termin/sprechstunde-studierende-online-hs23-7/
LOCATION:Online via Zoom
CATEGORIES:Sprechstunde Studierende
ATTACH;FMTTYPE=image/jpeg:https://test.digitallernen.ch/wp-content/uploads/Sprechstunden-DL4S.jpg
ORGANIZER;CN="Fachstelle f%C3%BCr digitales Lehren und Lernen FDL":MAILTO:elearning.ph@fhnw.ch
END:VEVENT
BEGIN:VEVENT
DTSTART;TZID=Europe/Zurich:20231115T150000
DTEND;TZID=Europe/Zurich:20231115T160000
DTSTAMP:20260419T190747
CREATED:20230509T124321Z
LAST-MODIFIED:20231101T162342Z
UID:10289-1700060400-1700064000@test.digitallernen.ch
SUMMARY:Sprechstunde für Hochschullehrende - online
DESCRIPTION:Diese Sprechstunde findet über Zoom statt. Sie können sich über diesen Link und mit Ihrem FHNW Login mit dem Zoom-Raum verbinden.
URL:https://test.digitallernen.ch/termin/sprechstunde-fuer-hochschullehrende-online-6-2/
LOCATION:Online via Zoom
CATEGORIES:Beratung,Sprechstunde Hochschulehrende
ATTACH;FMTTYPE=image/png:https://test.digitallernen.ch/wp-content/uploads/BeratungSprechstunde.png
ORGANIZER;CN="Fachstelle f%C3%BCr digitales Lehren und Lernen FDL":MAILTO:elearning.ph@fhnw.ch
END:VEVENT
BEGIN:VEVENT
DTSTART;TZID=Europe/Zurich:20231121T083000
DTEND;TZID=Europe/Zurich:20231121T093000
DTSTAMP:20260419T190747
CREATED:20230509T124348Z
LAST-MODIFIED:20230621T111536Z
UID:10291-1700555400-1700559000@test.digitallernen.ch
SUMMARY:Sprechstunde für Hochschullehrende - online
DESCRIPTION:Diese Sprechstunde findet über Zoom statt. Sie können sich über diesen Link und mit Ihrem FHNW Login mit dem Zoom-Raum verbinden.
URL:https://test.digitallernen.ch/termin/sprechstunde-fuer-hochschullehrende-online-7/
LOCATION:Online via Zoom
CATEGORIES:Beratung,Sprechstunde Hochschulehrende
ATTACH;FMTTYPE=image/png:https://test.digitallernen.ch/wp-content/uploads/BeratungSprechstunde.png
ORGANIZER;CN="Fachstelle f%C3%BCr digitales Lehren und Lernen FDL":MAILTO:elearning.ph@fhnw.ch
END:VEVENT
BEGIN:VEVENT
DTSTART;TZID=Europe/Zurich:20231121T110000
DTEND;TZID=Europe/Zurich:20231121T120000
DTSTAMP:20260419T190747
CREATED:20230512T113820Z
LAST-MODIFIED:20230512T120258Z
UID:10412-1700564400-1700568000@test.digitallernen.ch
SUMMARY:DigiLearn4Students-Sprechstunde - online
DESCRIPTION:Online: Link zur Zoom-Sitzung
URL:https://test.digitallernen.ch/termin/sprechstunde-studierende-online-hs23-6/
LOCATION:Online via Zoom
CATEGORIES:Sprechstunde Studierende
ATTACH;FMTTYPE=image/jpeg:https://test.digitallernen.ch/wp-content/uploads/Sprechstunden-DL4S.jpg
ORGANIZER;CN="Fachstelle f%C3%BCr digitales Lehren und Lernen FDL":MAILTO:elearning.ph@fhnw.ch
END:VEVENT
BEGIN:VEVENT
DTSTART;TZID=Europe/Zurich:20231122T100000
DTEND;TZID=Europe/Zurich:20231122T110000
DTSTAMP:20260419T190747
CREATED:20230512T120032Z
LAST-MODIFIED:20230621T111803Z
UID:10433-1700647200-1700650800@test.digitallernen.ch
SUMMARY:DigiLearn4Students-Sprechstunde - Campus Brugg-Windisch - Raum 6.4D30
DESCRIPTION:
URL:https://test.digitallernen.ch/termin/20230322-sprechstunde-studierende-cwb-3/
LOCATION:Campus Brugg Windisch – Raum 6.4D30\, Bahnhofstrasse 6\, Windisch\, 5210\, Switzerland
CATEGORIES:Sprechstunde Studierende
ATTACH;FMTTYPE=image/jpeg:https://test.digitallernen.ch/wp-content/uploads/Sprechstunden-DL4S.jpg
ORGANIZER;CN="Fachstelle f%C3%BCr digitales Lehren und Lernen FDL":MAILTO:elearning.ph@fhnw.ch
END:VEVENT
BEGIN:VEVENT
DTSTART;TZID=Europe/Zurich:20231124T160000
DTEND;TZID=Europe/Zurich:20231124T170000
DTSTAMP:20260419T190747
CREATED:20230509T124405Z
LAST-MODIFIED:20230925T090545Z
UID:10293-1700841600-1700845200@test.digitallernen.ch
SUMMARY:Sprechstunde für Hochschullehrende - online
DESCRIPTION:Diese Sprechstunde findet über Zoom statt. Sie können sich über diesen Link und mit Ihrem FHNW Login mit dem Zoom-Raum verbinden.
URL:https://test.digitallernen.ch/termin/sprechstunde-fuer-hochschullehrende-online-7-2/
LOCATION:Online via Zoom
CATEGORIES:Beratung,Sprechstunde Hochschulehrende
ATTACH;FMTTYPE=image/png:https://test.digitallernen.ch/wp-content/uploads/BeratungSprechstunde.png
ORGANIZER;CN="Fachstelle f%C3%BCr digitales Lehren und Lernen FDL":MAILTO:elearning.ph@fhnw.ch
END:VEVENT
BEGIN:VEVENT
DTSTART;TZID=Europe/Zurich:20231128T083000
DTEND;TZID=Europe/Zurich:20231128T093000
DTSTAMP:20260419T190747
CREATED:20230509T124422Z
LAST-MODIFIED:20230621T111632Z
UID:10295-1701160200-1701163800@test.digitallernen.ch
SUMMARY:Sprechstunde für Hochschullehrende - online
DESCRIPTION:Diese Sprechstunde findet über Zoom statt. Sie können sich über diesen Link und mit Ihrem FHNW Login mit dem Zoom-Raum verbinden.
URL:https://test.digitallernen.ch/termin/sprechstunde-fuer-hochschullehrende-online-8/
LOCATION:Online via Zoom
CATEGORIES:Beratung,Sprechstunde Hochschulehrende
ATTACH;FMTTYPE=image/png:https://test.digitallernen.ch/wp-content/uploads/BeratungSprechstunde.png
ORGANIZER;CN="Fachstelle f%C3%BCr digitales Lehren und Lernen FDL":MAILTO:elearning.ph@fhnw.ch
END:VEVENT
BEGIN:VEVENT
DTSTART;TZID=Europe/Zurich:20231128T110000
DTEND;TZID=Europe/Zurich:20231128T120000
DTSTAMP:20260419T190747
CREATED:20230512T113849Z
LAST-MODIFIED:20230512T120252Z
UID:10415-1701169200-1701172800@test.digitallernen.ch
SUMMARY:DigiLearn4Students-Sprechstunde - online
DESCRIPTION:Online: Link zur Zoom-Sitzung
URL:https://test.digitallernen.ch/termin/sprechstunde-studierende-online-hs23-5/
LOCATION:Online via Zoom
CATEGORIES:Sprechstunde Studierende
ATTACH;FMTTYPE=image/jpeg:https://test.digitallernen.ch/wp-content/uploads/Sprechstunden-DL4S.jpg
ORGANIZER;CN="Fachstelle f%C3%BCr digitales Lehren und Lernen FDL":MAILTO:elearning.ph@fhnw.ch
END:VEVENT
BEGIN:VEVENT
DTSTART;TZID=Europe/Zurich:20231201T160000
DTEND;TZID=Europe/Zurich:20231201T170000
DTSTAMP:20260419T190747
CREATED:20230509T124510Z
LAST-MODIFIED:20230925T090513Z
UID:10299-1701446400-1701450000@test.digitallernen.ch
SUMMARY:Sprechstunde für Hochschullehrende - online
DESCRIPTION:Diese Sprechstunde findet über Zoom statt. Sie können sich über diesen Link und mit Ihrem FHNW Login mit dem Zoom-Raum verbinden.
URL:https://test.digitallernen.ch/termin/sprechstunde-fuer-hochschullehrende-online-8-3/
LOCATION:Online via Zoom
CATEGORIES:Beratung,Sprechstunde Hochschulehrende
ATTACH;FMTTYPE=image/png:https://test.digitallernen.ch/wp-content/uploads/BeratungSprechstunde.png
ORGANIZER;CN="Fachstelle f%C3%BCr digitales Lehren und Lernen FDL":MAILTO:elearning.ph@fhnw.ch
END:VEVENT
BEGIN:VEVENT
DTSTART;TZID=Europe/Zurich:20231204T100000
DTEND;TZID=Europe/Zurich:20231204T110000
DTSTAMP:20260419T190747
CREATED:20230509T144615Z
LAST-MODIFIED:20230621T111803Z
UID:10355-1701684000-1701687600@test.digitallernen.ch
SUMMARY:Sprechstunde für Hochschullehrende am Campus Muttenz
DESCRIPTION:Diese Sprechstunde findet vor Ort in Muttenz statt. Online-Sprechstunden finden Sie in unserem Kalender.
URL:https://test.digitallernen.ch/termin/sprechstunde-praesenz-cmu-2-2-2/
LOCATION:Campus Muttenz – Raum 10.N.01\, Hofackerstrasse 30\, Muttenz\, 4132\, Switzerland
CATEGORIES:Beratung,Sprechstunde Hochschulehrende
ATTACH;FMTTYPE=image/png:https://test.digitallernen.ch/wp-content/uploads/BeratungSprechstunde.png
ORGANIZER;CN="Fachstelle f%C3%BCr digitales Lehren und Lernen FDL":MAILTO:elearning.ph@fhnw.ch
END:VEVENT
END:VCALENDAR