BEGIN:VCALENDAR
VERSION:2.0
PRODID:-//digitallernen - ECPv6.10.1.1//NONSGML v1.0//EN
CALSCALE:GREGORIAN
METHOD:PUBLISH
X-ORIGINAL-URL:https://test.digitallernen.ch
X-WR-CALDESC:Veranstaltungen im digitallernen
REFRESH-INTERVAL;VALUE=DURATION:PT1H
X-Robots-Tag:noindex
X-PUBLISHED-TTL:PT1H
BEGIN:VTIMEZONE
TZID:Europe/Zurich
BEGIN:DAYLIGHT
TZOFFSETFROM:+0100
TZOFFSETTO:+0200
TZNAME:CEST
DTSTART:20230326T010000
END:DAYLIGHT
BEGIN:STANDARD
TZOFFSETFROM:+0200
TZOFFSETTO:+0100
TZNAME:CET
DTSTART:20231029T010000
END:STANDARD
END:VTIMEZONE
BEGIN:VEVENT
DTSTART;TZID=Europe/Zurich:20230906T103000
DTEND;TZID=Europe/Zurich:20230906T120000
DTSTAMP:20260419T224441
CREATED:20230512T112819Z
LAST-MODIFIED:20230810T084311Z
UID:10363-1693996200-1694001600@test.digitallernen.ch
SUMMARY:Moodle4all@PH - Online Veranstaltung
DESCRIPTION:Moodle4all@PH ist das Weiterbildungsangebot für Moodle-Anwender*innen aller Kompetenzstufen. In den Weiterbildungen bieten wir sowohl Informationen zur Einführung in den Umgang mit dem Learning Management System Moodle an der Pädagogischen Hochschule FHNW an\, als auch Ideen für sinnvolle didaktische Gestaltungsoptionen\, Beispiele anhand einzelner Moodle-Aktivitäten etc.. \n\nDie Anmeldungen erfolgen nach Eingang (first come – first serve) – Anmeldeschluss ist jeweils 1 Woche vor Durchführung.\nDie 1\,5-stündigen Weiterbildungen im Online-Format werden ab einer Mindestteilnehmendenzahl von 5 Personen durchgeführt.
URL:https://test.digitallernen.ch/termin/moodle4allph-online-veranstaltung/
LOCATION:Online via Zoom
CATEGORIES:Hochschulinterne Weiterbildung
ATTACH;FMTTYPE=image/png:https://test.digitallernen.ch/wp-content/uploads/moodle4all_Banner.png
ORGANIZER;CN="Fachstelle f%C3%BCr digitales Lehren und Lernen FDL":MAILTO:elearning.ph@fhnw.ch
END:VEVENT
BEGIN:VEVENT
DTSTART;TZID=Europe/Zurich:20230906T140000
DTEND;TZID=Europe/Zurich:20230906T153000
DTSTAMP:20260419T224441
CREATED:20230525T102338Z
LAST-MODIFIED:20230829T062313Z
UID:10478-1694008800-1694014200@test.digitallernen.ch
SUMMARY:Appetit: «Tipps zu Prüfungen» – Online
DESCRIPTION:Moodle bietet vielfältige Möglichkeiten\, um die Qualität und Effizienz im E-Prüfungsprozess auf dem Moodle Assessment Server zu erhöhen. In dieser Weiterbildung werden Tipps dazu geteilt. \nE-Prüfungen durchlaufen die Phasen Planung -> Erstellung -> Durchführung -> Korrektur -> Evaluation. In der Weiterbildung sollen die folgenden dazu ausgewählten Themen vorgestellt werden: \n\nKollaboration und Versionierung bei der Erstellung der Fragensammlung\nKonfiguration der Bewertung in Tests\nQualitätskontrolle dank Statistiken\nKonfiguration Bewertungen\nBewertungsskalen\nBewertungsrubriken\n\nIn dieser Appetitveranstaltung demonstriert Frank Koch die vielfältigen Einsatzmöglichkeiten. \nDie Anmeldefrist läuft bis zum 29.08.2023.
URL:https://test.digitallernen.ch/termin/appetit-pruefungen-hs23/
LOCATION:Online via Zoom
CATEGORIES:Appetit,Hochschulinterne Weiterbildung
ATTACH;FMTTYPE=image/jpeg:https://test.digitallernen.ch/wp-content/uploads/E-Pruefung-scaled.jpeg
ORGANIZER;CN="Frank Koch":MAILTO:-
END:VEVENT
BEGIN:VEVENT
DTSTART;TZID=Europe/Zurich:20230912T103000
DTEND;TZID=Europe/Zurich:20230912T120000
DTSTAMP:20260419T224441
CREATED:20230512T112714Z
LAST-MODIFIED:20230512T112714Z
UID:10365-1694514600-1694520000@test.digitallernen.ch
SUMMARY:Moodle4all@PH - Online Veranstaltung
DESCRIPTION:Moodle4all@PH ist das Weiterbildungsangebot für Moodle-Anwender*innen aller Kompetenzstufen. In den Weiterbildungen bieten wir sowohl Informationen zur Einführung in den Umgang mit dem Learning Management System Moodle an der Pädagogischen Hochschule FHNW an\, als auch Ideen für sinnvolle didaktische Gestaltungsoptionen\, Beispiele anhand einzelner Moodle-Aktivitäten etc.. \n\nDie Anmeldungen erfolgen nach Eingang (first come – first serve) – Anmeldeschluss ist jeweils 1 Woche vor Durchführung.\nDie 1\,5-stündigen Weiterbildungen im Online-Format werden ab einer Mindestteilnehmendenzahl von 5 Personen durchgeführt.
URL:https://test.digitallernen.ch/termin/moodle4allph-hs23-2/
LOCATION:Online via Zoom
CATEGORIES:Hochschulinterne Weiterbildung
ATTACH;FMTTYPE=image/png:https://test.digitallernen.ch/wp-content/uploads/moodle4all_Banner.png
ORGANIZER;CN="Fachstelle f%C3%BCr digitales Lehren und Lernen FDL":MAILTO:elearning.ph@fhnw.ch
END:VEVENT
BEGIN:VEVENT
DTSTART;TZID=Europe/Zurich:20230919T083000
DTEND;TZID=Europe/Zurich:20230919T093000
DTSTAMP:20260419T224441
CREATED:20230509T121028Z
LAST-MODIFIED:20230914T073853Z
UID:10251-1695112200-1695115800@test.digitallernen.ch
SUMMARY:Sprechstunde für Hochschullehrende - online
DESCRIPTION:Diese Sprechstunde findet über Zoom statt. Sie können sich über diesen Link und mit Ihrem FHNW Login mit dem Zoom-Raum verbinden. \nHier gehts zur Sprechstunde.
URL:https://test.digitallernen.ch/termin/sprechstunde-fuer-hochschullehrende-online/
LOCATION:Online via Zoom
CATEGORIES:Beratung,Sprechstunde Hochschulehrende
ATTACH;FMTTYPE=image/png:https://test.digitallernen.ch/wp-content/uploads/BeratungSprechstunde.png
ORGANIZER;CN="Fachstelle f%C3%BCr digitales Lehren und Lernen FDL":MAILTO:elearning.ph@fhnw.ch
END:VEVENT
BEGIN:VEVENT
DTSTART;TZID=Europe/Zurich:20230919T103000
DTEND;TZID=Europe/Zurich:20230919T120000
DTSTAMP:20260419T224441
CREATED:20230512T112737Z
LAST-MODIFIED:20230512T112737Z
UID:10367-1695119400-1695124800@test.digitallernen.ch
SUMMARY:Moodle4all@PH - Online Veranstaltung
DESCRIPTION:Moodle4all@PH ist das Weiterbildungsangebot für Moodle-Anwender*innen aller Kompetenzstufen. In den Weiterbildungen bieten wir sowohl Informationen zur Einführung in den Umgang mit dem Learning Management System Moodle an der Pädagogischen Hochschule FHNW an\, als auch Ideen für sinnvolle didaktische Gestaltungsoptionen\, Beispiele anhand einzelner Moodle-Aktivitäten etc.. \n\nDie Anmeldungen erfolgen nach Eingang (first come – first serve) – Anmeldeschluss ist jeweils 1 Woche vor Durchführung.\nDie 1\,5-stündigen Weiterbildungen im Online-Format werden ab einer Mindestteilnehmendenzahl von 5 Personen durchgeführt.
URL:https://test.digitallernen.ch/termin/moodle4allph-hs23-3/
LOCATION:Online via Zoom
CATEGORIES:Hochschulinterne Weiterbildung
ATTACH;FMTTYPE=image/png:https://test.digitallernen.ch/wp-content/uploads/moodle4all_Banner.png
ORGANIZER;CN="Fachstelle f%C3%BCr digitales Lehren und Lernen FDL":MAILTO:elearning.ph@fhnw.ch
END:VEVENT
BEGIN:VEVENT
DTSTART;TZID=Europe/Zurich:20230920T083000
DTEND;TZID=Europe/Zurich:20230920T093000
DTSTAMP:20260419T224441
CREATED:20230509T121418Z
LAST-MODIFIED:20230621T111537Z
UID:10255-1695198600-1695202200@test.digitallernen.ch
SUMMARY:Sprechstunde für Hochschullehrende - online
DESCRIPTION:Diese Sprechstunde findet über Zoom statt. Sie können sich über diesen Link und mit Ihrem FHNW Login mit dem Zoom-Raum verbinden.
URL:https://test.digitallernen.ch/termin/sprechstunde-fuer-hochschullehrende-online-2/
LOCATION:Online via Zoom
CATEGORIES:Beratung,Sprechstunde Hochschulehrende
ATTACH;FMTTYPE=image/png:https://test.digitallernen.ch/wp-content/uploads/BeratungSprechstunde.png
ORGANIZER;CN="Fachstelle f%C3%BCr digitales Lehren und Lernen FDL":MAILTO:elearning.ph@fhnw.ch
END:VEVENT
BEGIN:VEVENT
DTSTART;TZID=Europe/Zurich:20230922T100000
DTEND;TZID=Europe/Zurich:20230922T110000
DTSTAMP:20260419T224441
CREATED:20230509T144735Z
LAST-MODIFIED:20230621T112023Z
UID:10357-1695376800-1695380400@test.digitallernen.ch
SUMMARY:Sprechstunde für Hochschullehrende in Solothurn
DESCRIPTION:Diese Sprechstunde findet vor Ort in Solothurn statt. Online-Sprechstunden finden Sie in unserem Kalender.
URL:https://test.digitallernen.ch/termin/sprechstunde-praesenz-3/
LOCATION:Standort Solothurn – Raum A200\, Obere Sternengasse 7\, Solothurn\, 4502\, Switzerland
CATEGORIES:Beratung,Sprechstunde Hochschulehrende
ATTACH;FMTTYPE=image/png:https://test.digitallernen.ch/wp-content/uploads/BeratungSprechstunde.png
ORGANIZER;CN="Fachstelle f%C3%BCr digitales Lehren und Lernen FDL":MAILTO:elearning.ph@fhnw.ch
END:VEVENT
BEGIN:VEVENT
DTSTART;TZID=Europe/Zurich:20230922T130000
DTEND;TZID=Europe/Zurich:20230922T140000
DTSTAMP:20260419T224441
CREATED:20230509T143339Z
LAST-MODIFIED:20230901T084741Z
UID:10339-1695387600-1695391200@test.digitallernen.ch
SUMMARY:Sprechstunde für Hochschullehrende am Campus Brugg-Windisch
DESCRIPTION:Diese Sprechstunde findet vor Ort in Brugg-Windisch statt. Online-Sprechstunden finden Sie in unserem Kalender.
URL:https://test.digitallernen.ch/termin/sprechstunde-praesenz/
LOCATION:Campus Brugg Windisch – Raum 6.4D30\, Bahnhofstrasse 6\, Windisch\, 5210\, Switzerland
CATEGORIES:Beratung,Sprechstunde Hochschulehrende
ATTACH;FMTTYPE=image/png:https://test.digitallernen.ch/wp-content/uploads/BeratungSprechstunde.png
ORGANIZER;CN="Fachstelle f%C3%BCr digitales Lehren und Lernen FDL":MAILTO:elearning.ph@fhnw.ch
END:VEVENT
BEGIN:VEVENT
DTSTART;TZID=Europe/Zurich:20230925T100000
DTEND;TZID=Europe/Zurich:20230925T110000
DTSTAMP:20260419T224441
CREATED:20230512T120048Z
LAST-MODIFIED:20230512T120048Z
UID:10431-1695636000-1695639600@test.digitallernen.ch
SUMMARY:DigiLearn4Students-Sprechstunde - Campus Brugg-Windisch - Raum 6.4D30
DESCRIPTION:
URL:https://test.digitallernen.ch/termin/20230322-sprechstunde-studierende-cwb-4/
LOCATION:Campus Brugg Windisch – Raum 6.4D30\, Bahnhofstrasse 6\, Windisch\, 5210\, Switzerland
CATEGORIES:Sprechstunde Studierende
ATTACH;FMTTYPE=image/jpeg:https://test.digitallernen.ch/wp-content/uploads/Sprechstunden-DL4S.jpg
ORGANIZER;CN="Fachstelle f%C3%BCr digitales Lehren und Lernen FDL":MAILTO:elearning.ph@fhnw.ch
END:VEVENT
BEGIN:VEVENT
DTSTART;TZID=Europe/Zurich:20230925T100000
DTEND;TZID=Europe/Zurich:20230925T110000
DTSTAMP:20260419T224441
CREATED:20230512T120147Z
LAST-MODIFIED:20230512T120147Z
UID:10423-1695636000-1695639600@test.digitallernen.ch
SUMMARY:DigiLearn4Students-Sprechstunde - Campus Muttenz - Raum 10.N.01
DESCRIPTION:
URL:https://test.digitallernen.ch/termin/sprechstunde-studierende-cmu-hs23/
LOCATION:Campus Muttenz – Raum 10.N.01\, Hofackerstrasse 30\, Muttenz\, 4132\, Switzerland
CATEGORIES:Sprechstunde Studierende
ATTACH;FMTTYPE=image/jpeg:https://test.digitallernen.ch/wp-content/uploads/Sprechstunden-DL4S.jpg
ORGANIZER;CN="Fachstelle f%C3%BCr digitales Lehren und Lernen FDL":MAILTO:elearning.ph@fhnw.ch
END:VEVENT
BEGIN:VEVENT
DTSTART;TZID=Europe/Zurich:20230926T083000
DTEND;TZID=Europe/Zurich:20230926T093000
DTSTAMP:20260419T224441
CREATED:20230509T121636Z
LAST-MODIFIED:20230621T111537Z
UID:10258-1695717000-1695720600@test.digitallernen.ch
SUMMARY:Sprechstunde für Hochschullehrende - online
DESCRIPTION:Diese Sprechstunde findet über Zoom statt. Sie können sich über diesen Link und mit Ihrem FHNW Login mit dem Zoom-Raum verbinden.
URL:https://test.digitallernen.ch/termin/sprechstunde-fuer-hochschullehrende-online-3/
LOCATION:Online via Zoom
CATEGORIES:Beratung,Sprechstunde Hochschulehrende
ATTACH;FMTTYPE=image/png:https://test.digitallernen.ch/wp-content/uploads/BeratungSprechstunde.png
ORGANIZER;CN="Fachstelle f%C3%BCr digitales Lehren und Lernen FDL":MAILTO:elearning.ph@fhnw.ch
END:VEVENT
BEGIN:VEVENT
DTSTART;TZID=Europe/Zurich:20230926T100000
DTEND;TZID=Europe/Zurich:20230926T110000
DTSTAMP:20260419T224441
CREATED:20230509T143755Z
LAST-MODIFIED:20230621T112023Z
UID:10343-1695722400-1695726000@test.digitallernen.ch
SUMMARY:Sprechstunde für Hochschullehrende am Campus Brugg-Windisch
DESCRIPTION:Diese Sprechstunde findet vor Ort in Brugg-Windisch statt. Online-Sprechstunden finden Sie in unserem Kalender.
URL:https://test.digitallernen.ch/termin/sprechstunde-praesenz-2/
LOCATION:Campus Brugg Windisch – Raum 6.4D30\, Bahnhofstrasse 6\, Windisch\, 5210\, Switzerland
CATEGORIES:Beratung,Sprechstunde Hochschulehrende
ATTACH;FMTTYPE=image/png:https://test.digitallernen.ch/wp-content/uploads/BeratungSprechstunde.png
ORGANIZER;CN="Fachstelle f%C3%BCr digitales Lehren und Lernen FDL":MAILTO:elearning.ph@fhnw.ch
END:VEVENT
BEGIN:VEVENT
DTSTART;TZID=Europe/Zurich:20230926T110000
DTEND;TZID=Europe/Zurich:20230926T120000
DTSTAMP:20260419T224441
CREATED:20230512T113405Z
LAST-MODIFIED:20230512T120357Z
UID:10395-1695726000-1695729600@test.digitallernen.ch
SUMMARY:DigiLearn4Students-Sprechstunde - online
DESCRIPTION:Online: Link zur Zoom-Sitzung
URL:https://test.digitallernen.ch/termin/sprechstunde-studierende-online-hs23/
LOCATION:Online via Zoom
CATEGORIES:Sprechstunde Studierende
ATTACH;FMTTYPE=image/jpeg:https://test.digitallernen.ch/wp-content/uploads/Sprechstunden-DL4S.jpg
ORGANIZER;CN="Fachstelle f%C3%BCr digitales Lehren und Lernen FDL":MAILTO:elearning.ph@fhnw.ch
END:VEVENT
BEGIN:VEVENT
DTSTART;TZID=Europe/Zurich:20230926T173000
DTEND;TZID=Europe/Zurich:20230926T190000
DTSTAMP:20260419T224441
CREATED:20230719T104540Z
LAST-MODIFIED:20230921T140210Z
UID:10661-1695749400-1695754800@test.digitallernen.ch
SUMMARY:Appetit «E-Prüfung: Fragesammlung in Moodle» – Online
DESCRIPTION:Moodle bietet mit der neuen Funktion «Fragesammlung» vielfältige Möglichkeiten\, die Qualität und Effizienz für zukünftige E-Prüfungen zu verbessern. Zusätzlich vereinfacht sie die Verwaltung und Auswertung einzelner Fragen\, dies führt zu Zeitersparnis und zudem ist es möglich\, den Prozess der Frageerstellung zu standardisieren. \nIn dieser Weiterbildung werden Hinweise und Tipps dazu geteilt. Die Funktion «Fragesammlung» bietet beispielsweise die Gelegenheit\, als Team kollaborativ an einer gemeinsamen Fragesammlung zu arbeiten oder auch als einzelne Person einen standardisierten Prozess zum Erstellen\, Anpassen und Einsätzen von Fragen zu etablieren. In der Online-Weiterbildung werden die folgenden dazu ausgewählten Themen\, mit Blick auf die «Fragesammlung»\, vorgestellt: \n\nKollaboration und Versionierung bei der Erstellung von Fragen\nverschiedene Fragetypen\nStatistiken und Werte\n\nIn dieser Appetit-Veranstaltung der  Fachstelle Digitales Lehren und Lernen (FDL) demonstrieren Kathrin Kochs und Sarah Dina Kohl die vielfältigen Aspekte der neuen Fragesammlung auf Moodle.\nGerne können auch Fragen im Vorfeld an elearning.ph@fhnw.ch gesendet werden\, so dass wir diese bestmöglich in die Appetit-Veranstaltung aufnehmen können. \nAb sofort bis zum 16.09.2023 können Sie sich anmelden sowie Fragen einreichen. Wir freuen uns! \n 
URL:https://test.digitallernen.ch/termin/appetit-fragesammlunghs23/
LOCATION:Online via Zoom
CATEGORIES:Appetit,Hochschulinterne Weiterbildung
ATTACH;FMTTYPE=image/png:https://test.digitallernen.ch/wp-content/uploads/image001-1.png
ORGANIZER;CN="Kathrin Kochs":MAILTO:kathrin.kochs@fhnw.ch
END:VEVENT
BEGIN:VEVENT
DTSTART;TZID=Europe/Zurich:20230927T100000
DTEND;TZID=Europe/Zurich:20230927T110000
DTSTAMP:20260419T224441
CREATED:20230509T144325Z
LAST-MODIFIED:20230621T112023Z
UID:10349-1695808800-1695812400@test.digitallernen.ch
SUMMARY:Sprechstunde für Hochschullehrende am Campus Muttenz
DESCRIPTION:Diese Sprechstunde findet vor Ort in Muttenz statt. Online-Sprechstunden finden Sie in unserem Kalender.
URL:https://test.digitallernen.ch/termin/sprechstunde-praesenz-cmu/
LOCATION:Campus Muttenz – Raum 10.N.01\, Hofackerstrasse 30\, Muttenz\, 4132\, Switzerland
CATEGORIES:Beratung,Sprechstunde Hochschulehrende
ATTACH;FMTTYPE=image/png:https://test.digitallernen.ch/wp-content/uploads/BeratungSprechstunde.png
ORGANIZER;CN="Fachstelle f%C3%BCr digitales Lehren und Lernen FDL":MAILTO:elearning.ph@fhnw.ch
END:VEVENT
BEGIN:VEVENT
DTSTART;TZID=Europe/Zurich:20230929T160000
DTEND;TZID=Europe/Zurich:20230929T170000
DTSTAMP:20260419T224441
CREATED:20230509T121712Z
LAST-MODIFIED:20230925T091303Z
UID:10260-1696003200-1696006800@test.digitallernen.ch
SUMMARY:Sprechstunde für Hochschullehrende - online
DESCRIPTION:Diese Sprechstunde findet über Zoom statt. Sie können sich über diesen Link und mit Ihrem FHNW Login mit dem Zoom-Raum verbinden.
URL:https://test.digitallernen.ch/termin/sprechstunde-fuer-hochschullehrende-online-2-2/
LOCATION:Online via Zoom
CATEGORIES:Beratung,Sprechstunde Hochschulehrende
ATTACH;FMTTYPE=image/png:https://test.digitallernen.ch/wp-content/uploads/BeratungSprechstunde.png
ORGANIZER;CN="Fachstelle f%C3%BCr digitales Lehren und Lernen FDL":MAILTO:elearning.ph@fhnw.ch
END:VEVENT
BEGIN:VEVENT
DTSTART;TZID=Europe/Zurich:20231003T083000
DTEND;TZID=Europe/Zurich:20231003T093000
DTSTAMP:20260419T224441
CREATED:20230509T121750Z
LAST-MODIFIED:20230621T111536Z
UID:10262-1696321800-1696325400@test.digitallernen.ch
SUMMARY:Sprechstunde für Hochschullehrende - online
DESCRIPTION:Diese Sprechstunde findet über Zoom statt. Sie können sich über diesen Link und mit Ihrem FHNW Login mit dem Zoom-Raum verbinden.
URL:https://test.digitallernen.ch/termin/sprechstunde-fuer-hochschullehrende-online-3-2/
LOCATION:Online via Zoom
CATEGORIES:Beratung,Sprechstunde Hochschulehrende
ATTACH;FMTTYPE=image/png:https://test.digitallernen.ch/wp-content/uploads/BeratungSprechstunde.png
ORGANIZER;CN="Fachstelle f%C3%BCr digitales Lehren und Lernen FDL":MAILTO:elearning.ph@fhnw.ch
END:VEVENT
BEGIN:VEVENT
DTSTART;TZID=Europe/Zurich:20231003T100000
DTEND;TZID=Europe/Zurich:20231003T110000
DTSTAMP:20260419T224441
CREATED:20230509T144415Z
LAST-MODIFIED:20230621T112022Z
UID:10351-1696327200-1696330800@test.digitallernen.ch
SUMMARY:Sprechstunde für Hochschullehrende am Campus Muttenz
DESCRIPTION:Diese Sprechstunde findet vor Ort in Muttenz statt. Online-Sprechstunden finden Sie in unserem Kalender.
URL:https://test.digitallernen.ch/termin/sprechstunde-praesenz-cmu-2/
LOCATION:Campus Muttenz – Raum 10.N.01\, Hofackerstrasse 30\, Muttenz\, 4132\, Switzerland
CATEGORIES:Beratung,Sprechstunde Hochschulehrende
ATTACH;FMTTYPE=image/png:https://test.digitallernen.ch/wp-content/uploads/BeratungSprechstunde.png
ORGANIZER;CN="Fachstelle f%C3%BCr digitales Lehren und Lernen FDL":MAILTO:elearning.ph@fhnw.ch
END:VEVENT
BEGIN:VEVENT
DTSTART;TZID=Europe/Zurich:20231003T103000
DTEND;TZID=Europe/Zurich:20231003T120000
DTSTAMP:20260419T224441
CREATED:20230512T112638Z
LAST-MODIFIED:20230925T142220Z
UID:10371-1696329000-1696334400@test.digitallernen.ch
SUMMARY:Moodle4all@PH - Präsenz-Veranstaltung CMU
DESCRIPTION:Moodle4all@PH ist das Weiterbildungsangebot für Moodle-Anwender*innen aller Kompetenzstufen. In den Weiterbildungen bieten wir sowohl Informationen zur Einführung in den Umgang mit dem Learning Management System Moodle an der Pädagogischen Hochschule FHNW an\, als auch Ideen für sinnvolle didaktische Gestaltungsoptionen\, Beispiele anhand einzelner Moodle-Aktivitäten etc.. \n\nDie Anmeldungen erfolgen nach Eingang (first come – first serve) – Anmeldeschluss ist jeweils 1 Woche vor Durchführung.\nDie 1\,5-stündigen Präsenz-Weiterbildungen werden ab einer Mindestteilnehmendenzahl von 5 Personen durchgeführt.
URL:https://test.digitallernen.ch/termin/moodle4allph-hs23-praesenz-cmu/
LOCATION:Campus Muttenz Raum 07.O.14\, Hofackerstrasse 30\, Muttenz\, BL\, 4132\, Switzerland
CATEGORIES:Hochschulinterne Weiterbildung
ATTACH;FMTTYPE=image/png:https://test.digitallernen.ch/wp-content/uploads/moodle4all_Banner.png
ORGANIZER;CN="Fachstelle f%C3%BCr digitales Lehren und Lernen FDL":MAILTO:elearning.ph@fhnw.ch
END:VEVENT
BEGIN:VEVENT
DTSTART;TZID=Europe/Zurich:20231003T110000
DTEND;TZID=Europe/Zurich:20231003T120000
DTSTAMP:20260419T224441
CREATED:20230512T113449Z
LAST-MODIFIED:20230512T120350Z
UID:10397-1696330800-1696334400@test.digitallernen.ch
SUMMARY:DigiLearn4Students-Sprechstunde - online
DESCRIPTION:Online: Link zur Zoom-Sitzung
URL:https://test.digitallernen.ch/termin/sprechstunde-studierende-online-hs23-13/
LOCATION:Online via Zoom
CATEGORIES:Sprechstunde Studierende
ATTACH;FMTTYPE=image/jpeg:https://test.digitallernen.ch/wp-content/uploads/Sprechstunden-DL4S.jpg
ORGANIZER;CN="Fachstelle f%C3%BCr digitales Lehren und Lernen FDL":MAILTO:elearning.ph@fhnw.ch
END:VEVENT
BEGIN:VEVENT
DTSTART;TZID=Europe/Zurich:20231004T103000
DTEND;TZID=Europe/Zurich:20231004T120000
DTSTAMP:20260419T224441
CREATED:20230512T112757Z
LAST-MODIFIED:20230512T112757Z
UID:10368-1696415400-1696420800@test.digitallernen.ch
SUMMARY:Moodle4all@PH - Online Veranstaltung
DESCRIPTION:Moodle4all@PH ist das Weiterbildungsangebot für Moodle-Anwender*innen aller Kompetenzstufen. In den Weiterbildungen bieten wir sowohl Informationen zur Einführung in den Umgang mit dem Learning Management System Moodle an der Pädagogischen Hochschule FHNW an\, als auch Ideen für sinnvolle didaktische Gestaltungsoptionen\, Beispiele anhand einzelner Moodle-Aktivitäten etc.. \n\nDie Anmeldungen erfolgen nach Eingang (first come – first serve) – Anmeldeschluss ist jeweils 1 Woche vor Durchführung.\nDie 1\,5-stündigen Weiterbildungen im Online-Format werden ab einer Mindestteilnehmendenzahl von 5 Personen durchgeführt.
URL:https://test.digitallernen.ch/termin/moodle4allph-hs23-4/
LOCATION:Online via Zoom
CATEGORIES:Hochschulinterne Weiterbildung
ATTACH;FMTTYPE=image/png:https://test.digitallernen.ch/wp-content/uploads/moodle4all_Banner.png
ORGANIZER;CN="Fachstelle f%C3%BCr digitales Lehren und Lernen FDL":MAILTO:elearning.ph@fhnw.ch
END:VEVENT
BEGIN:VEVENT
DTSTART;TZID=Europe/Zurich:20231004T150000
DTEND;TZID=Europe/Zurich:20231004T160000
DTSTAMP:20260419T224441
CREATED:20230509T121821Z
LAST-MODIFIED:20231002T072036Z
UID:10264-1696431600-1696435200@test.digitallernen.ch
SUMMARY:Sprechstunde für Hochschullehrende - online
DESCRIPTION:Diese Sprechstunde findet über Zoom statt. Sie können sich über diesen Link und mit Ihrem FHNW Login mit dem Zoom-Raum verbinden.
URL:https://test.digitallernen.ch/termin/sprechstunde-fuer-hochschullehrende-online-2-2-2/
LOCATION:Online via Zoom
CATEGORIES:Beratung,Sprechstunde Hochschulehrende
ATTACH;FMTTYPE=image/png:https://test.digitallernen.ch/wp-content/uploads/BeratungSprechstunde.png
ORGANIZER;CN="Fachstelle f%C3%BCr digitales Lehren und Lernen FDL":MAILTO:elearning.ph@fhnw.ch
END:VEVENT
BEGIN:VEVENT
DTSTART;TZID=Europe/Zurich:20231010T083000
DTEND;TZID=Europe/Zurich:20231010T093000
DTSTAMP:20260419T224441
CREATED:20230509T123800Z
LAST-MODIFIED:20230621T111536Z
UID:10266-1696926600-1696930200@test.digitallernen.ch
SUMMARY:Sprechstunde für Hochschullehrende - online
DESCRIPTION:Diese Sprechstunde findet über Zoom statt. Sie können sich über diesen Link und mit Ihrem FHNW Login mit dem Zoom-Raum verbinden.
URL:https://test.digitallernen.ch/termin/sprechstunde-fuer-hochschullehrende-online-2-2-2-2/
LOCATION:Online via Zoom
CATEGORIES:Beratung,Sprechstunde Hochschulehrende
ATTACH;FMTTYPE=image/png:https://test.digitallernen.ch/wp-content/uploads/BeratungSprechstunde.png
ORGANIZER;CN="Fachstelle f%C3%BCr digitales Lehren und Lernen FDL":MAILTO:elearning.ph@fhnw.ch
END:VEVENT
BEGIN:VEVENT
DTSTART;TZID=Europe/Zurich:20231010T110000
DTEND;TZID=Europe/Zurich:20231010T120000
DTSTAMP:20260419T224441
CREATED:20230512T113519Z
LAST-MODIFIED:20230512T120345Z
UID:10399-1696935600-1696939200@test.digitallernen.ch
SUMMARY:DigiLearn4Students-Sprechstunde - online
DESCRIPTION:Online: Link zur Zoom-Sitzung
URL:https://test.digitallernen.ch/termin/sprechstunde-studierende-online-hs23-12/
LOCATION:Online via Zoom
CATEGORIES:Sprechstunde Studierende
ATTACH;FMTTYPE=image/jpeg:https://test.digitallernen.ch/wp-content/uploads/Sprechstunden-DL4S.jpg
ORGANIZER;CN="Fachstelle f%C3%BCr digitales Lehren und Lernen FDL":MAILTO:elearning.ph@fhnw.ch
END:VEVENT
BEGIN:VEVENT
DTSTART;TZID=Europe/Zurich:20231011T150000
DTEND;TZID=Europe/Zurich:20231011T160000
DTSTAMP:20260419T224441
CREATED:20230509T123844Z
LAST-MODIFIED:20231002T072219Z
UID:10268-1697036400-1697040000@test.digitallernen.ch
SUMMARY:Sprechstunde für Hochschullehrende - online
DESCRIPTION:Diese Sprechstunde findet über Zoom statt. Sie können sich über diesen Link und mit Ihrem FHNW Login mit dem Zoom-Raum verbinden.
URL:https://test.digitallernen.ch/termin/sprechstunde-fuer-hochschullehrende-online-2-2-2-2-2/
LOCATION:Online via Zoom
CATEGORIES:Beratung,Sprechstunde Hochschulehrende
ATTACH;FMTTYPE=image/png:https://test.digitallernen.ch/wp-content/uploads/BeratungSprechstunde.png
ORGANIZER;CN="Fachstelle f%C3%BCr digitales Lehren und Lernen FDL":MAILTO:elearning.ph@fhnw.ch
END:VEVENT
BEGIN:VEVENT
DTSTART;TZID=Europe/Zurich:20231017T083000
DTEND;TZID=Europe/Zurich:20231017T093000
DTSTAMP:20260419T224441
CREATED:20230509T123914Z
LAST-MODIFIED:20230621T111536Z
UID:10270-1697531400-1697535000@test.digitallernen.ch
SUMMARY:Sprechstunde für Hochschullehrende - online
DESCRIPTION:Diese Sprechstunde findet über Zoom statt. Sie können sich über diesen Link und mit Ihrem FHNW Login mit dem Zoom-Raum verbinden.
URL:https://test.digitallernen.ch/termin/sprechstunde-fuer-hochschullehrende-online-2-2-2-2-2-2/
LOCATION:Online via Zoom
CATEGORIES:Beratung,Sprechstunde Hochschulehrende
ATTACH;FMTTYPE=image/png:https://test.digitallernen.ch/wp-content/uploads/BeratungSprechstunde.png
ORGANIZER;CN="Fachstelle f%C3%BCr digitales Lehren und Lernen FDL":MAILTO:elearning.ph@fhnw.ch
END:VEVENT
BEGIN:VEVENT
DTSTART;TZID=Europe/Zurich:20231017T110000
DTEND;TZID=Europe/Zurich:20231017T120000
DTSTAMP:20260419T224441
CREATED:20230512T113547Z
LAST-MODIFIED:20230512T120339Z
UID:10401-1697540400-1697544000@test.digitallernen.ch
SUMMARY:DigiLearn4Students-Sprechstunde - online
DESCRIPTION:Online: Link zur Zoom-Sitzung
URL:https://test.digitallernen.ch/termin/sprechstunde-studierende-online-hs23-11/
LOCATION:Online via Zoom
CATEGORIES:Sprechstunde Studierende
ATTACH;FMTTYPE=image/jpeg:https://test.digitallernen.ch/wp-content/uploads/Sprechstunden-DL4S.jpg
ORGANIZER;CN="Fachstelle f%C3%BCr digitales Lehren und Lernen FDL":MAILTO:elearning.ph@fhnw.ch
END:VEVENT
BEGIN:VEVENT
DTSTART;TZID=Europe/Zurich:20231018T150000
DTEND;TZID=Europe/Zurich:20231018T160000
DTSTAMP:20260419T224441
CREATED:20230509T124006Z
LAST-MODIFIED:20231002T072338Z
UID:10273-1697641200-1697644800@test.digitallernen.ch
SUMMARY:Sprechstunde für Hochschullehrende - online
DESCRIPTION:Diese Sprechstunde findet über Zoom statt. Sie können sich über diesen Link und mit Ihrem FHNW Login mit dem Zoom-Raum verbinden.
URL:https://test.digitallernen.ch/termin/sprechstunde-fuer-hochschullehrende-online-4/
LOCATION:Online via Zoom
CATEGORIES:Beratung,Sprechstunde Hochschulehrende
ATTACH;FMTTYPE=image/png:https://test.digitallernen.ch/wp-content/uploads/BeratungSprechstunde.png
ORGANIZER;CN="Fachstelle f%C3%BCr digitales Lehren und Lernen FDL":MAILTO:elearning.ph@fhnw.ch
END:VEVENT
BEGIN:VEVENT
DTSTART;TZID=Europe/Zurich:20231023T100000
DTEND;TZID=Europe/Zurich:20231023T110000
DTSTAMP:20260419T224441
CREATED:20230512T120135Z
LAST-MODIFIED:20230512T120135Z
UID:10425-1698055200-1698058800@test.digitallernen.ch
SUMMARY:DigiLearn4Students-Sprechstunde - Campus Muttenz - Raum 10.N.01
DESCRIPTION:
URL:https://test.digitallernen.ch/termin/sprechstunde-studierende-cmu-hs23-4/
LOCATION:Campus Muttenz – Raum 10.N.01\, Hofackerstrasse 30\, Muttenz\, 4132\, Switzerland
CATEGORIES:Sprechstunde Studierende
ATTACH;FMTTYPE=image/jpeg:https://test.digitallernen.ch/wp-content/uploads/Sprechstunden-DL4S.jpg
ORGANIZER;CN="Fachstelle f%C3%BCr digitales Lehren und Lernen FDL":MAILTO:elearning.ph@fhnw.ch
END:VEVENT
BEGIN:VEVENT
DTSTART;TZID=Europe/Zurich:20231024T083000
DTEND;TZID=Europe/Zurich:20231024T093000
DTSTAMP:20260419T224441
CREATED:20230509T124114Z
LAST-MODIFIED:20230621T111536Z
UID:10277-1698136200-1698139800@test.digitallernen.ch
SUMMARY:Sprechstunde für Hochschullehrende - online
DESCRIPTION:Diese Sprechstunde findet über Zoom statt. Sie können sich über diesen Link und mit Ihrem FHNW Login mit dem Zoom-Raum verbinden.
URL:https://test.digitallernen.ch/termin/sprechstunde-fuer-hochschullehrende-online-5/
LOCATION:Online via Zoom
CATEGORIES:Beratung,Sprechstunde Hochschulehrende
ATTACH;FMTTYPE=image/png:https://test.digitallernen.ch/wp-content/uploads/BeratungSprechstunde.png
ORGANIZER;CN="Fachstelle f%C3%BCr digitales Lehren und Lernen FDL":MAILTO:elearning.ph@fhnw.ch
END:VEVENT
END:VCALENDAR