BEGIN:VCALENDAR
VERSION:2.0
PRODID:-//digitallernen - ECPv6.10.1.1//NONSGML v1.0//EN
CALSCALE:GREGORIAN
METHOD:PUBLISH
X-ORIGINAL-URL:https://test.digitallernen.ch
X-WR-CALDESC:Veranstaltungen im digitallernen
REFRESH-INTERVAL;VALUE=DURATION:PT1H
X-Robots-Tag:noindex
X-PUBLISHED-TTL:PT1H
BEGIN:VTIMEZONE
TZID:Europe/Zurich
BEGIN:DAYLIGHT
TZOFFSETFROM:+0100
TZOFFSETTO:+0200
TZNAME:CEST
DTSTART:20230326T010000
END:DAYLIGHT
BEGIN:STANDARD
TZOFFSETFROM:+0200
TZOFFSETTO:+0100
TZNAME:CET
DTSTART:20231029T010000
END:STANDARD
END:VTIMEZONE
BEGIN:VEVENT
DTSTART;TZID=Europe/Zurich:20230320T090000
DTEND;TZID=Europe/Zurich:20230320T100000
DTSTAMP:20260420T081521
CREATED:20221125T095750Z
LAST-MODIFIED:20221125T095750Z
UID:9407-1679302800-1679306400@test.digitallernen.ch
SUMMARY:DigiLearn4Students-Sprechstunde - Campus Muttenz - Raum 10.N.01
DESCRIPTION:
URL:https://test.digitallernen.ch/termin/20230320-sprechstunde-studierende-cmu/
LOCATION:Campus Muttenz – Raum 10.N.01\, Hofackerstrasse 30\, Muttenz\, 4132\, Switzerland
CATEGORIES:Sprechstunde Studierende
ATTACH;FMTTYPE=image/jpeg:https://test.digitallernen.ch/wp-content/uploads/Sprechstunden-DL4S.jpg
ORGANIZER;CN="Fachstelle f%C3%BCr digitales Lehren und Lernen FDL":MAILTO:elearning.ph@fhnw.ch
END:VEVENT
BEGIN:VEVENT
DTSTART;TZID=Europe/Zurich:20230321T120000
DTEND;TZID=Europe/Zurich:20230321T130000
DTSTAMP:20260420T081521
CREATED:20221125T092036Z
LAST-MODIFIED:20221125T092036Z
UID:9371-1679400000-1679403600@test.digitallernen.ch
SUMMARY:DigiLearn4Students-Sprechstunde - online
DESCRIPTION:Online: Link zur Zoom-Sitzung
URL:https://test.digitallernen.ch/termin/20230321-sprechstunde-studierende-online/
LOCATION:Online via Zoom
CATEGORIES:Sprechstunde Studierende
ATTACH;FMTTYPE=image/jpeg:https://test.digitallernen.ch/wp-content/uploads/Sprechstunden-DL4S.jpg
ORGANIZER;CN="Fachstelle f%C3%BCr digitales Lehren und Lernen FDL":MAILTO:elearning.ph@fhnw.ch
END:VEVENT
BEGIN:VEVENT
DTSTART;TZID=Europe/Zurich:20230321T150000
DTEND;TZID=Europe/Zurich:20230321T160000
DTSTAMP:20260420T081521
CREATED:20230117T094729Z
LAST-MODIFIED:20230117T094729Z
UID:9710-1679410800-1679414400@test.digitallernen.ch
SUMMARY:Sprechstunde für Hochschullehrende - online
DESCRIPTION:Online: Link zur Zoom-Sitzung
URL:https://test.digitallernen.ch/termin/20230321-sprechstunde-hochschullehrende-online/
LOCATION:Online via Zoom
CATEGORIES:Sprechstunde Hochschulehrende
ATTACH;FMTTYPE=image/png:https://test.digitallernen.ch/wp-content/uploads/BeratungSprechstunde.png
ORGANIZER;CN="Fachstelle f%C3%BCr digitales Lehren und Lernen FDL":MAILTO:elearning.ph@fhnw.ch
END:VEVENT
BEGIN:VEVENT
DTSTART;TZID=Europe/Zurich:20230322T090000
DTEND;TZID=Europe/Zurich:20230322T100000
DTSTAMP:20260420T081521
CREATED:20221125T094948Z
LAST-MODIFIED:20221125T095257Z
UID:9399-1679475600-1679479200@test.digitallernen.ch
SUMMARY:DigiLearn4Students-Sprechstunde - Campus Brugg-Windisch - Raum 6.4D30
DESCRIPTION:
URL:https://test.digitallernen.ch/termin/20230322-sprechstunde-studierende-cwb/
LOCATION:Campus Brugg Windisch – Raum 6.4D30\, Bahnhofstrasse 6\, Windisch\, 5210\, Switzerland
CATEGORIES:Sprechstunde Studierende
ATTACH;FMTTYPE=image/jpeg:https://test.digitallernen.ch/wp-content/uploads/Sprechstunden-DL4S.jpg
ORGANIZER;CN="Fachstelle f%C3%BCr digitales Lehren und Lernen FDL":MAILTO:elearning.ph@fhnw.ch
END:VEVENT
BEGIN:VEVENT
DTSTART;TZID=Europe/Zurich:20230323T100000
DTEND;TZID=Europe/Zurich:20230323T110000
DTSTAMP:20260420T081521
CREATED:20230117T100419Z
LAST-MODIFIED:20230117T100419Z
UID:9734-1679565600-1679569200@test.digitallernen.ch
SUMMARY:Sprechstunde für Hochschullehrende - online
DESCRIPTION:Online: Link zur Zoom-Sitzung
URL:https://test.digitallernen.ch/termin/20230323-sprechstunde-hochschullehrende-online/
LOCATION:Online via Zoom
CATEGORIES:Sprechstunde Hochschulehrende
ATTACH;FMTTYPE=image/png:https://test.digitallernen.ch/wp-content/uploads/BeratungSprechstunde.png
ORGANIZER;CN="Fachstelle f%C3%BCr digitales Lehren und Lernen FDL":MAILTO:elearning.ph@fhnw.ch
END:VEVENT
BEGIN:VEVENT
DTSTART;TZID=Europe/Zurich:20230328T120000
DTEND;TZID=Europe/Zurich:20230328T130000
DTSTAMP:20260420T081521
CREATED:20221125T092136Z
LAST-MODIFIED:20221125T092136Z
UID:9373-1680004800-1680008400@test.digitallernen.ch
SUMMARY:DigiLearn4Students-Sprechstunde - online
DESCRIPTION:Online: Link zur Zoom-Sitzung
URL:https://test.digitallernen.ch/termin/20230328-sprechstunde-studierende-online/
LOCATION:Online via Zoom
CATEGORIES:Sprechstunde Studierende
ATTACH;FMTTYPE=image/jpeg:https://test.digitallernen.ch/wp-content/uploads/Sprechstunden-DL4S.jpg
ORGANIZER;CN="Fachstelle f%C3%BCr digitales Lehren und Lernen FDL":MAILTO:elearning.ph@fhnw.ch
END:VEVENT
BEGIN:VEVENT
DTSTART;TZID=Europe/Zurich:20230328T150000
DTEND;TZID=Europe/Zurich:20230328T160000
DTSTAMP:20260420T081521
CREATED:20221214T093527Z
LAST-MODIFIED:20221214T093527Z
UID:9650-1680015600-1680019200@test.digitallernen.ch
SUMMARY:Sprechstunde für Hochschullehrende – Campus Brugg-Windisch
DESCRIPTION:
URL:https://test.digitallernen.ch/termin/20230328-sprechstunde-hochschullehrende-cbw/
LOCATION:Campus Brugg Windisch – Raum 6.4D30\, Bahnhofstrasse 6\, Windisch\, 5210\, Switzerland
CATEGORIES:Sprechstunde Hochschulehrende
ATTACH;FMTTYPE=image/png:https://test.digitallernen.ch/wp-content/uploads/BeratungSprechstunde.png
ORGANIZER;CN="Fachstelle f%C3%BCr digitales Lehren und Lernen FDL":MAILTO:elearning.ph@fhnw.ch
END:VEVENT
BEGIN:VEVENT
DTSTART;TZID=Europe/Zurich:20230328T150000
DTEND;TZID=Europe/Zurich:20230328T160000
DTSTAMP:20260420T081521
CREATED:20230117T094810Z
LAST-MODIFIED:20230117T094810Z
UID:9712-1680015600-1680019200@test.digitallernen.ch
SUMMARY:Sprechstunde für Hochschullehrende - online
DESCRIPTION:Online: Link zur Zoom-Sitzung
URL:https://test.digitallernen.ch/termin/20230328-sprechstunde-hochschullehrende-online/
LOCATION:Online via Zoom
CATEGORIES:Sprechstunde Hochschulehrende
ATTACH;FMTTYPE=image/png:https://test.digitallernen.ch/wp-content/uploads/BeratungSprechstunde.png
ORGANIZER;CN="Fachstelle f%C3%BCr digitales Lehren und Lernen FDL":MAILTO:elearning.ph@fhnw.ch
END:VEVENT
BEGIN:VEVENT
DTSTART;TZID=Europe/Zurich:20230330T100000
DTEND;TZID=Europe/Zurich:20230330T110000
DTSTAMP:20260420T081521
CREATED:20230117T100530Z
LAST-MODIFIED:20230117T100530Z
UID:9737-1680170400-1680174000@test.digitallernen.ch
SUMMARY:Sprechstunde für Hochschullehrende - online
DESCRIPTION:Online: Link zur Zoom-Sitzung
URL:https://test.digitallernen.ch/termin/20230330-sprechstunde-hochschullehrende-online/
LOCATION:Online via Zoom
CATEGORIES:Sprechstunde Hochschulehrende
ATTACH;FMTTYPE=image/png:https://test.digitallernen.ch/wp-content/uploads/BeratungSprechstunde.png
ORGANIZER;CN="Fachstelle f%C3%BCr digitales Lehren und Lernen FDL":MAILTO:elearning.ph@fhnw.ch
END:VEVENT
BEGIN:VEVENT
DTSTART;TZID=Europe/Zurich:20230330T133000
DTEND;TZID=Europe/Zurich:20230330T143000
DTSTAMP:20260420T081521
CREATED:20221125T100228Z
LAST-MODIFIED:20221125T100228Z
UID:9413-1680183000-1680186600@test.digitallernen.ch
SUMMARY:DigiLearn4Students-Sprechstunde - Standort Solothurn - Raum A200
DESCRIPTION:
URL:https://test.digitallernen.ch/termin/20230330-sprechstunde-studierende-so/
LOCATION:Standort Solothurn – Raum A200\, Obere Sternengasse 7\, Solothurn\, 4502\, Switzerland
CATEGORIES:Sprechstunde Studierende
ATTACH;FMTTYPE=image/jpeg:https://test.digitallernen.ch/wp-content/uploads/Sprechstunden-DL4S.jpg
ORGANIZER;CN="Fachstelle f%C3%BCr digitales Lehren und Lernen FDL":MAILTO:elearning.ph@fhnw.ch
END:VEVENT
BEGIN:VEVENT
DTSTART;TZID=Europe/Zurich:20230404T100000
DTEND;TZID=Europe/Zurich:20230404T110000
DTSTAMP:20260420T081521
CREATED:20221214T094424Z
LAST-MODIFIED:20221216T084757Z
UID:9656-1680602400-1680606000@test.digitallernen.ch
SUMMARY:Sprechstunde für Hochschullehrende – Campus Muttenz
DESCRIPTION:
URL:https://test.digitallernen.ch/termin/20230405-sprechstunde-hochschullehrende-cmu/
LOCATION:Campus Muttenz – Raum 10.N.01\, Hofackerstrasse 30\, Muttenz\, 4132\, Switzerland
CATEGORIES:Sprechstunde Hochschulehrende
ATTACH;FMTTYPE=image/png:https://test.digitallernen.ch/wp-content/uploads/BeratungSprechstunde.png
ORGANIZER;CN="Fachstelle f%C3%BCr digitales Lehren und Lernen FDL":MAILTO:elearning.ph@fhnw.ch
END:VEVENT
BEGIN:VEVENT
DTSTART;TZID=Europe/Zurich:20230404T120000
DTEND;TZID=Europe/Zurich:20230404T130000
DTSTAMP:20260420T081521
CREATED:20221125T092233Z
LAST-MODIFIED:20221125T092233Z
UID:9375-1680609600-1680613200@test.digitallernen.ch
SUMMARY:DigiLearn4Students-Sprechstunde - online
DESCRIPTION:Online: Link zur Zoom-Sitzung
URL:https://test.digitallernen.ch/termin/20230404-sprechstunde-studierende-online/
LOCATION:Online via Zoom
CATEGORIES:Sprechstunde Studierende
ATTACH;FMTTYPE=image/jpeg:https://test.digitallernen.ch/wp-content/uploads/Sprechstunden-DL4S.jpg
ORGANIZER;CN="Fachstelle f%C3%BCr digitales Lehren und Lernen FDL":MAILTO:elearning.ph@fhnw.ch
END:VEVENT
BEGIN:VEVENT
DTSTART;TZID=Europe/Zurich:20230404T150000
DTEND;TZID=Europe/Zurich:20230404T160000
DTSTAMP:20260420T081521
CREATED:20221214T094750Z
LAST-MODIFIED:20221214T095402Z
UID:9660-1680620400-1680624000@test.digitallernen.ch
SUMMARY:Sprechstunde für Hochschullehrende – Standort Solothurn
DESCRIPTION:
URL:https://test.digitallernen.ch/termin/20230404-sprechstunde-fdl-sso/
LOCATION:Standort Solothurn – Raum A200\, Obere Sternengasse 7\, Solothurn\, 4502\, Switzerland
CATEGORIES:Sprechstunde Hochschulehrende
ATTACH;FMTTYPE=image/png:https://test.digitallernen.ch/wp-content/uploads/BeratungSprechstunde.png
ORGANIZER;CN="Fachstelle f%C3%BCr digitales Lehren und Lernen FDL":MAILTO:elearning.ph@fhnw.ch
END:VEVENT
BEGIN:VEVENT
DTSTART;TZID=Europe/Zurich:20230404T150000
DTEND;TZID=Europe/Zurich:20230404T160000
DTSTAMP:20260420T081521
CREATED:20230117T095011Z
LAST-MODIFIED:20230117T095011Z
UID:9714-1680620400-1680624000@test.digitallernen.ch
SUMMARY:Sprechstunde für Hochschullehrende - online
DESCRIPTION:Online: Link zur Zoom-Sitzung
URL:https://test.digitallernen.ch/termin/20230404-sprechstunde-hochschullehrende-online/
LOCATION:Online via Zoom
CATEGORIES:Sprechstunde Hochschulehrende
ATTACH;FMTTYPE=image/png:https://test.digitallernen.ch/wp-content/uploads/BeratungSprechstunde.png
ORGANIZER;CN="Fachstelle f%C3%BCr digitales Lehren und Lernen FDL":MAILTO:elearning.ph@fhnw.ch
END:VEVENT
BEGIN:VEVENT
DTSTART;TZID=Europe/Zurich:20230406T100000
DTEND;TZID=Europe/Zurich:20230406T110000
DTSTAMP:20260420T081521
CREATED:20230117T100611Z
LAST-MODIFIED:20230117T100611Z
UID:9739-1680775200-1680778800@test.digitallernen.ch
SUMMARY:Sprechstunde für Hochschullehrende - online
DESCRIPTION:Online: Link zur Zoom-Sitzung
URL:https://test.digitallernen.ch/termin/20230406-sprechstunde-hochschullehrende-online/
LOCATION:Online via Zoom
CATEGORIES:Sprechstunde Hochschulehrende
ATTACH;FMTTYPE=image/png:https://test.digitallernen.ch/wp-content/uploads/BeratungSprechstunde.png
ORGANIZER;CN="Fachstelle f%C3%BCr digitales Lehren und Lernen FDL":MAILTO:elearning.ph@fhnw.ch
END:VEVENT
BEGIN:VEVENT
DTSTART;TZID=Europe/Zurich:20230411T120000
DTEND;TZID=Europe/Zurich:20230411T130000
DTSTAMP:20260420T081521
CREATED:20221125T092319Z
LAST-MODIFIED:20221125T092319Z
UID:9377-1681214400-1681218000@test.digitallernen.ch
SUMMARY:DigiLearn4Students-Sprechstunde - online
DESCRIPTION:Online: Link zur Zoom-Sitzung
URL:https://test.digitallernen.ch/termin/20230411-sprechstunde-studierende-online/
LOCATION:Online via Zoom
CATEGORIES:Sprechstunde Studierende
ATTACH;FMTTYPE=image/jpeg:https://test.digitallernen.ch/wp-content/uploads/Sprechstunden-DL4S.jpg
ORGANIZER;CN="Fachstelle f%C3%BCr digitales Lehren und Lernen FDL":MAILTO:elearning.ph@fhnw.ch
END:VEVENT
BEGIN:VEVENT
DTSTART;TZID=Europe/Zurich:20230411T150000
DTEND;TZID=Europe/Zurich:20230411T160000
DTSTAMP:20260420T081521
CREATED:20230117T095512Z
LAST-MODIFIED:20230117T095512Z
UID:9716-1681225200-1681228800@test.digitallernen.ch
SUMMARY:Sprechstunde für Hochschullehrende - online
DESCRIPTION:Online: Link zur Zoom-Sitzung
URL:https://test.digitallernen.ch/termin/20230411-sprechstunde-hochschullehrende-online/
LOCATION:Online via Zoom
CATEGORIES:Sprechstunde Hochschulehrende
ATTACH;FMTTYPE=image/png:https://test.digitallernen.ch/wp-content/uploads/BeratungSprechstunde.png
ORGANIZER;CN="Fachstelle f%C3%BCr digitales Lehren und Lernen FDL":MAILTO:elearning.ph@fhnw.ch
END:VEVENT
BEGIN:VEVENT
DTSTART;TZID=Europe/Zurich:20230413T100000
DTEND;TZID=Europe/Zurich:20230413T110000
DTSTAMP:20260420T081521
CREATED:20230117T100648Z
LAST-MODIFIED:20230117T100648Z
UID:9741-1681380000-1681383600@test.digitallernen.ch
SUMMARY:Sprechstunde für Hochschullehrende - online
DESCRIPTION:Online: Link zur Zoom-Sitzung
URL:https://test.digitallernen.ch/termin/20230413-sprechstunde-hochschullehrende-online/
LOCATION:Online via Zoom
CATEGORIES:Sprechstunde Hochschulehrende
ATTACH;FMTTYPE=image/png:https://test.digitallernen.ch/wp-content/uploads/BeratungSprechstunde.png
ORGANIZER;CN="Fachstelle f%C3%BCr digitales Lehren und Lernen FDL":MAILTO:elearning.ph@fhnw.ch
END:VEVENT
BEGIN:VEVENT
DTSTART;TZID=Europe/Zurich:20230417T123000
DTEND;TZID=Europe/Zurich:20230417T133000
DTSTAMP:20260420T081521
CREATED:20221125T095840Z
LAST-MODIFIED:20221125T095840Z
UID:9409-1681734600-1681738200@test.digitallernen.ch
SUMMARY:DigiLearn4Students-Sprechstunde - Campus Muttenz - Raum 10.N.01
DESCRIPTION:
URL:https://test.digitallernen.ch/termin/20230417-sprechstunde-studierende-cmu/
LOCATION:Campus Muttenz – Raum 10.N.01\, Hofackerstrasse 30\, Muttenz\, 4132\, Switzerland
CATEGORIES:Sprechstunde Studierende
ATTACH;FMTTYPE=image/jpeg:https://test.digitallernen.ch/wp-content/uploads/Sprechstunden-DL4S.jpg
ORGANIZER;CN="Fachstelle f%C3%BCr digitales Lehren und Lernen FDL":MAILTO:elearning.ph@fhnw.ch
END:VEVENT
BEGIN:VEVENT
DTSTART;TZID=Europe/Zurich:20230418T120000
DTEND;TZID=Europe/Zurich:20230418T130000
DTSTAMP:20260420T081521
CREATED:20221125T092414Z
LAST-MODIFIED:20221125T092414Z
UID:9379-1681819200-1681822800@test.digitallernen.ch
SUMMARY:DigiLearn4Students-Sprechstunde - online
DESCRIPTION:Online: Link zur Zoom-Sitzung
URL:https://test.digitallernen.ch/termin/20230418-sprechstunde-studierende-online/
LOCATION:Online via Zoom
CATEGORIES:Sprechstunde Studierende
ATTACH;FMTTYPE=image/jpeg:https://test.digitallernen.ch/wp-content/uploads/Sprechstunden-DL4S.jpg
ORGANIZER;CN="Fachstelle f%C3%BCr digitales Lehren und Lernen FDL":MAILTO:elearning.ph@fhnw.ch
END:VEVENT
BEGIN:VEVENT
DTSTART;TZID=Europe/Zurich:20230418T130000
DTEND;TZID=Europe/Zurich:20230418T140000
DTSTAMP:20260420T081521
CREATED:20221125T095108Z
LAST-MODIFIED:20221125T095108Z
UID:9401-1681822800-1681826400@test.digitallernen.ch
SUMMARY:DigiLearn4Students-Sprechstunde - Campus Brugg-Windisch - Raum 6.4D30
DESCRIPTION:
URL:https://test.digitallernen.ch/termin/20230418-sprechstunde-studierende-cwb/
LOCATION:Campus Brugg Windisch – Raum 6.4D30\, Bahnhofstrasse 6\, Windisch\, 5210\, Switzerland
CATEGORIES:Sprechstunde Studierende
ATTACH;FMTTYPE=image/jpeg:https://test.digitallernen.ch/wp-content/uploads/Sprechstunden-DL4S.jpg
ORGANIZER;CN="Fachstelle f%C3%BCr digitales Lehren und Lernen FDL":MAILTO:elearning.ph@fhnw.ch
END:VEVENT
BEGIN:VEVENT
DTSTART;TZID=Europe/Zurich:20230418T150000
DTEND;TZID=Europe/Zurich:20230418T160000
DTSTAMP:20260420T081521
CREATED:20230117T095550Z
LAST-MODIFIED:20230117T095550Z
UID:9718-1681830000-1681833600@test.digitallernen.ch
SUMMARY:Sprechstunde für Hochschullehrende - online
DESCRIPTION:Online: Link zur Zoom-Sitzung
URL:https://test.digitallernen.ch/termin/20230418-sprechstunde-hochschullehrende-online/
LOCATION:Online via Zoom
CATEGORIES:Sprechstunde Hochschulehrende
ATTACH;FMTTYPE=image/png:https://test.digitallernen.ch/wp-content/uploads/BeratungSprechstunde.png
ORGANIZER;CN="Fachstelle f%C3%BCr digitales Lehren und Lernen FDL":MAILTO:elearning.ph@fhnw.ch
END:VEVENT
BEGIN:VEVENT
DTSTART;TZID=Europe/Zurich:20230420T100000
DTEND;TZID=Europe/Zurich:20230420T110000
DTSTAMP:20260420T081521
CREATED:20230117T100734Z
LAST-MODIFIED:20230117T100734Z
UID:9743-1681984800-1681988400@test.digitallernen.ch
SUMMARY:Sprechstunde für Hochschullehrende - online
DESCRIPTION:Online: Link zur Zoom-Sitzung
URL:https://test.digitallernen.ch/termin/20230420-sprechstunde-hochschullehrende-online/
LOCATION:Online via Zoom
CATEGORIES:Sprechstunde Hochschulehrende
ATTACH;FMTTYPE=image/png:https://test.digitallernen.ch/wp-content/uploads/BeratungSprechstunde.png
ORGANIZER;CN="Fachstelle f%C3%BCr digitales Lehren und Lernen FDL":MAILTO:elearning.ph@fhnw.ch
END:VEVENT
BEGIN:VEVENT
DTSTART;TZID=Europe/Zurich:20230425T120000
DTEND;TZID=Europe/Zurich:20230425T130000
DTSTAMP:20260420T081521
CREATED:20221125T092603Z
LAST-MODIFIED:20221125T092603Z
UID:9381-1682424000-1682427600@test.digitallernen.ch
SUMMARY:DigiLearn4Students-Sprechstunde - online
DESCRIPTION:Online: Link zur Zoom-Sitzung
URL:https://test.digitallernen.ch/termin/20230425-sprechstunde-studierende-online/
LOCATION:Online via Zoom
CATEGORIES:Sprechstunde Studierende
ATTACH;FMTTYPE=image/jpeg:https://test.digitallernen.ch/wp-content/uploads/Sprechstunden-DL4S.jpg
ORGANIZER;CN="Fachstelle f%C3%BCr digitales Lehren und Lernen FDL":MAILTO:elearning.ph@fhnw.ch
END:VEVENT
BEGIN:VEVENT
DTSTART;TZID=Europe/Zurich:20230425T150000
DTEND;TZID=Europe/Zurich:20230425T160000
DTSTAMP:20260420T081521
CREATED:20230117T095641Z
LAST-MODIFIED:20230117T095641Z
UID:9720-1682434800-1682438400@test.digitallernen.ch
SUMMARY:Sprechstunde für Hochschullehrende - online
DESCRIPTION:Online: Link zur Zoom-Sitzung
URL:https://test.digitallernen.ch/termin/20230425-sprechstunde-hochschullehrende-online/
LOCATION:Online via Zoom
CATEGORIES:Sprechstunde Hochschulehrende
ATTACH;FMTTYPE=image/png:https://test.digitallernen.ch/wp-content/uploads/BeratungSprechstunde.png
ORGANIZER;CN="Fachstelle f%C3%BCr digitales Lehren und Lernen FDL":MAILTO:elearning.ph@fhnw.ch
END:VEVENT
BEGIN:VEVENT
DTSTART;TZID=Europe/Zurich:20230427T100000
DTEND;TZID=Europe/Zurich:20230427T110000
DTSTAMP:20260420T081521
CREATED:20230117T100818Z
LAST-MODIFIED:20230117T100818Z
UID:9745-1682589600-1682593200@test.digitallernen.ch
SUMMARY:Sprechstunde für Hochschullehrende - online
DESCRIPTION:Online: Link zur Zoom-Sitzung
URL:https://test.digitallernen.ch/termin/20230427-sprechstunde-hochschullehrende-online/
LOCATION:Online via Zoom
CATEGORIES:Sprechstunde Hochschulehrende
ATTACH;FMTTYPE=image/png:https://test.digitallernen.ch/wp-content/uploads/BeratungSprechstunde.png
ORGANIZER;CN="Fachstelle f%C3%BCr digitales Lehren und Lernen FDL":MAILTO:elearning.ph@fhnw.ch
END:VEVENT
BEGIN:VEVENT
DTSTART;TZID=Europe/Zurich:20230502T120000
DTEND;TZID=Europe/Zurich:20230502T130000
DTSTAMP:20260420T081521
CREATED:20221125T092659Z
LAST-MODIFIED:20221125T092659Z
UID:9383-1683028800-1683032400@test.digitallernen.ch
SUMMARY:DigiLearn4Students-Sprechstunde - online
DESCRIPTION:Online: Link zur Zoom-Sitzung
URL:https://test.digitallernen.ch/termin/20230502-sprechstunde-studierende-online/
LOCATION:Online via Zoom
CATEGORIES:Sprechstunde Studierende
ATTACH;FMTTYPE=image/jpeg:https://test.digitallernen.ch/wp-content/uploads/Sprechstunden-DL4S.jpg
ORGANIZER;CN="Fachstelle f%C3%BCr digitales Lehren und Lernen FDL":MAILTO:elearning.ph@fhnw.ch
END:VEVENT
BEGIN:VEVENT
DTSTART;TZID=Europe/Zurich:20230502T150000
DTEND;TZID=Europe/Zurich:20230502T160000
DTSTAMP:20260420T081521
CREATED:20230117T095735Z
LAST-MODIFIED:20230117T095735Z
UID:9722-1683039600-1683043200@test.digitallernen.ch
SUMMARY:Sprechstunde für Hochschullehrende - online
DESCRIPTION:Online: Link zur Zoom-Sitzung
URL:https://test.digitallernen.ch/termin/20230502-sprechstunde-hochschullehrende-online/
LOCATION:Online via Zoom
CATEGORIES:Sprechstunde Hochschulehrende
ATTACH;FMTTYPE=image/png:https://test.digitallernen.ch/wp-content/uploads/BeratungSprechstunde.png
ORGANIZER;CN="Fachstelle f%C3%BCr digitales Lehren und Lernen FDL":MAILTO:elearning.ph@fhnw.ch
END:VEVENT
BEGIN:VEVENT
DTSTART;TZID=Europe/Zurich:20230504T100000
DTEND;TZID=Europe/Zurich:20230504T110000
DTSTAMP:20260420T081521
CREATED:20221214T094605Z
LAST-MODIFIED:20221214T094605Z
UID:9658-1683194400-1683198000@test.digitallernen.ch
SUMMARY:Sprechstunde für Hochschullehrende – Campus Muttenz
DESCRIPTION:
URL:https://test.digitallernen.ch/termin/20230504-sprechstunde-hochschullehrende-cmu/
LOCATION:Campus Muttenz – Raum 10.N.01\, Hofackerstrasse 30\, Muttenz\, 4132\, Switzerland
CATEGORIES:Sprechstunde Hochschulehrende
ATTACH;FMTTYPE=image/png:https://test.digitallernen.ch/wp-content/uploads/BeratungSprechstunde.png
ORGANIZER;CN="Fachstelle f%C3%BCr digitales Lehren und Lernen FDL":MAILTO:elearning.ph@fhnw.ch
END:VEVENT
BEGIN:VEVENT
DTSTART;TZID=Europe/Zurich:20230504T100000
DTEND;TZID=Europe/Zurich:20230504T110000
DTSTAMP:20260420T081521
CREATED:20230117T100910Z
LAST-MODIFIED:20230117T100910Z
UID:9747-1683194400-1683198000@test.digitallernen.ch
SUMMARY:Sprechstunde für Hochschullehrende - online
DESCRIPTION:Online: Link zur Zoom-Sitzung
URL:https://test.digitallernen.ch/termin/20230504-sprechstunde-hochschullehrende-online/
LOCATION:Online via Zoom
CATEGORIES:Sprechstunde Hochschulehrende
ATTACH;FMTTYPE=image/png:https://test.digitallernen.ch/wp-content/uploads/BeratungSprechstunde.png
ORGANIZER;CN="Fachstelle f%C3%BCr digitales Lehren und Lernen FDL":MAILTO:elearning.ph@fhnw.ch
END:VEVENT
END:VCALENDAR