BEGIN:VCALENDAR
VERSION:2.0
PRODID:-//digitallernen - ECPv6.10.1.1//NONSGML v1.0//EN
CALSCALE:GREGORIAN
METHOD:PUBLISH
X-ORIGINAL-URL:https://test.digitallernen.ch
X-WR-CALDESC:Veranstaltungen im digitallernen
REFRESH-INTERVAL;VALUE=DURATION:PT1H
X-Robots-Tag:noindex
X-PUBLISHED-TTL:PT1H
BEGIN:VTIMEZONE
TZID:Europe/Zurich
BEGIN:DAYLIGHT
TZOFFSETFROM:+0100
TZOFFSETTO:+0200
TZNAME:CEST
DTSTART:20230326T010000
END:DAYLIGHT
BEGIN:STANDARD
TZOFFSETFROM:+0200
TZOFFSETTO:+0100
TZNAME:CET
DTSTART:20231029T010000
END:STANDARD
END:VTIMEZONE
BEGIN:VEVENT
DTSTART;VALUE=DATE:20230220
DTEND;VALUE=DATE:20230223
DTSTAMP:20260420T081524
CREATED:20221128T113716Z
LAST-MODIFIED:20230214T160318Z
UID:9353-1676851200-1677110399@test.digitallernen.ch
SUMMARY:Filmmaking Workshop: Action – Cut – Learn!
DESCRIPTION:Lernfilme drehen leicht gemacht – Bilder sagen mehr als tausend Worte – Video ist das Lernmedium der Zukunft \nSolche Sätze hört und liest man immer wieder\, in den letzten Jahren wohl noch öfters als zuvor. \n«Puh! Videos als Lernmedien selbst erstellen\, das ist aber ganz schön anspruchsvoll!» Dies sagen meist Menschen\, die bereits Erfahrungen mit Videos in der Lehre gemacht haben. In diesem dreitägigen Filmmaking-Workshop haben Sie die Möglichkeit\, die Prozesse und die Praxis der Videoerstellung von Grund auf kennenzulernen. Es sind keine Vorkenntnisse nötig. \nDie Fachstelle Digitales Lehren und Lernen (FDL) konnte erneut Herrn Samer Angelone als Workshopleitenden gewinnen. Er ist ein ausgewiesener Experte im Bereich Science Filmmaking. Seit einigen Jahren führt er Science Filmmaking Workshops an verschiedenen Schweizer Hochschulen durch und hat ebenfalls das Science Filmfestival ins Leben gerufen. Bereits im Juni 2022 haben wir einen erfolgreichen Workshop durchgeführt. \nCäsar Künzi\, Mitarbeiter der FDL präsentiert Ihnen mediendidaktische Grundüberlegungen bei der Videoproduktion\, während wir gemeinsam die folgenden wichtigen Schritte für ein gelungenes Filmprojekt praktisch mit Herrn Angelone ergründen: \nTag 1: Storytelling\, Storyboarding\, Kamera\, Ton\, Licht \nTag 2: Erstellung eines eigenen Kurzfilmes \nTag 3: Filmschnitt und Präsentation der Filme \nUm sicherzustellen\, dass im Workshop für alle Teilnehmenden eine praktische Arbeit möglich ist (die Ausrüstung wird zur Verfügung gestellt)\, sind die Plätze auf 12 Personen beschränkt. Mit der Anmeldung direkt bei Herrn Angelone (über den Button «anmelden» weiter unten) wird ein Beitrag von CHF 400 fällig. Dieser Beitrag beinhaltet die Teilnahme am Workshop und keine weiteren Leistungen. \nSamer Angelone wird seine Inputs vor allem in englischer Sprache halten\, Interaktionen auf Deutsch sind möglich. \nZeit/Termin: 3 Tage – 20. Februar 2023 bis 22. Februar 2023 – jeweils von 9 bis 17 Uhr\nOrt: Campus Brugg-Windisch\nKosten: 400 CHF pro Person\nLeistungen: Praxis-Workshop zu Videoerstellung mit medienpädagogischer Einordnung \nBei Fragen zum Workshop wenden Sie sich an Cäsar Künzi
URL:https://test.digitallernen.ch/termin/filmmaking-workshop-2/
LOCATION:Campus Brugg Windisch\, Bahnhofstrasse 6\, Windisch\, 5210\, Switzerland
CATEGORIES:Appetit,Leitung Weiterbildung,Mitglied Organisationsteam
ATTACH;FMTTYPE=image/jpeg:https://test.digitallernen.ch/wp-content/uploads/Filmmaking-marathon-4-scaled.jpg
ORGANIZER;CN="C%C3%A4sar K%C3%BCnzi":MAILTO:caesar.kuenzi@fhnw.ch
END:VEVENT
BEGIN:VEVENT
DTSTART;TZID=Europe/Zurich:20230220T123000
DTEND;TZID=Europe/Zurich:20230220T133000
DTSTAMP:20260420T081524
CREATED:20221125T095645Z
LAST-MODIFIED:20221125T095645Z
UID:9405-1676896200-1676899800@test.digitallernen.ch
SUMMARY:DigiLearn4Students-Sprechstunde - Campus Muttenz - Raum 10.N.01
DESCRIPTION:
URL:https://test.digitallernen.ch/termin/20230220-sprechstunde-studierende-cmu/
LOCATION:Campus Muttenz – Raum 10.N.01\, Hofackerstrasse 30\, Muttenz\, 4132\, Switzerland
CATEGORIES:Sprechstunde Studierende
ATTACH;FMTTYPE=image/jpeg:https://test.digitallernen.ch/wp-content/uploads/Sprechstunden-DL4S.jpg
ORGANIZER;CN="Fachstelle f%C3%BCr digitales Lehren und Lernen FDL":MAILTO:elearning.ph@fhnw.ch
END:VEVENT
BEGIN:VEVENT
DTSTART;TZID=Europe/Zurich:20230220T150000
DTEND;TZID=Europe/Zurich:20230220T163000
DTSTAMP:20260420T081524
CREATED:20221214T095906Z
LAST-MODIFIED:20230213T085118Z
UID:9668-1676905200-1676910600@test.digitallernen.ch
SUMMARY:Online-Weiterbildung «Moodle4all@PH» FS 2023
DESCRIPTION:Moodle4all@PH ist das Weiterbildungsangebot für Moodle-Anwender*innen aller Kompetenzstufen. In den Weiterbildungen bieten wir sowohl Informationen zur Einführung in den Umgang mit dem LMS Moodle an der Pädagogischen Hochschule FHNW an als auch Ideen für sinnvolle didaktische Gestaltungsoptionen\, Beispiele anhand einzelner Moodle-Aktivitäten etc.. \n\nDie Anmeldungen erfolgen nach Eingang (first come – first serve) – Anmeldeschluss ist jeweils 1 Woche vor Durchführung.\nDie 1\,5-stündigen Weiterbildungen im Online-Format werden ab einer Mindestteilnehmendenzahl von 5 Personen durchgeführt.
URL:https://test.digitallernen.ch/termin/20230220-wb-moodle4allph/
LOCATION:online
CATEGORIES:Appetit,Hochschulinterne Weiterbildung
ATTACH;FMTTYPE=image/png:https://test.digitallernen.ch/wp-content/uploads/moodle4all_-e1615545211644.png
ORGANIZER;CN="Fachstelle f%C3%BCr digitales Lehren und Lernen FDL":MAILTO:elearning.ph@fhnw.ch
END:VEVENT
BEGIN:VEVENT
DTSTART;TZID=Europe/Zurich:20230221T120000
DTEND;TZID=Europe/Zurich:20230221T130000
DTSTAMP:20260420T081524
CREATED:20221125T091500Z
LAST-MODIFIED:20221125T091500Z
UID:9363-1676980800-1676984400@test.digitallernen.ch
SUMMARY:DigiLearn4Students-Sprechstunde - online
DESCRIPTION:Online: Link zur Zoom-Sitzung
URL:https://test.digitallernen.ch/termin/20230221-sprechstunde-studierende-online/
LOCATION:Online via Zoom
CATEGORIES:Sprechstunde Studierende
ATTACH;FMTTYPE=image/jpeg:https://test.digitallernen.ch/wp-content/uploads/Sprechstunden-DL4S.jpg
ORGANIZER;CN="Fachstelle f%C3%BCr digitales Lehren und Lernen FDL":MAILTO:elearning.ph@fhnw.ch
END:VEVENT
BEGIN:VEVENT
DTSTART;TZID=Europe/Zurich:20230221T150000
DTEND;TZID=Europe/Zurich:20230221T160000
DTSTAMP:20260420T081524
CREATED:20221214T092359Z
LAST-MODIFIED:20221214T092628Z
UID:9639-1676991600-1676995200@test.digitallernen.ch
SUMMARY:Sprechstunde für Hochschullehrende - online
DESCRIPTION:Online: Link zur Zoom-Sitzung
URL:https://test.digitallernen.ch/termin/20230221-sprechstunde-hochschullehrende-online/
LOCATION:Online via Zoom
CATEGORIES:Sprechstunde Hochschulehrende
ATTACH;FMTTYPE=image/png:https://test.digitallernen.ch/wp-content/uploads/BeratungSprechstunde.png
ORGANIZER;CN="Fachstelle f%C3%BCr digitales Lehren und Lernen FDL":MAILTO:elearning.ph@fhnw.ch
END:VEVENT
BEGIN:VEVENT
DTSTART;TZID=Europe/Zurich:20230222T100000
DTEND;TZID=Europe/Zurich:20230222T113000
DTSTAMP:20260420T081524
CREATED:20221214T095759Z
LAST-MODIFIED:20230215T140618Z
UID:9666-1677060000-1677065400@test.digitallernen.ch
SUMMARY:Online-Weiterbildung «Moodle4all@PH» FS 2023
DESCRIPTION:Moodle4all@PH ist das Weiterbildungsangebot für Moodle-Anwender*innen aller Kompetenzstufen. In den Weiterbildungen bieten wir sowohl Informationen zur Einführung in den Umgang mit dem LMS Moodle an der Pädagogischen Hochschule FHNW an als auch Ideen für sinnvolle didaktische Gestaltungsoptionen\, Beispiele anhand einzelner Moodle-Aktivitäten etc.. \n\nDie Anmeldungen erfolgen nach Eingang (first come – first serve) – Anmeldeschluss ist jeweils 1 Woche vor Durchführung.\nDie 1\,5-stündigen Weiterbildungen im Online-Format werden ab einer Mindestteilnehmendenzahl von 5 Personen durchgeführt.
URL:https://test.digitallernen.ch/termin/20230222-wb-moodle4allph/
LOCATION:online
CATEGORIES:Appetit,Hochschulinterne Weiterbildung
ATTACH;FMTTYPE=image/png:https://test.digitallernen.ch/wp-content/uploads/moodle4all_-e1615545211644.png
ORGANIZER;CN="Fachstelle f%C3%BCr digitales Lehren und Lernen FDL":MAILTO:elearning.ph@fhnw.ch
END:VEVENT
BEGIN:VEVENT
DTSTART;TZID=Europe/Zurich:20230222T123000
DTEND;TZID=Europe/Zurich:20230222T133000
DTSTAMP:20260420T081524
CREATED:20221125T093658Z
LAST-MODIFIED:20221125T093658Z
UID:9396-1677069000-1677072600@test.digitallernen.ch
SUMMARY:DigiLearn4Students-Sprechstunde - Campus Brugg-Windisch - Raum 6.4D30
DESCRIPTION:
URL:https://test.digitallernen.ch/termin/20230222-sprechstunde-studierende-cwb/
LOCATION:Campus Brugg Windisch – Raum 6.4D30\, Bahnhofstrasse 6\, Windisch\, 5210\, Switzerland
CATEGORIES:Sprechstunde Studierende
ATTACH;FMTTYPE=image/jpeg:https://test.digitallernen.ch/wp-content/uploads/Sprechstunden-DL4S.jpg
ORGANIZER;CN="Fachstelle f%C3%BCr digitales Lehren und Lernen FDL":MAILTO:elearning.ph@fhnw.ch
END:VEVENT
BEGIN:VEVENT
DTSTART;TZID=Europe/Zurich:20230223T100000
DTEND;TZID=Europe/Zurich:20230223T110000
DTSTAMP:20260420T081524
CREATED:20221214T100915Z
LAST-MODIFIED:20221214T100915Z
UID:9670-1677146400-1677150000@test.digitallernen.ch
SUMMARY:Sprechstunde für Hochschullehrende - online
DESCRIPTION:Online: Link zur Zoom-Sitzung
URL:https://test.digitallernen.ch/termin/20230223-sprechstunde-hochschullehrende-online/
LOCATION:Online via Zoom
CATEGORIES:Sprechstunde Hochschulehrende
ATTACH;FMTTYPE=image/png:https://test.digitallernen.ch/wp-content/uploads/BeratungSprechstunde.png
ORGANIZER;CN="Fachstelle f%C3%BCr digitales Lehren und Lernen FDL":MAILTO:elearning.ph@fhnw.ch
END:VEVENT
BEGIN:VEVENT
DTSTART;TZID=Europe/Zurich:20230223T171500
DTEND;TZID=Europe/Zurich:20230223T181500
DTSTAMP:20260420T081524
CREATED:20230213T090044Z
LAST-MODIFIED:20230213T090044Z
UID:9955-1677172500-1677176100@test.digitallernen.ch
SUMMARY:Bildungscyborgs und der Einsatz von Robotern in der Hochschule
DESCRIPTION:Vortrag am 17:15 Kolloquium der ETH-Bibliothek. Referent*in: Ricarda T.D. Reimer und Silvan Flückiger\, Pädagogischen Hochschule FHNW\, Fachstelle Digitales Lehren und Lernen
URL:https://test.digitallernen.ch/termin/vortrag_eth/
LOCATION:MM C 78.1 – Alumni Pavillon ETH Zürich\, Rämistrasse 101\, Zürich\, 8092\, Switzerland
CATEGORIES:Vortrag
ATTACH;FMTTYPE=image/png:https://test.digitallernen.ch/wp-content/uploads/Mensch-und-Roboter.png
END:VEVENT
BEGIN:VEVENT
DTSTART;TZID=Europe/Zurich:20230227T150000
DTEND;TZID=Europe/Zurich:20230227T163000
DTSTAMP:20260420T081524
CREATED:20221214T095635Z
LAST-MODIFIED:20230215T140657Z
UID:9664-1677510000-1677515400@test.digitallernen.ch
SUMMARY:Online-Weiterbildung «Moodle4all@PH» FS 2023
DESCRIPTION:Moodle4all@PH ist das Weiterbildungsangebot für Moodle-Anwender*innen aller Kompetenzstufen. In den Weiterbildungen bieten wir sowohl Informationen zur Einführung in den Umgang mit dem LMS Moodle an der Pädagogischen Hochschule FHNW an als auch Ideen für sinnvolle didaktische Gestaltungsoptionen\, Beispiele anhand einzelner Moodle-Aktivitäten etc.. \n\nDie Anmeldungen erfolgen nach Eingang (first come – first serve) – Anmeldeschluss ist jeweils 1 Woche vor Durchführung.\nDie 1\,5-stündigen Weiterbildungen im Online-Format werden ab einer Mindestteilnehmendenzahl von 5 Personen durchgeführt.
URL:https://test.digitallernen.ch/termin/20230227-wb-moodle4allph/
LOCATION:online
CATEGORIES:Appetit,Hochschulinterne Weiterbildung
ATTACH;FMTTYPE=image/png:https://test.digitallernen.ch/wp-content/uploads/moodle4all_-e1615545211644.png
ORGANIZER;CN="Fachstelle f%C3%BCr digitales Lehren und Lernen FDL":MAILTO:elearning.ph@fhnw.ch
END:VEVENT
BEGIN:VEVENT
DTSTART;TZID=Europe/Zurich:20230228T120000
DTEND;TZID=Europe/Zurich:20230228T130000
DTSTAMP:20260420T081524
CREATED:20221125T091636Z
LAST-MODIFIED:20221125T091636Z
UID:9365-1677585600-1677589200@test.digitallernen.ch
SUMMARY:DigiLearn4Students-Sprechstunde - online
DESCRIPTION:Online: Link zur Zoom-Sitzung
URL:https://test.digitallernen.ch/termin/20230228-sprechstunde-studierende-online/
LOCATION:Online via Zoom
CATEGORIES:Sprechstunde Studierende
ATTACH;FMTTYPE=image/jpeg:https://test.digitallernen.ch/wp-content/uploads/Sprechstunden-DL4S.jpg
ORGANIZER;CN="Fachstelle f%C3%BCr digitales Lehren und Lernen FDL":MAILTO:elearning.ph@fhnw.ch
END:VEVENT
BEGIN:VEVENT
DTSTART;TZID=Europe/Zurich:20230228T150000
DTEND;TZID=Europe/Zurich:20230228T160000
DTSTAMP:20260420T081524
CREATED:20221216T100911Z
LAST-MODIFIED:20221216T100911Z
UID:9683-1677596400-1677600000@test.digitallernen.ch
SUMMARY:Sprechstunde für Hochschullehrende - online
DESCRIPTION:Online: Link zur Zoom-Sitzung
URL:https://test.digitallernen.ch/termin/20230228-sprechstunde-hochschullehrende-online/
LOCATION:Online via Zoom
CATEGORIES:Sprechstunde Hochschulehrende
ATTACH;FMTTYPE=image/png:https://test.digitallernen.ch/wp-content/uploads/BeratungSprechstunde.png
ORGANIZER;CN="Fachstelle f%C3%BCr digitales Lehren und Lernen FDL":MAILTO:elearning.ph@fhnw.ch
END:VEVENT
BEGIN:VEVENT
DTSTART;TZID=Europe/Zurich:20230301T100000
DTEND;TZID=Europe/Zurich:20230301T113000
DTSTAMP:20260420T081524
CREATED:20221214T095339Z
LAST-MODIFIED:20221214T095339Z
UID:9662-1677664800-1677670200@test.digitallernen.ch
SUMMARY:Online-Weiterbildung «Moodle4all@PH» FS 2023
DESCRIPTION:Moodle4all@PH ist das Weiterbildungsangebot für Moodle-Anwender*innen aller Kompetenzstufen. In den Weiterbildungen bieten wir sowohl Informationen zur Einführung in den Umgang mit dem LMS Moodle an der Pädagogischen Hochschule FHNW an als auch Ideen für sinnvolle didaktische Gestaltungsoptionen\, Beispiele anhand einzelner Moodle-Aktivitäten etc.. \n\nDie Anmeldungen erfolgen nach Eingang (first come – first serve) – Anmeldeschluss ist jeweils 1 Woche vor Durchführung.\nDie 1\,5-stündigen Weiterbildungen im Online-Format werden ab einer Mindestteilnehmendenzahl von 5 Personen durchgeführt.
URL:https://test.digitallernen.ch/termin/20230301-wb-moodle4allph/
LOCATION:online
CATEGORIES:Appetit,Hochschulinterne Weiterbildung
ATTACH;FMTTYPE=image/png:https://test.digitallernen.ch/wp-content/uploads/moodle4all_-e1615545211644.png
ORGANIZER;CN="Fachstelle f%C3%BCr digitales Lehren und Lernen FDL":MAILTO:elearning.ph@fhnw.ch
END:VEVENT
BEGIN:VEVENT
DTSTART;TZID=Europe/Zurich:20230302T100000
DTEND;TZID=Europe/Zurich:20230302T110000
DTSTAMP:20260420T081524
CREATED:20221214T091409Z
LAST-MODIFIED:20221214T091439Z
UID:9626-1677751200-1677754800@test.digitallernen.ch
SUMMARY:Sprechstunde für Hochschullehrende - online
DESCRIPTION:Online: Link zur Zoom-Sitzung
URL:https://test.digitallernen.ch/termin/20230302-sprechstunde-hochschullehrende-online/
LOCATION:Online via Zoom
CATEGORIES:Sprechstunde Hochschulehrende
ATTACH;FMTTYPE=image/png:https://test.digitallernen.ch/wp-content/uploads/BeratungSprechstunde.png
ORGANIZER;CN="Fachstelle f%C3%BCr digitales Lehren und Lernen FDL":MAILTO:elearning.ph@fhnw.ch
END:VEVENT
BEGIN:VEVENT
DTSTART;TZID=Europe/Zurich:20230302T100000
DTEND;TZID=Europe/Zurich:20230302T110000
DTSTAMP:20260420T081524
CREATED:20221214T093357Z
LAST-MODIFIED:20221214T093357Z
UID:9648-1677751200-1677754800@test.digitallernen.ch
SUMMARY:Sprechstunde für Hochschullehrende – Campus Muttenz
DESCRIPTION:
URL:https://test.digitallernen.ch/termin/20230302-sprechstunde-hochschullehrende-cmu/
LOCATION:Campus Muttenz – Raum 10.N.01\, Hofackerstrasse 30\, Muttenz\, 4132\, Switzerland
CATEGORIES:Sprechstunde Hochschulehrende
ATTACH;FMTTYPE=image/png:https://test.digitallernen.ch/wp-content/uploads/BeratungSprechstunde.png
ORGANIZER;CN="Fachstelle f%C3%BCr digitales Lehren und Lernen FDL":MAILTO:elearning.ph@fhnw.ch
END:VEVENT
BEGIN:VEVENT
DTSTART;TZID=Europe/Zurich:20230307T120000
DTEND;TZID=Europe/Zurich:20230307T130000
DTSTAMP:20260420T081524
CREATED:20221125T091800Z
LAST-MODIFIED:20221125T091800Z
UID:9367-1678190400-1678194000@test.digitallernen.ch
SUMMARY:DigiLearn4Students-Sprechstunde - online
DESCRIPTION:Online: Link zur Zoom-Sitzung
URL:https://test.digitallernen.ch/termin/20230307-sprechstunde-studierende-online/
LOCATION:Online via Zoom
CATEGORIES:Sprechstunde Studierende
ATTACH;FMTTYPE=image/jpeg:https://test.digitallernen.ch/wp-content/uploads/Sprechstunden-DL4S.jpg
ORGANIZER;CN="Fachstelle f%C3%BCr digitales Lehren und Lernen FDL":MAILTO:elearning.ph@fhnw.ch
END:VEVENT
BEGIN:VEVENT
DTSTART;TZID=Europe/Zurich:20230307T150000
DTEND;TZID=Europe/Zurich:20230307T160000
DTSTAMP:20260420T081524
CREATED:20221214T092937Z
LAST-MODIFIED:20221214T092937Z
UID:9638-1678201200-1678204800@test.digitallernen.ch
SUMMARY:Sprechstunde für Hochschullehrende - online
DESCRIPTION:Online: Link zur Zoom-Sitzung
URL:https://test.digitallernen.ch/termin/20230307-sprechstunde-hochschullehrende-online/
LOCATION:Online via Zoom
CATEGORIES:Sprechstunde Hochschulehrende
ATTACH;FMTTYPE=image/png:https://test.digitallernen.ch/wp-content/uploads/BeratungSprechstunde.png
ORGANIZER;CN="Fachstelle f%C3%BCr digitales Lehren und Lernen FDL":MAILTO:elearning.ph@fhnw.ch
END:VEVENT
BEGIN:VEVENT
DTSTART;TZID=Europe/Zurich:20230307T150000
DTEND;TZID=Europe/Zurich:20230307T160000
DTSTAMP:20260420T081524
CREATED:20221214T093125Z
LAST-MODIFIED:20230220T103018Z
UID:9646-1678201200-1678204800@test.digitallernen.ch
SUMMARY:Sprechstunde für Hochschullehrende – Campus Brugg-Windisch
DESCRIPTION:
URL:https://test.digitallernen.ch/termin/20230228-sprechstunde-hochschullehrende-cbw/
LOCATION:Campus Brugg Windisch – Raum 6.4D30\, Bahnhofstrasse 6\, Windisch\, 5210\, Switzerland
CATEGORIES:Sprechstunde Hochschulehrende
ATTACH;FMTTYPE=image/png:https://test.digitallernen.ch/wp-content/uploads/BeratungSprechstunde.png
ORGANIZER;CN="Fachstelle f%C3%BCr digitales Lehren und Lernen FDL":MAILTO:elearning.ph@fhnw.ch
END:VEVENT
BEGIN:VEVENT
DTSTART;TZID=Europe/Zurich:20230307T150000
DTEND;TZID=Europe/Zurich:20230307T160000
DTSTAMP:20260420T081524
CREATED:20230117T100439Z
LAST-MODIFIED:20230512T120403Z
UID:9736-1678201200-1678204800@test.digitallernen.ch
SUMMARY:Sprechstunde für Hochschullehrende - online
DESCRIPTION:Online: Link zur Zoom-Sitzung
URL:https://test.digitallernen.ch/termin/20230307-sprechstunde-hochschullehrende-online-2/
LOCATION:Online via Zoom
CATEGORIES:Sprechstunde Hochschulehrende
ATTACH;FMTTYPE=image/png:https://test.digitallernen.ch/wp-content/uploads/BeratungSprechstunde.png
ORGANIZER;CN="Fachstelle f%C3%BCr digitales Lehren und Lernen FDL":MAILTO:elearning.ph@fhnw.ch
END:VEVENT
BEGIN:VEVENT
DTSTART;TZID=Europe/Zurich:20230307T160000
DTEND;TZID=Europe/Zurich:20230307T173000
DTSTAMP:20260420T081524
CREATED:20220921T082906Z
LAST-MODIFIED:20230228T135514Z
UID:9167-1678204800-1678210200@test.digitallernen.ch
SUMMARY:Online-Weiterbildung «Moodle4all@PH» FS 2023
DESCRIPTION:Moodle4all@PH ist das Weiterbildungsangebot für Moodle-Anwender*innen aller Kompetenzstufen. In den Weiterbildungen bieten wir sowohl Informationen zur Einführung in den Umgang mit dem LMS Moodle an der Pädagogischen Hochschule FHNW an als auch Ideen für sinnvolle didaktische Gestaltungsoptionen\, Beispiele anhand einzelner Moodle-Aktivitäten etc.. \n\nDie Anmeldungen erfolgen nach Eingang (first come – first serve) – Anmeldeschluss ist jeweils 1 Woche vor Durchführung.\nDie 1\,5-stündigen Weiterbildungen im Online-Format werden ab einer Mindestteilnehmendenzahl von 5 Personen durchgeführt.
URL:https://test.digitallernen.ch/termin/20230307-wb-moodle4allph/
LOCATION:online
CATEGORIES:Appetit,Hochschulinterne Weiterbildung
ATTACH;FMTTYPE=image/png:https://test.digitallernen.ch/wp-content/uploads/moodle4all_-e1615545211644.png
ORGANIZER;CN="Fachstelle f%C3%BCr digitales Lehren und Lernen FDL":MAILTO:elearning.ph@fhnw.ch
END:VEVENT
BEGIN:VEVENT
DTSTART;TZID=Europe/Zurich:20230309T100000
DTEND;TZID=Europe/Zurich:20230309T110000
DTSTAMP:20260420T081524
CREATED:20221214T092658Z
LAST-MODIFIED:20221214T101400Z
UID:9643-1678356000-1678359600@test.digitallernen.ch
SUMMARY:Sprechstunde für Hochschullehrende - online
DESCRIPTION:Online: Link zur Zoom-Sitzung
URL:https://test.digitallernen.ch/termin/20230309-sprechstunde-hochschullehrende-online/
LOCATION:Online via Zoom
CATEGORIES:Sprechstunde Hochschulehrende
ATTACH;FMTTYPE=image/png:https://test.digitallernen.ch/wp-content/uploads/BeratungSprechstunde.png
ORGANIZER;CN="Fachstelle f%C3%BCr digitales Lehren und Lernen FDL":MAILTO:elearning.ph@fhnw.ch
END:VEVENT
BEGIN:VEVENT
DTSTART;TZID=Europe/Zurich:20230314T120000
DTEND;TZID=Europe/Zurich:20230314T130000
DTSTAMP:20260420T081524
CREATED:20221125T091931Z
LAST-MODIFIED:20221125T091931Z
UID:9369-1678795200-1678798800@test.digitallernen.ch
SUMMARY:DigiLearn4Students-Sprechstunde - online
DESCRIPTION:Online: Link zur Zoom-Sitzung
URL:https://test.digitallernen.ch/termin/20230314-sprechstunde-studierende-online/
LOCATION:Online via Zoom
CATEGORIES:Sprechstunde Studierende
ATTACH;FMTTYPE=image/jpeg:https://test.digitallernen.ch/wp-content/uploads/Sprechstunden-DL4S.jpg
ORGANIZER;CN="Fachstelle f%C3%BCr digitales Lehren und Lernen FDL":MAILTO:elearning.ph@fhnw.ch
END:VEVENT
BEGIN:VEVENT
DTSTART;TZID=Europe/Zurich:20230314T150000
DTEND;TZID=Europe/Zurich:20230314T160000
DTSTAMP:20260420T081524
CREATED:20230117T094645Z
LAST-MODIFIED:20230117T094645Z
UID:9708-1678806000-1678809600@test.digitallernen.ch
SUMMARY:Sprechstunde für Hochschullehrende - online
DESCRIPTION:Online: Link zur Zoom-Sitzung
URL:https://test.digitallernen.ch/termin/20230314-sprechstunde-hochschullehrende-online/
LOCATION:Online via Zoom
CATEGORIES:Sprechstunde Hochschulehrende
ATTACH;FMTTYPE=image/png:https://test.digitallernen.ch/wp-content/uploads/BeratungSprechstunde.png
ORGANIZER;CN="Fachstelle f%C3%BCr digitales Lehren und Lernen FDL":MAILTO:elearning.ph@fhnw.ch
END:VEVENT
BEGIN:VEVENT
DTSTART;TZID=Europe/Zurich:20230316T100000
DTEND;TZID=Europe/Zurich:20230316T110000
DTSTAMP:20260420T081524
CREATED:20230117T100346Z
LAST-MODIFIED:20230117T100346Z
UID:9732-1678960800-1678964400@test.digitallernen.ch
SUMMARY:Sprechstunde für Hochschullehrende - online
DESCRIPTION:Online: Link zur Zoom-Sitzung
URL:https://test.digitallernen.ch/termin/20230316-sprechstunde-hochschullehrende-online/
LOCATION:Online via Zoom
CATEGORIES:Sprechstunde Hochschulehrende
ATTACH;FMTTYPE=image/png:https://test.digitallernen.ch/wp-content/uploads/BeratungSprechstunde.png
ORGANIZER;CN="Fachstelle f%C3%BCr digitales Lehren und Lernen FDL":MAILTO:elearning.ph@fhnw.ch
END:VEVENT
BEGIN:VEVENT
DTSTART;TZID=Europe/Zurich:20230320T090000
DTEND;TZID=Europe/Zurich:20230320T100000
DTSTAMP:20260420T081524
CREATED:20221125T095750Z
LAST-MODIFIED:20221125T095750Z
UID:9407-1679302800-1679306400@test.digitallernen.ch
SUMMARY:DigiLearn4Students-Sprechstunde - Campus Muttenz - Raum 10.N.01
DESCRIPTION:
URL:https://test.digitallernen.ch/termin/20230320-sprechstunde-studierende-cmu/
LOCATION:Campus Muttenz – Raum 10.N.01\, Hofackerstrasse 30\, Muttenz\, 4132\, Switzerland
CATEGORIES:Sprechstunde Studierende
ATTACH;FMTTYPE=image/jpeg:https://test.digitallernen.ch/wp-content/uploads/Sprechstunden-DL4S.jpg
ORGANIZER;CN="Fachstelle f%C3%BCr digitales Lehren und Lernen FDL":MAILTO:elearning.ph@fhnw.ch
END:VEVENT
BEGIN:VEVENT
DTSTART;TZID=Europe/Zurich:20230321T120000
DTEND;TZID=Europe/Zurich:20230321T130000
DTSTAMP:20260420T081524
CREATED:20221125T092036Z
LAST-MODIFIED:20221125T092036Z
UID:9371-1679400000-1679403600@test.digitallernen.ch
SUMMARY:DigiLearn4Students-Sprechstunde - online
DESCRIPTION:Online: Link zur Zoom-Sitzung
URL:https://test.digitallernen.ch/termin/20230321-sprechstunde-studierende-online/
LOCATION:Online via Zoom
CATEGORIES:Sprechstunde Studierende
ATTACH;FMTTYPE=image/jpeg:https://test.digitallernen.ch/wp-content/uploads/Sprechstunden-DL4S.jpg
ORGANIZER;CN="Fachstelle f%C3%BCr digitales Lehren und Lernen FDL":MAILTO:elearning.ph@fhnw.ch
END:VEVENT
BEGIN:VEVENT
DTSTART;TZID=Europe/Zurich:20230321T150000
DTEND;TZID=Europe/Zurich:20230321T160000
DTSTAMP:20260420T081524
CREATED:20230117T094729Z
LAST-MODIFIED:20230117T094729Z
UID:9710-1679410800-1679414400@test.digitallernen.ch
SUMMARY:Sprechstunde für Hochschullehrende - online
DESCRIPTION:Online: Link zur Zoom-Sitzung
URL:https://test.digitallernen.ch/termin/20230321-sprechstunde-hochschullehrende-online/
LOCATION:Online via Zoom
CATEGORIES:Sprechstunde Hochschulehrende
ATTACH;FMTTYPE=image/png:https://test.digitallernen.ch/wp-content/uploads/BeratungSprechstunde.png
ORGANIZER;CN="Fachstelle f%C3%BCr digitales Lehren und Lernen FDL":MAILTO:elearning.ph@fhnw.ch
END:VEVENT
BEGIN:VEVENT
DTSTART;TZID=Europe/Zurich:20230322T090000
DTEND;TZID=Europe/Zurich:20230322T100000
DTSTAMP:20260420T081524
CREATED:20221125T094948Z
LAST-MODIFIED:20221125T095257Z
UID:9399-1679475600-1679479200@test.digitallernen.ch
SUMMARY:DigiLearn4Students-Sprechstunde - Campus Brugg-Windisch - Raum 6.4D30
DESCRIPTION:
URL:https://test.digitallernen.ch/termin/20230322-sprechstunde-studierende-cwb/
LOCATION:Campus Brugg Windisch – Raum 6.4D30\, Bahnhofstrasse 6\, Windisch\, 5210\, Switzerland
CATEGORIES:Sprechstunde Studierende
ATTACH;FMTTYPE=image/jpeg:https://test.digitallernen.ch/wp-content/uploads/Sprechstunden-DL4S.jpg
ORGANIZER;CN="Fachstelle f%C3%BCr digitales Lehren und Lernen FDL":MAILTO:elearning.ph@fhnw.ch
END:VEVENT
BEGIN:VEVENT
DTSTART;TZID=Europe/Zurich:20230323T100000
DTEND;TZID=Europe/Zurich:20230323T110000
DTSTAMP:20260420T081524
CREATED:20230117T100419Z
LAST-MODIFIED:20230117T100419Z
UID:9734-1679565600-1679569200@test.digitallernen.ch
SUMMARY:Sprechstunde für Hochschullehrende - online
DESCRIPTION:Online: Link zur Zoom-Sitzung
URL:https://test.digitallernen.ch/termin/20230323-sprechstunde-hochschullehrende-online/
LOCATION:Online via Zoom
CATEGORIES:Sprechstunde Hochschulehrende
ATTACH;FMTTYPE=image/png:https://test.digitallernen.ch/wp-content/uploads/BeratungSprechstunde.png
ORGANIZER;CN="Fachstelle f%C3%BCr digitales Lehren und Lernen FDL":MAILTO:elearning.ph@fhnw.ch
END:VEVENT
BEGIN:VEVENT
DTSTART;TZID=Europe/Zurich:20230328T120000
DTEND;TZID=Europe/Zurich:20230328T130000
DTSTAMP:20260420T081524
CREATED:20221125T092136Z
LAST-MODIFIED:20221125T092136Z
UID:9373-1680004800-1680008400@test.digitallernen.ch
SUMMARY:DigiLearn4Students-Sprechstunde - online
DESCRIPTION:Online: Link zur Zoom-Sitzung
URL:https://test.digitallernen.ch/termin/20230328-sprechstunde-studierende-online/
LOCATION:Online via Zoom
CATEGORIES:Sprechstunde Studierende
ATTACH;FMTTYPE=image/jpeg:https://test.digitallernen.ch/wp-content/uploads/Sprechstunden-DL4S.jpg
ORGANIZER;CN="Fachstelle f%C3%BCr digitales Lehren und Lernen FDL":MAILTO:elearning.ph@fhnw.ch
END:VEVENT
END:VCALENDAR