BEGIN:VCALENDAR
VERSION:2.0
PRODID:-//digitallernen - ECPv6.10.1.1//NONSGML v1.0//EN
CALSCALE:GREGORIAN
METHOD:PUBLISH
X-ORIGINAL-URL:https://test.digitallernen.ch
X-WR-CALDESC:Veranstaltungen im digitallernen
REFRESH-INTERVAL;VALUE=DURATION:PT1H
X-Robots-Tag:noindex
X-PUBLISHED-TTL:PT1H
BEGIN:VTIMEZONE
TZID:Europe/Zurich
BEGIN:DAYLIGHT
TZOFFSETFROM:+0100
TZOFFSETTO:+0200
TZNAME:CEST
DTSTART:20220327T010000
END:DAYLIGHT
BEGIN:STANDARD
TZOFFSETFROM:+0200
TZOFFSETTO:+0100
TZNAME:CET
DTSTART:20221030T010000
END:STANDARD
END:VTIMEZONE
BEGIN:VEVENT
DTSTART;TZID=Europe/Zurich:20221101T100000
DTEND;TZID=Europe/Zurich:20221101T110000
DTSTAMP:20260420T094845
CREATED:20220712T074410Z
LAST-MODIFIED:20220712T074410Z
UID:8719-1667296800-1667300400@test.digitallernen.ch
SUMMARY:Sprechstunde für Hochschullehrende - online
DESCRIPTION:Online: Link zur Zoom-Sitzung
URL:https://test.digitallernen.ch/termin/20221101-sprechstunde-fdl-online/
LOCATION:Online via Zoom
CATEGORIES:Sprechstunde Hochschulehrende
ATTACH;FMTTYPE=image/png:https://test.digitallernen.ch/wp-content/uploads/BeratungSprechstunde.png
ORGANIZER;CN="Fachstelle f%C3%BCr digitales Lehren und Lernen FDL":MAILTO:elearning.ph@fhnw.ch
END:VEVENT
BEGIN:VEVENT
DTSTART;TZID=Europe/Zurich:20221101T120000
DTEND;TZID=Europe/Zurich:20221101T130000
DTSTAMP:20260420T094845
CREATED:20220817T061150Z
LAST-MODIFIED:20220817T061150Z
UID:8974-1667304000-1667307600@test.digitallernen.ch
SUMMARY:DigiLearn4Students-Sprechstunde - online
DESCRIPTION:Online: Link zur Zoom-Sitzung
URL:https://test.digitallernen.ch/termin/20221101-sprechstunde-studierende-online/
LOCATION:Online via Zoom
CATEGORIES:Sprechstunde Studierende
ATTACH;FMTTYPE=image/jpeg:https://test.digitallernen.ch/wp-content/uploads/Sprechstunden-DL4S.jpg
ORGANIZER;CN="Fachstelle f%C3%BCr digitales Lehren und Lernen FDL":MAILTO:elearning.ph@fhnw.ch
END:VEVENT
BEGIN:VEVENT
DTSTART;TZID=Europe/Zurich:20221102T150000
DTEND;TZID=Europe/Zurich:20221102T160000
DTSTAMP:20260420T094845
CREATED:20220712T072701Z
LAST-MODIFIED:20220712T072701Z
UID:8689-1667401200-1667404800@test.digitallernen.ch
SUMMARY:Sprechstunde für Hochschullehrende - online
DESCRIPTION:Online: Link zur Zoom-Sitzung
URL:https://test.digitallernen.ch/termin/20221102-sprechstunde-hochschullehrende-online/
LOCATION:Online via Zoom
CATEGORIES:Sprechstunde Hochschulehrende
ATTACH;FMTTYPE=image/png:https://test.digitallernen.ch/wp-content/uploads/BeratungSprechstunde.png
ORGANIZER;CN="Fachstelle f%C3%BCr digitales Lehren und Lernen FDL":MAILTO:elearning.ph@fhnw.ch
END:VEVENT
BEGIN:VEVENT
DTSTART;TZID=Europe/Zurich:20221102T150000
DTEND;TZID=Europe/Zurich:20221102T160000
DTSTAMP:20260420T094845
CREATED:20220712T075614Z
LAST-MODIFIED:20220712T075614Z
UID:8740-1667401200-1667404800@test.digitallernen.ch
SUMMARY:Sprechstunde für Hochschullehrende – Campus Muttenz
DESCRIPTION:
URL:https://test.digitallernen.ch/termin/20221102-sprechstunde-fdl-cm/
LOCATION:Campus Muttenz – Raum 10.N.01\, Hofackerstrasse 30\, Muttenz\, 4132\, Switzerland
CATEGORIES:Sprechstunde Hochschulehrende
ATTACH;FMTTYPE=image/png:https://test.digitallernen.ch/wp-content/uploads/BeratungSprechstunde.png
ORGANIZER;CN="Fachstelle f%C3%BCr digitales Lehren und Lernen FDL":MAILTO:elearning.ph@fhnw.ch
END:VEVENT
BEGIN:VEVENT
DTSTART;TZID=Europe/Zurich:20221107T150000
DTEND;TZID=Europe/Zurich:20221107T160000
DTSTAMP:20260420T094845
CREATED:20220817T055443Z
LAST-MODIFIED:20220817T055443Z
UID:8953-1667833200-1667836800@test.digitallernen.ch
SUMMARY:DigiLearn4Students-Sprechstunde - Campus Muttenz - Raum 10.N.01
DESCRIPTION:
URL:https://test.digitallernen.ch/termin/20221017-sprechstunde-studierende-cwb-2-2/
LOCATION:Campus Muttenz – Raum 10.N.01\, Hofackerstrasse 30\, Muttenz\, 4132\, Switzerland
CATEGORIES:Sprechstunde Studierende
ATTACH;FMTTYPE=image/jpeg:https://test.digitallernen.ch/wp-content/uploads/Sprechstunden-DL4S.jpg
ORGANIZER;CN="Fachstelle f%C3%BCr digitales Lehren und Lernen FDL":MAILTO:elearning.ph@fhnw.ch
END:VEVENT
BEGIN:VEVENT
DTSTART;TZID=Europe/Zurich:20221108T100000
DTEND;TZID=Europe/Zurich:20221108T110000
DTSTAMP:20260420T094845
CREATED:20220712T074454Z
LAST-MODIFIED:20220712T074454Z
UID:8721-1667901600-1667905200@test.digitallernen.ch
SUMMARY:Sprechstunde für Hochschullehrende - online
DESCRIPTION:Online: Link zur Zoom-Sitzung
URL:https://test.digitallernen.ch/termin/20221108-sprechstunde-fdl-online/
LOCATION:Online via Zoom
CATEGORIES:Sprechstunde Hochschulehrende
ATTACH;FMTTYPE=image/png:https://test.digitallernen.ch/wp-content/uploads/BeratungSprechstunde.png
ORGANIZER;CN="Fachstelle f%C3%BCr digitales Lehren und Lernen FDL":MAILTO:elearning.ph@fhnw.ch
END:VEVENT
BEGIN:VEVENT
DTSTART;TZID=Europe/Zurich:20221108T120000
DTEND;TZID=Europe/Zurich:20221108T130000
DTSTAMP:20260420T094845
CREATED:20220817T061241Z
LAST-MODIFIED:20220817T061241Z
UID:8976-1667908800-1667912400@test.digitallernen.ch
SUMMARY:DigiLearn4Students-Sprechstunde - online
DESCRIPTION:Online: Link zur Zoom-Sitzung
URL:https://test.digitallernen.ch/termin/20221108-sprechstunde-studierende-online/
LOCATION:Online via Zoom
CATEGORIES:Sprechstunde Studierende
ATTACH;FMTTYPE=image/jpeg:https://test.digitallernen.ch/wp-content/uploads/Sprechstunden-DL4S.jpg
ORGANIZER;CN="Fachstelle f%C3%BCr digitales Lehren und Lernen FDL":MAILTO:elearning.ph@fhnw.ch
END:VEVENT
BEGIN:VEVENT
DTSTART;TZID=Europe/Zurich:20221109T150000
DTEND;TZID=Europe/Zurich:20221109T160000
DTSTAMP:20260420T094845
CREATED:20220712T072736Z
LAST-MODIFIED:20220712T072736Z
UID:8691-1668006000-1668009600@test.digitallernen.ch
SUMMARY:Sprechstunde für Hochschullehrende - online
DESCRIPTION:Online: Link zur Zoom-Sitzung
URL:https://test.digitallernen.ch/termin/20221109-sprechstunde-hochschullehrende-online/
LOCATION:Online via Zoom
CATEGORIES:Sprechstunde Hochschulehrende
ATTACH;FMTTYPE=image/png:https://test.digitallernen.ch/wp-content/uploads/BeratungSprechstunde.png
ORGANIZER;CN="Fachstelle f%C3%BCr digitales Lehren und Lernen FDL":MAILTO:elearning.ph@fhnw.ch
END:VEVENT
BEGIN:VEVENT
DTSTART;TZID=Europe/Zurich:20221115T100000
DTEND;TZID=Europe/Zurich:20221115T110000
DTSTAMP:20260420T094845
CREATED:20220712T074534Z
LAST-MODIFIED:20220712T074534Z
UID:8723-1668506400-1668510000@test.digitallernen.ch
SUMMARY:Sprechstunde für Hochschullehrende - online
DESCRIPTION:Online: Link zur Zoom-Sitzung
URL:https://test.digitallernen.ch/termin/20221115-sprechstunde-fdl-online/
LOCATION:Online via Zoom
CATEGORIES:Sprechstunde Hochschulehrende
ATTACH;FMTTYPE=image/png:https://test.digitallernen.ch/wp-content/uploads/BeratungSprechstunde.png
ORGANIZER;CN="Fachstelle f%C3%BCr digitales Lehren und Lernen FDL":MAILTO:elearning.ph@fhnw.ch
END:VEVENT
BEGIN:VEVENT
DTSTART;TZID=Europe/Zurich:20221115T120000
DTEND;TZID=Europe/Zurich:20221115T130000
DTSTAMP:20260420T094845
CREATED:20220817T061323Z
LAST-MODIFIED:20220817T061323Z
UID:8978-1668513600-1668517200@test.digitallernen.ch
SUMMARY:DigiLearn4Students-Sprechstunde - online
DESCRIPTION:Online: Link zur Zoom-Sitzung
URL:https://test.digitallernen.ch/termin/20221115-sprechstunde-studierende-online/
LOCATION:Online via Zoom
CATEGORIES:Sprechstunde Studierende
ATTACH;FMTTYPE=image/jpeg:https://test.digitallernen.ch/wp-content/uploads/Sprechstunden-DL4S.jpg
ORGANIZER;CN="Fachstelle f%C3%BCr digitales Lehren und Lernen FDL":MAILTO:elearning.ph@fhnw.ch
END:VEVENT
BEGIN:VEVENT
DTSTART;TZID=Europe/Zurich:20221116T150000
DTEND;TZID=Europe/Zurich:20221116T160000
DTSTAMP:20260420T094845
CREATED:20220712T072815Z
LAST-MODIFIED:20220712T072815Z
UID:8693-1668610800-1668614400@test.digitallernen.ch
SUMMARY:Sprechstunde für Hochschullehrende - online
DESCRIPTION:Online: Link zur Zoom-Sitzung
URL:https://test.digitallernen.ch/termin/20221116-sprechstunde-hochschullehrende-online/
LOCATION:Online via Zoom
CATEGORIES:Sprechstunde Hochschulehrende
ATTACH;FMTTYPE=image/png:https://test.digitallernen.ch/wp-content/uploads/BeratungSprechstunde.png
ORGANIZER;CN="Fachstelle f%C3%BCr digitales Lehren und Lernen FDL":MAILTO:elearning.ph@fhnw.ch
END:VEVENT
BEGIN:VEVENT
DTSTART;TZID=Europe/Zurich:20221123T150000
DTEND;TZID=Europe/Zurich:20221123T160000
DTSTAMP:20260420T094845
CREATED:20220712T072847Z
LAST-MODIFIED:20220712T072847Z
UID:8695-1669215600-1669219200@test.digitallernen.ch
SUMMARY:Sprechstunde für Hochschullehrende - online
DESCRIPTION:Online: Link zur Zoom-Sitzung
URL:https://test.digitallernen.ch/termin/20221123-sprechstunde-hochschullehrende-online/
LOCATION:Online via Zoom
CATEGORIES:Sprechstunde Hochschulehrende
ATTACH;FMTTYPE=image/png:https://test.digitallernen.ch/wp-content/uploads/BeratungSprechstunde.png
ORGANIZER;CN="Fachstelle f%C3%BCr digitales Lehren und Lernen FDL":MAILTO:elearning.ph@fhnw.ch
END:VEVENT
BEGIN:VEVENT
DTSTART;VALUE=DATE:20221124
DTEND;VALUE=DATE:20221126
DTSTAMP:20260420T094845
CREATED:20220825T114811Z
LAST-MODIFIED:20221024T125839Z
UID:9034-1669248000-1669420799@test.digitallernen.ch
SUMMARY:FDL Beiträge - Communistage: Oberflächen- und Tiefenstruktur des Lehrens und Lernens
DESCRIPTION:Die FDL freut sich\, an den Communistagen 2022 vom 24./25. November am Campus Brugg-Windisch mehrere Referate anzubieten. Wir freuen uns auf einen angeregten Austausch! \n\nRicarda T.D. Reimer\, Silvan Flückiger\, Kathrin Kochs: “Bildung in der digitalen Transformation. Medienpädagogische Implikationen für die Hochschullehre”\nOliver Lang: “Kollaborative Gestaltung von E-Prüfungen mit Moodle 4.0”\nSarah Dina Kohl: “Gamification – Spielerisch Wissen erweitern”\n\n  \n 
URL:https://test.digitallernen.ch/termin/communistage-ph-fhnw-2022-oberflaechen-und-tiefenstruktur-des-lehrens-und-lernens-2/
END:VEVENT
BEGIN:VEVENT
DTSTART;TZID=Europe/Zurich:20221128T140000
DTEND;TZID=Europe/Zurich:20221128T170000
DTSTAMP:20260420T094845
CREATED:20221024T143339Z
LAST-MODIFIED:20221025T071533Z
UID:9244-1669644000-1669654800@test.digitallernen.ch
SUMMARY:Teilnahme an Ringvorlesung «Lehren und Lernen in hybriden Lernräumen – Konzepte\, Modelle\, Szenarien»
DESCRIPTION:Link: https://www.e-teaching.org/community/communityevents/ringvorlesung/hybride-lernraeume-in-der-hochschullehre
URL:https://test.digitallernen.ch/termin/teilnahme-an-ringvorlesung-lehren-und-lernen-in-hybriden-lernraeumen-konzepte-modelle-szenarien/
LOCATION:Online via Zoom
END:VEVENT
BEGIN:VEVENT
DTSTART;TZID=Europe/Zurich:20221129T100000
DTEND;TZID=Europe/Zurich:20221129T110000
DTSTAMP:20260420T094845
CREATED:20220712T073440Z
LAST-MODIFIED:20220923T104654Z
UID:8707-1669716000-1669719600@test.digitallernen.ch
SUMMARY:Sprechstunde für Hochschullehrende – Campus Brugg-Windisch
DESCRIPTION:
URL:https://test.digitallernen.ch/termin/20221129-sprechstunde-fdl-cbw/
LOCATION:Campus Brugg Windisch – Raum 6.3D30\, Bahnhofstrasse 6\, Windisch\, 5210\, Switzerland
CATEGORIES:Sprechstunde Hochschulehrende
ATTACH;FMTTYPE=image/png:https://test.digitallernen.ch/wp-content/uploads/BeratungSprechstunde.png
ORGANIZER;CN="Fachstelle f%C3%BCr digitales Lehren und Lernen FDL":MAILTO:elearning.ph@fhnw.ch
END:VEVENT
BEGIN:VEVENT
DTSTART;TZID=Europe/Zurich:20221129T100000
DTEND;TZID=Europe/Zurich:20221129T110000
DTSTAMP:20260420T094845
CREATED:20220712T074706Z
LAST-MODIFIED:20220712T074706Z
UID:8727-1669716000-1669719600@test.digitallernen.ch
SUMMARY:Sprechstunde für Hochschullehrende - online
DESCRIPTION:Online: Link zur Zoom-Sitzung
URL:https://test.digitallernen.ch/termin/20221129-sprechstunde-fdl-online/
LOCATION:Online via Zoom
CATEGORIES:Sprechstunde Hochschulehrende
ATTACH;FMTTYPE=image/png:https://test.digitallernen.ch/wp-content/uploads/BeratungSprechstunde.png
ORGANIZER;CN="Fachstelle f%C3%BCr digitales Lehren und Lernen FDL":MAILTO:elearning.ph@fhnw.ch
END:VEVENT
BEGIN:VEVENT
DTSTART;TZID=Europe/Zurich:20221129T120000
DTEND;TZID=Europe/Zurich:20221129T130000
DTSTAMP:20260420T094845
CREATED:20220817T061354Z
LAST-MODIFIED:20220817T061354Z
UID:8980-1669723200-1669726800@test.digitallernen.ch
SUMMARY:DigiLearn4Students-Sprechstunde - online
DESCRIPTION:Online: Link zur Zoom-Sitzung
URL:https://test.digitallernen.ch/termin/20221129-sprechstunde-studierende-online/
LOCATION:Online via Zoom
CATEGORIES:Sprechstunde Studierende
ATTACH;FMTTYPE=image/jpeg:https://test.digitallernen.ch/wp-content/uploads/Sprechstunden-DL4S.jpg
ORGANIZER;CN="Fachstelle f%C3%BCr digitales Lehren und Lernen FDL":MAILTO:elearning.ph@fhnw.ch
END:VEVENT
BEGIN:VEVENT
DTSTART;TZID=Europe/Zurich:20221130T123000
DTEND;TZID=Europe/Zurich:20221130T133000
DTSTAMP:20260420T094845
CREATED:20220817T060406Z
LAST-MODIFIED:20220817T060406Z
UID:8962-1669811400-1669815000@test.digitallernen.ch
SUMMARY:DigiLearn4Students-Sprechstunde - Campus Brugg-Windisch - Raum 6.4D30
DESCRIPTION:
URL:https://test.digitallernen.ch/termin/20221130-sprechstunde-studierende-cwb/
LOCATION:Campus Brugg Windisch – Raum 6.4D30\, Bahnhofstrasse 6\, Windisch\, 5210\, Switzerland
CATEGORIES:Sprechstunde Studierende
ATTACH;FMTTYPE=image/jpeg:https://test.digitallernen.ch/wp-content/uploads/Sprechstunden-DL4S.jpg
ORGANIZER;CN="Fachstelle f%C3%BCr digitales Lehren und Lernen FDL":MAILTO:elearning.ph@fhnw.ch
END:VEVENT
BEGIN:VEVENT
DTSTART;TZID=Europe/Zurich:20221130T150000
DTEND;TZID=Europe/Zurich:20221130T160000
DTSTAMP:20260420T094845
CREATED:20220712T072921Z
LAST-MODIFIED:20220712T072921Z
UID:8697-1669820400-1669824000@test.digitallernen.ch
SUMMARY:Sprechstunde für Hochschullehrende - online
DESCRIPTION:Online: Link zur Zoom-Sitzung
URL:https://test.digitallernen.ch/termin/20221130-sprechstunde-hochschullehrende-online-3/
LOCATION:Online via Zoom
CATEGORIES:Sprechstunde Hochschulehrende
ATTACH;FMTTYPE=image/png:https://test.digitallernen.ch/wp-content/uploads/BeratungSprechstunde.png
ORGANIZER;CN="Fachstelle f%C3%BCr digitales Lehren und Lernen FDL":MAILTO:elearning.ph@fhnw.ch
END:VEVENT
BEGIN:VEVENT
DTSTART;TZID=Europe/Zurich:20221205T123000
DTEND;TZID=Europe/Zurich:20221205T133000
DTSTAMP:20260420T094845
CREATED:20220817T055541Z
LAST-MODIFIED:20220817T055541Z
UID:8955-1670243400-1670247000@test.digitallernen.ch
SUMMARY:DigiLearn4Students-Sprechstunde - Campus Muttenz - Raum 10.N.01
DESCRIPTION:
URL:https://test.digitallernen.ch/termin/20221017-sprechstunde-studierende-cwb-2-2-2/
LOCATION:Campus Muttenz – Raum 10.N.01\, Hofackerstrasse 30\, Muttenz\, 4132\, Switzerland
CATEGORIES:Sprechstunde Studierende
ATTACH;FMTTYPE=image/jpeg:https://test.digitallernen.ch/wp-content/uploads/Sprechstunden-DL4S.jpg
ORGANIZER;CN="Fachstelle f%C3%BCr digitales Lehren und Lernen FDL":MAILTO:elearning.ph@fhnw.ch
END:VEVENT
BEGIN:VEVENT
DTSTART;TZID=Europe/Zurich:20221206T100000
DTEND;TZID=Europe/Zurich:20221206T110000
DTSTAMP:20260420T094845
CREATED:20220712T074849Z
LAST-MODIFIED:20220712T074849Z
UID:8731-1670320800-1670324400@test.digitallernen.ch
SUMMARY:Sprechstunde für Hochschullehrende - online
DESCRIPTION:Online: Link zur Zoom-Sitzung
URL:https://test.digitallernen.ch/termin/20221206-sprechstunde-fdl-online/
LOCATION:Online via Zoom
CATEGORIES:Sprechstunde Hochschulehrende
ATTACH;FMTTYPE=image/png:https://test.digitallernen.ch/wp-content/uploads/BeratungSprechstunde.png
ORGANIZER;CN="Fachstelle f%C3%BCr digitales Lehren und Lernen FDL":MAILTO:elearning.ph@fhnw.ch
END:VEVENT
BEGIN:VEVENT
DTSTART;TZID=Europe/Zurich:20221206T120000
DTEND;TZID=Europe/Zurich:20221206T130000
DTSTAMP:20260420T094845
CREATED:20220817T061436Z
LAST-MODIFIED:20220817T061436Z
UID:8982-1670328000-1670331600@test.digitallernen.ch
SUMMARY:DigiLearn4Students-Sprechstunde - online
DESCRIPTION:Online: Link zur Zoom-Sitzung
URL:https://test.digitallernen.ch/termin/20221206-sprechstunde-studierende-online/
LOCATION:Online via Zoom
CATEGORIES:Sprechstunde Studierende
ATTACH;FMTTYPE=image/jpeg:https://test.digitallernen.ch/wp-content/uploads/Sprechstunden-DL4S.jpg
ORGANIZER;CN="Fachstelle f%C3%BCr digitales Lehren und Lernen FDL":MAILTO:elearning.ph@fhnw.ch
END:VEVENT
BEGIN:VEVENT
DTSTART;TZID=Europe/Zurich:20221207T150000
DTEND;TZID=Europe/Zurich:20221207T160000
DTSTAMP:20260420T094845
CREATED:20220712T073009Z
LAST-MODIFIED:20220712T073009Z
UID:8699-1670425200-1670428800@test.digitallernen.ch
SUMMARY:Sprechstunde für Hochschullehrende - online
DESCRIPTION:Online: Link zur Zoom-Sitzung
URL:https://test.digitallernen.ch/termin/20221207-sprechstunde-hochschullehrende-online/
LOCATION:Online via Zoom
CATEGORIES:Sprechstunde Hochschulehrende
ATTACH;FMTTYPE=image/png:https://test.digitallernen.ch/wp-content/uploads/BeratungSprechstunde.png
ORGANIZER;CN="Fachstelle f%C3%BCr digitales Lehren und Lernen FDL":MAILTO:elearning.ph@fhnw.ch
END:VEVENT
BEGIN:VEVENT
DTSTART;TZID=Europe/Zurich:20221207T150000
DTEND;TZID=Europe/Zurich:20221207T160000
DTSTAMP:20260420T094845
CREATED:20220712T075702Z
LAST-MODIFIED:20220712T075702Z
UID:8742-1670425200-1670428800@test.digitallernen.ch
SUMMARY:Sprechstunde für Hochschullehrende – Campus Muttenz
DESCRIPTION:
URL:https://test.digitallernen.ch/termin/20221207-sprechstunde-fdl-cm/
LOCATION:Campus Muttenz – Raum 10.N.01\, Hofackerstrasse 30\, Muttenz\, 4132\, Switzerland
CATEGORIES:Sprechstunde Hochschulehrende
ATTACH;FMTTYPE=image/png:https://test.digitallernen.ch/wp-content/uploads/BeratungSprechstunde.png
ORGANIZER;CN="Fachstelle f%C3%BCr digitales Lehren und Lernen FDL":MAILTO:elearning.ph@fhnw.ch
END:VEVENT
BEGIN:VEVENT
DTSTART;TZID=Europe/Zurich:20221212T123000
DTEND;TZID=Europe/Zurich:20221212T133000
DTSTAMP:20260420T094845
CREATED:20220817T060445Z
LAST-MODIFIED:20220817T060445Z
UID:8964-1670848200-1670851800@test.digitallernen.ch
SUMMARY:DigiLearn4Students-Sprechstunde - Campus Brugg-Windisch - Raum 6.4D30
DESCRIPTION:
URL:https://test.digitallernen.ch/termin/20221212-sprechstunde-studierende-cwb/
LOCATION:Campus Brugg Windisch – Raum 6.4D30\, Bahnhofstrasse 6\, Windisch\, 5210\, Switzerland
CATEGORIES:Sprechstunde Studierende
ATTACH;FMTTYPE=image/jpeg:https://test.digitallernen.ch/wp-content/uploads/Sprechstunden-DL4S.jpg
ORGANIZER;CN="Fachstelle f%C3%BCr digitales Lehren und Lernen FDL":MAILTO:elearning.ph@fhnw.ch
END:VEVENT
BEGIN:VEVENT
DTSTART;TZID=Europe/Zurich:20221213T100000
DTEND;TZID=Europe/Zurich:20221213T110000
DTSTAMP:20260420T094845
CREATED:20220712T074928Z
LAST-MODIFIED:20220712T074928Z
UID:8733-1670925600-1670929200@test.digitallernen.ch
SUMMARY:Sprechstunde für Hochschullehrende - online
DESCRIPTION:Online: Link zur Zoom-Sitzung
URL:https://test.digitallernen.ch/termin/20221213-sprechstunde-fdl-online/
LOCATION:Online via Zoom
CATEGORIES:Sprechstunde Hochschulehrende
ATTACH;FMTTYPE=image/png:https://test.digitallernen.ch/wp-content/uploads/BeratungSprechstunde.png
ORGANIZER;CN="Fachstelle f%C3%BCr digitales Lehren und Lernen FDL":MAILTO:elearning.ph@fhnw.ch
END:VEVENT
BEGIN:VEVENT
DTSTART;TZID=Europe/Zurich:20221213T120000
DTEND;TZID=Europe/Zurich:20221213T130000
DTSTAMP:20260420T094845
CREATED:20220817T061519Z
LAST-MODIFIED:20220817T061519Z
UID:8984-1670932800-1670936400@test.digitallernen.ch
SUMMARY:DigiLearn4Students-Sprechstunde - online
DESCRIPTION:Online: Link zur Zoom-Sitzung
URL:https://test.digitallernen.ch/termin/20221213-sprechstunde-studierende-online/
LOCATION:Online via Zoom
CATEGORIES:Sprechstunde Studierende
ATTACH;FMTTYPE=image/jpeg:https://test.digitallernen.ch/wp-content/uploads/Sprechstunden-DL4S.jpg
ORGANIZER;CN="Fachstelle f%C3%BCr digitales Lehren und Lernen FDL":MAILTO:elearning.ph@fhnw.ch
END:VEVENT
BEGIN:VEVENT
DTSTART;TZID=Europe/Zurich:20221214T090000
DTEND;TZID=Europe/Zurich:20221214T110000
DTSTAMP:20260420T094845
CREATED:20221201T080341Z
LAST-MODIFIED:20221201T084528Z
UID:9469-1671008400-1671015600@test.digitallernen.ch
SUMMARY:Workshop FHNW Learning Spaces: Brugg-Windisch (mehrere Räume)
DESCRIPTION:Sie planen eine Weiterbildung mit Projektgruppen? Sie suchen für Ihren Teamanlass passende Räume? Sie möchten Ihren Studierenden ideale Räume für Gruppenarbeiten zur Verfügung stellen? \nDann muss Sie die sogar aus der Sicht des Projektes FHNW Learning Spaces sehr spezielle Raumkonstellation am Campus Brugg-Windisch interessieren! \nMit dem Workshop-Raum (6.3A03)\, dem Multimedia-Experimentierraum (6.3A08)\, flexiblen Arbeitsplätzen für Studierende im 4. Stock und Möglichkeiten für Break-Out Sessions (3. Stock) ist ein hochflexibler Raumkomplex entstanden. \nWir bieten Workshops an\, diese FHNW Learning Spaces kennenzulernen: Entdecken\, kennenlernen und ausprobieren – wie werden FHNW Learning Spaces zu “Resonanzräumen“* zu welchen wir in Beziehung treten und von denen wir uns zu diversen und auch experimentelle Lehr-/Lernsettings inspirieren lassen? Nach der Auswertung einiger erfolgreicher Workshops seit Frühjahr 2022 mussten die Dauer der Workshops angepasst werden: Neu nehmen wir uns zwei Stunden Zeit. Diese Zeit ist notwendig und wertvoll\, denn nur so kann ein Austausch und eine Diskussion entstehen\, die sich über “korrekte Bedienung” hinaus um einen didaktisch geschickten Einsatz dreht. \nDieser Weiterbildungs- und Vernetzungsanlass findet im Rahmen des Projekts FHNW Learning Spaces statt und wird von der Fachstelle Digitales Lehren und Lernen zusammen mit weiteren Projektmitarbeiter*innen angeboten. \nWeitere Informationen und Anmeldung \n*Das Resonanzraum-Konzept folgt Hartmut Rosas Resonanzkonzept – mehr dazu auch im Blogbeitrag – Achtung\, die Anmeldung zu den Workshops über den Blogbeitrag ist veraltet.
URL:https://test.digitallernen.ch/termin/workshop-fhnw-learning-spaces-workshop-raum-brugg-windisch-2/
LOCATION:Campus Brugg Windisch Raum 6.3A03\, Bahnhofstrasse 6\, Windisch\, 5210\, Switzerland
CATEGORIES:FHNW Learning Spaces,Hochschulinterne Weiterbildung,Learning Spaces,Leitung Weiterbildung
ATTACH;FMTTYPE=image/jpeg:https://test.digitallernen.ch/wp-content/uploads/FHNW_Learning_Spaces.jpg
ORGANIZER;CN="C%C3%A4sar K%C3%BCnzi":MAILTO:caesar.kuenzi@fhnw.ch
END:VEVENT
BEGIN:VEVENT
DTSTART;TZID=Europe/Zurich:20221214T144500
DTEND;TZID=Europe/Zurich:20221214T154500
DTSTAMP:20260420T094845
CREATED:20220712T073049Z
LAST-MODIFIED:20221214T143108Z
UID:8701-1671029100-1671032700@test.digitallernen.ch
SUMMARY:Sprechstunde für Hochschullehrende - online
DESCRIPTION:Online: Link zur Zoom-Sitzung
URL:https://test.digitallernen.ch/termin/20221214-sprechstunde-hochschullehrende-online/
LOCATION:Online via Zoom
CATEGORIES:Sprechstunde Hochschulehrende
ATTACH;FMTTYPE=image/png:https://test.digitallernen.ch/wp-content/uploads/BeratungSprechstunde.png
ORGANIZER;CN="Fachstelle f%C3%BCr digitales Lehren und Lernen FDL":MAILTO:elearning.ph@fhnw.ch
END:VEVENT
BEGIN:VEVENT
DTSTART;TZID=Europe/Zurich:20221214T144500
DTEND;TZID=Europe/Zurich:20221214T154500
DTSTAMP:20260420T094845
CREATED:20220712T075957Z
LAST-MODIFIED:20221214T140141Z
UID:8746-1671029100-1671032700@test.digitallernen.ch
SUMMARY:Sprechstunde für Hochschullehrende – Standort Solothurn
DESCRIPTION:
URL:https://test.digitallernen.ch/termin/20221214-sprechstunde-fdl-sso/
LOCATION:Standort Solothurn – Raum A200\, Obere Sternengasse 7\, Solothurn\, 4502\, Switzerland
CATEGORIES:Sprechstunde Hochschulehrende
ATTACH;FMTTYPE=image/png:https://test.digitallernen.ch/wp-content/uploads/BeratungSprechstunde.png
ORGANIZER;CN="Fachstelle f%C3%BCr digitales Lehren und Lernen FDL":MAILTO:elearning.ph@fhnw.ch
END:VEVENT
END:VCALENDAR