BEGIN:VCALENDAR
VERSION:2.0
PRODID:-//digitallernen - ECPv6.10.1.1//NONSGML v1.0//EN
CALSCALE:GREGORIAN
METHOD:PUBLISH
X-ORIGINAL-URL:https://test.digitallernen.ch
X-WR-CALDESC:Veranstaltungen im digitallernen
REFRESH-INTERVAL;VALUE=DURATION:PT1H
X-Robots-Tag:noindex
X-PUBLISHED-TTL:PT1H
BEGIN:VTIMEZONE
TZID:Europe/Zurich
BEGIN:DAYLIGHT
TZOFFSETFROM:+0100
TZOFFSETTO:+0200
TZNAME:CEST
DTSTART:20220327T010000
END:DAYLIGHT
BEGIN:STANDARD
TZOFFSETFROM:+0200
TZOFFSETTO:+0100
TZNAME:CET
DTSTART:20221030T010000
END:STANDARD
END:VTIMEZONE
BEGIN:VEVENT
DTSTART;TZID=Europe/Zurich:20221004T100000
DTEND;TZID=Europe/Zurich:20221004T110000
DTSTAMP:20260420T111917
CREATED:20220712T073702Z
LAST-MODIFIED:20220712T073702Z
UID:8709-1664877600-1664881200@test.digitallernen.ch
SUMMARY:Sprechstunde für Hochschullehrende - online
DESCRIPTION:Online: Link zur Zoom-Sitzung
URL:https://test.digitallernen.ch/termin/20221004-sprechstunde-fdl/
LOCATION:Online via Zoom
CATEGORIES:Sprechstunde Hochschulehrende
ATTACH;FMTTYPE=image/png:https://test.digitallernen.ch/wp-content/uploads/BeratungSprechstunde.png
ORGANIZER;CN="Fachstelle f%C3%BCr digitales Lehren und Lernen FDL":MAILTO:elearning.ph@fhnw.ch
END:VEVENT
BEGIN:VEVENT
DTSTART;TZID=Europe/Zurich:20221004T100000
DTEND;TZID=Europe/Zurich:20221004T110000
DTSTAMP:20260420T111917
CREATED:20220712T075856Z
LAST-MODIFIED:20220906T125957Z
UID:8744-1664877600-1664881200@test.digitallernen.ch
SUMMARY:Sprechstunde für Hochschullehrende – Standort Solothurn
DESCRIPTION:
URL:https://test.digitallernen.ch/termin/20221012-sprechstunde-fdl-sso/
LOCATION:Standort Solothurn – Raum A200\, Obere Sternengasse 7\, Solothurn\, 4502\, Switzerland
CATEGORIES:Sprechstunde Hochschulehrende
ATTACH;FMTTYPE=image/png:https://test.digitallernen.ch/wp-content/uploads/BeratungSprechstunde.png
ORGANIZER;CN="Fachstelle f%C3%BCr digitales Lehren und Lernen FDL":MAILTO:elearning.ph@fhnw.ch
END:VEVENT
BEGIN:VEVENT
DTSTART;TZID=Europe/Zurich:20221004T120000
DTEND;TZID=Europe/Zurich:20221004T130000
DTSTAMP:20260420T111917
CREATED:20220627T111538Z
LAST-MODIFIED:20220711T073428Z
UID:8524-1664884800-1664888400@test.digitallernen.ch
SUMMARY:DigiLearn4Students-Sprechstunde - online
DESCRIPTION:Online: Link zur Zoom-Sitzung
URL:https://test.digitallernen.ch/termin/20220912-sprechstunde-studierende-online/
LOCATION:Online via Zoom
CATEGORIES:Sprechstunde Studierende
ATTACH;FMTTYPE=image/jpeg:https://test.digitallernen.ch/wp-content/uploads/Sprechstunden-DL4S.jpg
ORGANIZER;CN="Fachstelle f%C3%BCr digitales Lehren und Lernen FDL":MAILTO:elearning.ph@fhnw.ch
END:VEVENT
BEGIN:VEVENT
DTSTART;TZID=Europe/Zurich:20221005T150000
DTEND;TZID=Europe/Zurich:20221005T160000
DTSTAMP:20260420T111917
CREATED:20220712T072357Z
LAST-MODIFIED:20220712T072357Z
UID:8681-1664982000-1664985600@test.digitallernen.ch
SUMMARY:Sprechstunde für Hochschullehrende - online
DESCRIPTION:Online: Link zur Zoom-Sitzung
URL:https://test.digitallernen.ch/termin/20220928-sprechstunde-hochschullehrende-online-2/
LOCATION:Online via Zoom
CATEGORIES:Sprechstunde Hochschulehrende
ATTACH;FMTTYPE=image/png:https://test.digitallernen.ch/wp-content/uploads/BeratungSprechstunde.png
ORGANIZER;CN="Fachstelle f%C3%BCr digitales Lehren und Lernen FDL":MAILTO:elearning.ph@fhnw.ch
END:VEVENT
BEGIN:VEVENT
DTSTART;TZID=Europe/Zurich:20221005T150000
DTEND;TZID=Europe/Zurich:20221005T160000
DTSTAMP:20260420T111917
CREATED:20220712T075459Z
LAST-MODIFIED:20220712T075459Z
UID:8737-1664982000-1664985600@test.digitallernen.ch
SUMMARY:Sprechstunde für Hochschullehrende – Campus Muttenz
DESCRIPTION:
URL:https://test.digitallernen.ch/termin/20221005-sprechstunde-fdl-cm/
LOCATION:Campus Muttenz – Raum 10.N.01\, Hofackerstrasse 30\, Muttenz\, 4132\, Switzerland
CATEGORIES:Sprechstunde Hochschulehrende
ATTACH;FMTTYPE=image/png:https://test.digitallernen.ch/wp-content/uploads/BeratungSprechstunde.png
ORGANIZER;CN="Fachstelle f%C3%BCr digitales Lehren und Lernen FDL":MAILTO:elearning.ph@fhnw.ch
END:VEVENT
BEGIN:VEVENT
DTSTART;TZID=Europe/Zurich:20221011T100000
DTEND;TZID=Europe/Zurich:20221011T110000
DTSTAMP:20260420T111917
CREATED:20220712T074023Z
LAST-MODIFIED:20220712T074023Z
UID:8711-1665482400-1665486000@test.digitallernen.ch
SUMMARY:Sprechstunde für Hochschullehrende - online
DESCRIPTION:Online: Link zur Zoom-Sitzung
URL:https://test.digitallernen.ch/termin/20221011-sprechstunde-fdl-online/
LOCATION:Online via Zoom
CATEGORIES:Sprechstunde Hochschulehrende
ATTACH;FMTTYPE=image/png:https://test.digitallernen.ch/wp-content/uploads/BeratungSprechstunde.png
ORGANIZER;CN="Fachstelle f%C3%BCr digitales Lehren und Lernen FDL":MAILTO:elearning.ph@fhnw.ch
END:VEVENT
BEGIN:VEVENT
DTSTART;TZID=Europe/Zurich:20221011T120000
DTEND;TZID=Europe/Zurich:20221011T130000
DTSTAMP:20260420T111917
CREATED:20220817T060957Z
LAST-MODIFIED:20220817T060957Z
UID:8968-1665489600-1665493200@test.digitallernen.ch
SUMMARY:DigiLearn4Students-Sprechstunde - online
DESCRIPTION:Online: Link zur Zoom-Sitzung
URL:https://test.digitallernen.ch/termin/20221011-sprechstunde-studierende-online/
LOCATION:Online via Zoom
CATEGORIES:Sprechstunde Studierende
ATTACH;FMTTYPE=image/jpeg:https://test.digitallernen.ch/wp-content/uploads/Sprechstunden-DL4S.jpg
ORGANIZER;CN="Fachstelle f%C3%BCr digitales Lehren und Lernen FDL":MAILTO:elearning.ph@fhnw.ch
END:VEVENT
BEGIN:VEVENT
DTSTART;TZID=Europe/Zurich:20221012T150000
DTEND;TZID=Europe/Zurich:20221012T160000
DTSTAMP:20260420T111917
CREATED:20220712T072459Z
LAST-MODIFIED:20220712T072459Z
UID:8683-1665586800-1665590400@test.digitallernen.ch
SUMMARY:Sprechstunde für Hochschullehrende - online
DESCRIPTION:Online: Link zur Zoom-Sitzung
URL:https://test.digitallernen.ch/termin/20221012-sprechstunde-hochschullehrende-online/
LOCATION:Online via Zoom
CATEGORIES:Sprechstunde Hochschulehrende
ATTACH;FMTTYPE=image/png:https://test.digitallernen.ch/wp-content/uploads/BeratungSprechstunde.png
ORGANIZER;CN="Fachstelle f%C3%BCr digitales Lehren und Lernen FDL":MAILTO:elearning.ph@fhnw.ch
END:VEVENT
BEGIN:VEVENT
DTSTART;TZID=Europe/Zurich:20221017T140000
DTEND;TZID=Europe/Zurich:20221017T150000
DTSTAMP:20260420T111917
CREATED:20220711T063649Z
LAST-MODIFIED:20220817T055108Z
UID:8660-1666015200-1666018800@test.digitallernen.ch
SUMMARY:DigiLearn4Students-Sprechstunde - Campus Muttenz - Raum 10.N.01
DESCRIPTION:
URL:https://test.digitallernen.ch/termin/20221017-sprechstunde-studierende-cwb/
LOCATION:Campus Muttenz – Raum 10.N.01\, Hofackerstrasse 30\, Muttenz\, 4132\, Switzerland
CATEGORIES:Sprechstunde Studierende
ATTACH;FMTTYPE=image/jpeg:https://test.digitallernen.ch/wp-content/uploads/Sprechstunden-DL4S.jpg
ORGANIZER;CN="Fachstelle f%C3%BCr digitales Lehren und Lernen FDL":MAILTO:elearning.ph@fhnw.ch
END:VEVENT
BEGIN:VEVENT
DTSTART;TZID=Europe/Zurich:20221018T100000
DTEND;TZID=Europe/Zurich:20221018T110000
DTSTAMP:20260420T111917
CREATED:20220712T074133Z
LAST-MODIFIED:20220712T074133Z
UID:8713-1666087200-1666090800@test.digitallernen.ch
SUMMARY:Sprechstunde für Hochschullehrende - online
DESCRIPTION:Online: Link zur Zoom-Sitzung
URL:https://test.digitallernen.ch/termin/20221018-sprechstunde-fdl-online/
LOCATION:Online via Zoom
CATEGORIES:Sprechstunde Hochschulehrende
ATTACH;FMTTYPE=image/png:https://test.digitallernen.ch/wp-content/uploads/BeratungSprechstunde.png
ORGANIZER;CN="Fachstelle f%C3%BCr digitales Lehren und Lernen FDL":MAILTO:elearning.ph@fhnw.ch
END:VEVENT
BEGIN:VEVENT
DTSTART;TZID=Europe/Zurich:20221018T120000
DTEND;TZID=Europe/Zurich:20221018T130000
DTSTAMP:20260420T111917
CREATED:20220817T061033Z
LAST-MODIFIED:20220817T061033Z
UID:8970-1666094400-1666098000@test.digitallernen.ch
SUMMARY:DigiLearn4Students-Sprechstunde - online
DESCRIPTION:Online: Link zur Zoom-Sitzung
URL:https://test.digitallernen.ch/termin/20221018-sprechstunde-studierende-online/
LOCATION:Online via Zoom
CATEGORIES:Sprechstunde Studierende
ATTACH;FMTTYPE=image/jpeg:https://test.digitallernen.ch/wp-content/uploads/Sprechstunden-DL4S.jpg
ORGANIZER;CN="Fachstelle f%C3%BCr digitales Lehren und Lernen FDL":MAILTO:elearning.ph@fhnw.ch
END:VEVENT
BEGIN:VEVENT
DTSTART;TZID=Europe/Zurich:20221019T150000
DTEND;TZID=Europe/Zurich:20221019T160000
DTSTAMP:20260420T111917
CREATED:20220712T072538Z
LAST-MODIFIED:20220712T072538Z
UID:8685-1666191600-1666195200@test.digitallernen.ch
SUMMARY:Sprechstunde für Hochschullehrende - online
DESCRIPTION:Online: Link zur Zoom-Sitzung
URL:https://test.digitallernen.ch/termin/20221019-sprechstunde-hochschullehrende-online/
LOCATION:Online via Zoom
CATEGORIES:Sprechstunde Hochschulehrende
ATTACH;FMTTYPE=image/png:https://test.digitallernen.ch/wp-content/uploads/BeratungSprechstunde.png
ORGANIZER;CN="Fachstelle f%C3%BCr digitales Lehren und Lernen FDL":MAILTO:elearning.ph@fhnw.ch
END:VEVENT
BEGIN:VEVENT
DTSTART;TZID=Europe/Zurich:20221025T100000
DTEND;TZID=Europe/Zurich:20221025T110000
DTSTAMP:20260420T111917
CREATED:20220712T073359Z
LAST-MODIFIED:20220923T104619Z
UID:8705-1666692000-1666695600@test.digitallernen.ch
SUMMARY:Sprechstunde für Hochschullehrende – Campus Brugg-Windisch
DESCRIPTION:
URL:https://test.digitallernen.ch/termin/20221025-sprechstunde-fdl-cbw/
LOCATION:Campus Brugg Windisch – Raum 6.3D30\, Bahnhofstrasse 6\, Windisch\, 5210\, Switzerland
CATEGORIES:Sprechstunde Hochschulehrende
ATTACH;FMTTYPE=image/png:https://test.digitallernen.ch/wp-content/uploads/BeratungSprechstunde.png
ORGANIZER;CN="Fachstelle f%C3%BCr digitales Lehren und Lernen FDL":MAILTO:elearning.ph@fhnw.ch
END:VEVENT
BEGIN:VEVENT
DTSTART;TZID=Europe/Zurich:20221025T100000
DTEND;TZID=Europe/Zurich:20221025T110000
DTSTAMP:20260420T111917
CREATED:20220712T074300Z
LAST-MODIFIED:20220712T074300Z
UID:8717-1666692000-1666695600@test.digitallernen.ch
SUMMARY:Sprechstunde für Hochschullehrende - online
DESCRIPTION:Online: Link zur Zoom-Sitzung
URL:https://test.digitallernen.ch/termin/20221025-sprechstunde-fdl-online/
LOCATION:Online via Zoom
CATEGORIES:Sprechstunde Hochschulehrende
ATTACH;FMTTYPE=image/png:https://test.digitallernen.ch/wp-content/uploads/BeratungSprechstunde.png
ORGANIZER;CN="Fachstelle f%C3%BCr digitales Lehren und Lernen FDL":MAILTO:elearning.ph@fhnw.ch
END:VEVENT
BEGIN:VEVENT
DTSTART;TZID=Europe/Zurich:20221025T120000
DTEND;TZID=Europe/Zurich:20221025T130000
DTSTAMP:20260420T111917
CREATED:20220817T061110Z
LAST-MODIFIED:20220817T061110Z
UID:8972-1666699200-1666702800@test.digitallernen.ch
SUMMARY:DigiLearn4Students-Sprechstunde - online
DESCRIPTION:Online: Link zur Zoom-Sitzung
URL:https://test.digitallernen.ch/termin/20221025-sprechstunde-studierende-online/
LOCATION:Online via Zoom
CATEGORIES:Sprechstunde Studierende
ATTACH;FMTTYPE=image/jpeg:https://test.digitallernen.ch/wp-content/uploads/Sprechstunden-DL4S.jpg
ORGANIZER;CN="Fachstelle f%C3%BCr digitales Lehren und Lernen FDL":MAILTO:elearning.ph@fhnw.ch
END:VEVENT
BEGIN:VEVENT
DTSTART;TZID=Europe/Zurich:20221025T140000
DTEND;TZID=Europe/Zurich:20221025T170000
DTSTAMP:20260420T111917
CREATED:20221024T143027Z
LAST-MODIFIED:20221024T143149Z
UID:9240-1666706400-1666717200@test.digitallernen.ch
SUMMARY:Teilnahme an Ringvorlesung - Auftaktveranstaltung «Hybride Lernräume in der Hochschullehre»
DESCRIPTION:Link: https://www.e-teaching.org/community/communityevents/ringvorlesung/hybride-lernraeume-in-der-hochschullehre
URL:https://test.digitallernen.ch/termin/teilnahme-an-ringvorlesung-auftaktveranstaltung-hybride-lernraeume-in-der-hochschullehre/
LOCATION:Online via Zoom
END:VEVENT
BEGIN:VEVENT
DTSTART;TZID=Europe/Zurich:20221026T150000
DTEND;TZID=Europe/Zurich:20221026T160000
DTSTAMP:20260420T111917
CREATED:20220712T072613Z
LAST-MODIFIED:20220712T072613Z
UID:8687-1666796400-1666800000@test.digitallernen.ch
SUMMARY:Sprechstunde für Hochschullehrende - online
DESCRIPTION:Online: Link zur Zoom-Sitzung
URL:https://test.digitallernen.ch/termin/20221026-sprechstunde-hochschullehrende-online/
LOCATION:Online via Zoom
CATEGORIES:Sprechstunde Hochschulehrende
ATTACH;FMTTYPE=image/png:https://test.digitallernen.ch/wp-content/uploads/BeratungSprechstunde.png
ORGANIZER;CN="Fachstelle f%C3%BCr digitales Lehren und Lernen FDL":MAILTO:elearning.ph@fhnw.ch
END:VEVENT
BEGIN:VEVENT
DTSTART;TZID=Europe/Zurich:20221027T120000
DTEND;TZID=Europe/Zurich:20221027T180000
DTSTAMP:20260420T111917
CREATED:20220325T081231Z
LAST-MODIFIED:20221028T091318Z
UID:7794-1666872000-1666893600@test.digitallernen.ch
SUMMARY:Beitrag an der internationalen Veranstaltung [E-]Tutorate
DESCRIPTION:Ricarda T.D. Reimer und Silvan Flückiger tragen zum Lehrfonds-Projekt der FHNW zum Themenfeld vor:\nhttps://test.digitallernen.ch/themen/e-tutoring/ \nNähere Informationen zur Veranstaltung: https://www.e-tutorat.ch/veranstaltungen.html
URL:https://test.digitallernen.ch/termin/teilname-am-tutorate-austauschtreffen-hslu-ph-luzern/
LOCATION:Luzern
END:VEVENT
BEGIN:VEVENT
DTSTART;TZID=Europe/Zurich:20221028T100000
DTEND;TZID=Europe/Zurich:20221028T163000
DTSTAMP:20260420T111917
CREATED:20221019T200916Z
LAST-MODIFIED:20221024T105709Z
UID:9223-1666951200-1666974600@test.digitallernen.ch
SUMMARY:Teilnahme und Beitrag - swissuniversities «Netzwerks Lehre» zum Thema "Innovation in der Lehre"
DESCRIPTION:Die FDL (Kathrin Kochs und Ricarda T.D. Reimer – https://test.digitallernen.ch/themen/3d-umgebungen/ ) wird am 28. Oktober zum Thema “3D in der Lehre” vortragen und ist gespannt auf die weiteren Inputs sowie Austausche mit den Kolleg*innen aus der Schweizer Hochschullandschaft. \nDas Netzwerktreffen wird in der Verantwortung der Delegation Lehre von swissuniversities durchgeführt. \n 
URL:https://test.digitallernen.ch/termin/teilnahme-und-beitrag-swissuniversities-netzwerks-lehre-zum-thema-innovation-in-der-lehre/
LOCATION:Campus Olten\, Von-Roll-Strasse 10\, Olten\, 4600\, Switzerland
END:VEVENT
BEGIN:VEVENT
DTSTART;TZID=Europe/Zurich:20221031T123000
DTEND;TZID=Europe/Zurich:20221031T133000
DTSTAMP:20260420T111917
CREATED:20220817T060107Z
LAST-MODIFIED:20220817T060230Z
UID:8960-1667219400-1667223000@test.digitallernen.ch
SUMMARY:DigiLearn4Students-Sprechstunde - Campus Brugg-Windisch - Raum 6.4D30
DESCRIPTION:
URL:https://test.digitallernen.ch/termin/20221031-sprechstunde-studierende-cwb/
LOCATION:Campus Brugg Windisch – Raum 6.4D30\, Bahnhofstrasse 6\, Windisch\, 5210\, Switzerland
CATEGORIES:Sprechstunde Studierende
ATTACH;FMTTYPE=image/jpeg:https://test.digitallernen.ch/wp-content/uploads/Sprechstunden-DL4S.jpg
ORGANIZER;CN="Fachstelle f%C3%BCr digitales Lehren und Lernen FDL":MAILTO:elearning.ph@fhnw.ch
END:VEVENT
BEGIN:VEVENT
DTSTART;TZID=Europe/Zurich:20221101T100000
DTEND;TZID=Europe/Zurich:20221101T110000
DTSTAMP:20260420T111917
CREATED:20220712T074410Z
LAST-MODIFIED:20220712T074410Z
UID:8719-1667296800-1667300400@test.digitallernen.ch
SUMMARY:Sprechstunde für Hochschullehrende - online
DESCRIPTION:Online: Link zur Zoom-Sitzung
URL:https://test.digitallernen.ch/termin/20221101-sprechstunde-fdl-online/
LOCATION:Online via Zoom
CATEGORIES:Sprechstunde Hochschulehrende
ATTACH;FMTTYPE=image/png:https://test.digitallernen.ch/wp-content/uploads/BeratungSprechstunde.png
ORGANIZER;CN="Fachstelle f%C3%BCr digitales Lehren und Lernen FDL":MAILTO:elearning.ph@fhnw.ch
END:VEVENT
BEGIN:VEVENT
DTSTART;TZID=Europe/Zurich:20221101T120000
DTEND;TZID=Europe/Zurich:20221101T130000
DTSTAMP:20260420T111917
CREATED:20220817T061150Z
LAST-MODIFIED:20220817T061150Z
UID:8974-1667304000-1667307600@test.digitallernen.ch
SUMMARY:DigiLearn4Students-Sprechstunde - online
DESCRIPTION:Online: Link zur Zoom-Sitzung
URL:https://test.digitallernen.ch/termin/20221101-sprechstunde-studierende-online/
LOCATION:Online via Zoom
CATEGORIES:Sprechstunde Studierende
ATTACH;FMTTYPE=image/jpeg:https://test.digitallernen.ch/wp-content/uploads/Sprechstunden-DL4S.jpg
ORGANIZER;CN="Fachstelle f%C3%BCr digitales Lehren und Lernen FDL":MAILTO:elearning.ph@fhnw.ch
END:VEVENT
BEGIN:VEVENT
DTSTART;TZID=Europe/Zurich:20221102T150000
DTEND;TZID=Europe/Zurich:20221102T160000
DTSTAMP:20260420T111917
CREATED:20220712T072701Z
LAST-MODIFIED:20220712T072701Z
UID:8689-1667401200-1667404800@test.digitallernen.ch
SUMMARY:Sprechstunde für Hochschullehrende - online
DESCRIPTION:Online: Link zur Zoom-Sitzung
URL:https://test.digitallernen.ch/termin/20221102-sprechstunde-hochschullehrende-online/
LOCATION:Online via Zoom
CATEGORIES:Sprechstunde Hochschulehrende
ATTACH;FMTTYPE=image/png:https://test.digitallernen.ch/wp-content/uploads/BeratungSprechstunde.png
ORGANIZER;CN="Fachstelle f%C3%BCr digitales Lehren und Lernen FDL":MAILTO:elearning.ph@fhnw.ch
END:VEVENT
BEGIN:VEVENT
DTSTART;TZID=Europe/Zurich:20221102T150000
DTEND;TZID=Europe/Zurich:20221102T160000
DTSTAMP:20260420T111917
CREATED:20220712T075614Z
LAST-MODIFIED:20220712T075614Z
UID:8740-1667401200-1667404800@test.digitallernen.ch
SUMMARY:Sprechstunde für Hochschullehrende – Campus Muttenz
DESCRIPTION:
URL:https://test.digitallernen.ch/termin/20221102-sprechstunde-fdl-cm/
LOCATION:Campus Muttenz – Raum 10.N.01\, Hofackerstrasse 30\, Muttenz\, 4132\, Switzerland
CATEGORIES:Sprechstunde Hochschulehrende
ATTACH;FMTTYPE=image/png:https://test.digitallernen.ch/wp-content/uploads/BeratungSprechstunde.png
ORGANIZER;CN="Fachstelle f%C3%BCr digitales Lehren und Lernen FDL":MAILTO:elearning.ph@fhnw.ch
END:VEVENT
BEGIN:VEVENT
DTSTART;TZID=Europe/Zurich:20221107T150000
DTEND;TZID=Europe/Zurich:20221107T160000
DTSTAMP:20260420T111917
CREATED:20220817T055443Z
LAST-MODIFIED:20220817T055443Z
UID:8953-1667833200-1667836800@test.digitallernen.ch
SUMMARY:DigiLearn4Students-Sprechstunde - Campus Muttenz - Raum 10.N.01
DESCRIPTION:
URL:https://test.digitallernen.ch/termin/20221017-sprechstunde-studierende-cwb-2-2/
LOCATION:Campus Muttenz – Raum 10.N.01\, Hofackerstrasse 30\, Muttenz\, 4132\, Switzerland
CATEGORIES:Sprechstunde Studierende
ATTACH;FMTTYPE=image/jpeg:https://test.digitallernen.ch/wp-content/uploads/Sprechstunden-DL4S.jpg
ORGANIZER;CN="Fachstelle f%C3%BCr digitales Lehren und Lernen FDL":MAILTO:elearning.ph@fhnw.ch
END:VEVENT
BEGIN:VEVENT
DTSTART;TZID=Europe/Zurich:20221108T100000
DTEND;TZID=Europe/Zurich:20221108T110000
DTSTAMP:20260420T111917
CREATED:20220712T074454Z
LAST-MODIFIED:20220712T074454Z
UID:8721-1667901600-1667905200@test.digitallernen.ch
SUMMARY:Sprechstunde für Hochschullehrende - online
DESCRIPTION:Online: Link zur Zoom-Sitzung
URL:https://test.digitallernen.ch/termin/20221108-sprechstunde-fdl-online/
LOCATION:Online via Zoom
CATEGORIES:Sprechstunde Hochschulehrende
ATTACH;FMTTYPE=image/png:https://test.digitallernen.ch/wp-content/uploads/BeratungSprechstunde.png
ORGANIZER;CN="Fachstelle f%C3%BCr digitales Lehren und Lernen FDL":MAILTO:elearning.ph@fhnw.ch
END:VEVENT
BEGIN:VEVENT
DTSTART;TZID=Europe/Zurich:20221108T120000
DTEND;TZID=Europe/Zurich:20221108T130000
DTSTAMP:20260420T111917
CREATED:20220817T061241Z
LAST-MODIFIED:20220817T061241Z
UID:8976-1667908800-1667912400@test.digitallernen.ch
SUMMARY:DigiLearn4Students-Sprechstunde - online
DESCRIPTION:Online: Link zur Zoom-Sitzung
URL:https://test.digitallernen.ch/termin/20221108-sprechstunde-studierende-online/
LOCATION:Online via Zoom
CATEGORIES:Sprechstunde Studierende
ATTACH;FMTTYPE=image/jpeg:https://test.digitallernen.ch/wp-content/uploads/Sprechstunden-DL4S.jpg
ORGANIZER;CN="Fachstelle f%C3%BCr digitales Lehren und Lernen FDL":MAILTO:elearning.ph@fhnw.ch
END:VEVENT
BEGIN:VEVENT
DTSTART;TZID=Europe/Zurich:20221109T150000
DTEND;TZID=Europe/Zurich:20221109T160000
DTSTAMP:20260420T111917
CREATED:20220712T072736Z
LAST-MODIFIED:20220712T072736Z
UID:8691-1668006000-1668009600@test.digitallernen.ch
SUMMARY:Sprechstunde für Hochschullehrende - online
DESCRIPTION:Online: Link zur Zoom-Sitzung
URL:https://test.digitallernen.ch/termin/20221109-sprechstunde-hochschullehrende-online/
LOCATION:Online via Zoom
CATEGORIES:Sprechstunde Hochschulehrende
ATTACH;FMTTYPE=image/png:https://test.digitallernen.ch/wp-content/uploads/BeratungSprechstunde.png
ORGANIZER;CN="Fachstelle f%C3%BCr digitales Lehren und Lernen FDL":MAILTO:elearning.ph@fhnw.ch
END:VEVENT
BEGIN:VEVENT
DTSTART;TZID=Europe/Zurich:20221115T100000
DTEND;TZID=Europe/Zurich:20221115T110000
DTSTAMP:20260420T111917
CREATED:20220712T074534Z
LAST-MODIFIED:20220712T074534Z
UID:8723-1668506400-1668510000@test.digitallernen.ch
SUMMARY:Sprechstunde für Hochschullehrende - online
DESCRIPTION:Online: Link zur Zoom-Sitzung
URL:https://test.digitallernen.ch/termin/20221115-sprechstunde-fdl-online/
LOCATION:Online via Zoom
CATEGORIES:Sprechstunde Hochschulehrende
ATTACH;FMTTYPE=image/png:https://test.digitallernen.ch/wp-content/uploads/BeratungSprechstunde.png
ORGANIZER;CN="Fachstelle f%C3%BCr digitales Lehren und Lernen FDL":MAILTO:elearning.ph@fhnw.ch
END:VEVENT
BEGIN:VEVENT
DTSTART;TZID=Europe/Zurich:20221115T120000
DTEND;TZID=Europe/Zurich:20221115T130000
DTSTAMP:20260420T111917
CREATED:20220817T061323Z
LAST-MODIFIED:20220817T061323Z
UID:8978-1668513600-1668517200@test.digitallernen.ch
SUMMARY:DigiLearn4Students-Sprechstunde - online
DESCRIPTION:Online: Link zur Zoom-Sitzung
URL:https://test.digitallernen.ch/termin/20221115-sprechstunde-studierende-online/
LOCATION:Online via Zoom
CATEGORIES:Sprechstunde Studierende
ATTACH;FMTTYPE=image/jpeg:https://test.digitallernen.ch/wp-content/uploads/Sprechstunden-DL4S.jpg
ORGANIZER;CN="Fachstelle f%C3%BCr digitales Lehren und Lernen FDL":MAILTO:elearning.ph@fhnw.ch
END:VEVENT
END:VCALENDAR